Workbook

Sheet Vyvoj_hrany_serial
A1: Kompletní vývoj hraného seriálu nebo minisérie
A2: Evidenční číslo výzvy: 2026-B-1-4-38 | D2: Cíle podpory audiovize:
A3: Dotační kategorie: Podpora televizních děl | D3: 1. Posílení stability producentských firem a podpora jejich dlouhodobé spolupráce s kreativními týmy.
A4: Dotační okruh: Vývoj českého audiovizuálního díla | D4: 2. Podpora diverzity portfolia producentských firem.
A5: Lhůta pro podávání žádostí: 22. 5. 2026–22. 6. 2026 | D5: 3. Podpora debutů a žánrové diverzity v české audiovizi.
A6: Finanční alokace: 12 535 800 Kč | D6: 4. Podpora projektů pro různé cílové skupiny.
A7: Lhůta pro dokončení projektu: dle žádosti, nejpozději však do 31. 8. 2029 | D7: 5. Podpora projektů pro lokální trh i pro mezinárodní distribuci.
A8: Forma podpory: investiční dotace | D8: 6. Navýšení rozpočtů projektů ve vývoji skrze kofinancování z evropských i lokálních zdrojů
D10: Specifikace dotačního okruhu
D11: Podpora je určena pro vývoj hraného televizního díla ve formě minisérie (2–4 díly) a vývoj hraného televizního díla ve formě seriálu (5–13 dílů) (ve smyslu § 2 odst. 1 písm. c) zákona o audiovizi), které je českým audiovizuálním dílem (ve smyslu § 2 odst. 1 písm. i) zákona o audiovizi).
D12: Součástí vývoje je práce na treatmentu, scénáři nebo set-upu projektu (synopse epizod) ve verzi po kompletním vývoji; vytvoření plánu výroby a jeho předpokládaného zajištění, práce na kreativním přístupu k tématu.
D13: Rada si vedle cílů podpory stanoví ve výzvě za cíl podporu efektivnějšího a diverzifikovanějšího spolufinancování projektů z mezinárodních i lokálních zdrojů a podporu umělecké tvorby, různých žánrů a inovativních non-fiction formátů a postupů.
D14: Rada deklaruje, že v této výzvě neurčuje specificky podporu režijních a producentských debutů.
A16: evidenční číslo projektu | B16: název žadatele | C16: název projektu | D16: celkový rozpočet projektu | E16: požadovaná podpora | F16: bodové hodnocení dle tvůrčího a realizačního testu | L16: bodové hodnocení Rada | M16: výše podpory | N16: žadatel – komplexní dílo ano/ne | O16: Rada – komplexní dílo ano/ne | P16: žadatel – náročné audiovizuální dílo ano/ne | Q16: Rada – náročné audiovizuální dílo ano/ne | R16: žadatel – intenzita podpory % | S16: Rada – intenzita podpory % | T16: žadatel – datum dokončení projektu | U16: Rada – lhůta pro dokončení | V16: maximální podíl podpory na celkových nákladech
F17: tvůrčí kritéria | H17: realizační kritéria
F18: Relevance projektu k výzvě | G18: Potenciál pro publikum | H18: Relevance k předchozí činnosti žadatele | I18: Kreativní tým | J18: Realizační strategie a ekonomika projektu | K18: Udržitelnost
F19: 0–30 | G19: 0–10 | H19: 0–20 | I19: 0–20 | J19: 0–10 | K19: 0–10
A20: 1009-2026 | B20: OFFSIDE MEN, s.r.o. | C20: Klicpera Paseky | D20: 2022000 | E20: 1250000 | F20: =AVERAGE(MK!F43,BS!F43,TF!F43,PK!F43,AT!F43) -> 23.8 | G20: =AVERAGE(MK!G43,BS!G43,TF!G43,PK!G43,AT!G43) -> 8.8 | H20: =AVERAGE(MK!H43,BS!H43,TF!H43,PK!H43,AT!H43) -> 19 | I20: =AVERAGE(MK!I43,BS!I43,TF!I43,PK!I43,AT!I43) -> 19 | J20: =AVERAGE(MK!J43,BS!J43,TF!J43,PK!J43,AT!J43) -> 8.4 | K20: =AVERAGE(MK!K43,BS!K43,TF!K43,PK!K43,AT!K43) -> 7.8 | L20: =SUM(F20:K20) -> 86.8 | M20: 1212500 | N20: ne | O20: ne | P20: ano | Q20: ano | R20: 0.62 | S20: 0.9 | T20: 31.12.2028 | U20: 47361 | V20: =M20/(0.8*D20) -> 0.74956726
A21: 0986-2026 | B21: nutprodukce, s.r.o. | C21: Umělá | D21: 2320000 | E21: 800000 | F21: =AVERAGE(MK!F30,BS!F30,TF!F30,PK!F30,AT!F30) -> 23 | G21: =AVERAGE(MK!G30,BS!G30,TF!G30,PK!G30,AT!G30) -> 8.2 | H21: =AVERAGE(MK!H30,BS!H30,TF!H30,PK!H30,AT!H30) -> 19.8 | I21: =AVERAGE(MK!I30,BS!I30,TF!I30,PK!I30,AT!I30) -> 16 | J21: =AVERAGE(MK!J30,BS!J30,TF!J30,PK!J30,AT!J30) -> 8.8 | K21: =AVERAGE(MK!K30,BS!K30,TF!K30,PK!K30,AT!K30) -> 8.8 | L21: =SUM(F21:K21) -> 84.6 | M21: 800000 | N21: ne | O21: ne | P21: ano | Q21: ano | R21: 0.34 | S21: 0.9 | T21: 30.12.2027 | U21: 47361 | V21: =M21/(0.8*D21) -> 0.43103448
A22: 1018-2026 | B22: Bionaut s.r.o. | C22: Slyšela jsem Lunetic! | D22: 3021000 | E22: 1250000 | F22: =AVERAGE(MK!F48,BS!F48,TF!F48,PK!F48,AT!F48) -> 21.4 | G22: =AVERAGE(MK!G48,BS!G48,TF!G48,PK!G48,AT!G48) -> 7.8 | H22: =AVERAGE(MK!H48,BS!H48,TF!H48,PK!H48,AT!H48) -> 20 | I22: =AVERAGE(MK!I48,BS!I48,TF!I48,PK!I48,AT!I48) -> 17.6 | J22: =AVERAGE(MK!J48,BS!J48,TF!J48,PK!J48,AT!J48) -> 8 | K22: =AVERAGE(MK!K48,BS!K48,TF!K48,PK!K48,AT!K48) -> 8 | L22: =SUM(F22:K22) -> 82.8 | M22: 1212500 | N22: ano | O22: ano - 30% | P22: ano | Q22: ano | R22: 0.41 | S22: 0.9 | T22: 47361 | U22: 47361 | V22: =M22/(0.8*D22) -> 0.50169646
A23: 1001-2026 | B23: nutprodukce, s.r.o. | C23: Hořící dítě | D23: 2937500 | E23: 1000000 | F23: =AVERAGE(MK!F38,BS!F38,TF!F38,PK!F38,AT!F38) -> 22.8 | G23: =AVERAGE(MK!G38,BS!G38,TF!G38,PK!G38,AT!G38) -> 7.6 | H23: =AVERAGE(MK!H38,BS!H38,TF!H38,PK!H38,AT!H38) -> 19.8 | I23: =AVERAGE(MK!I38,BS!I38,TF!I38,PK!I38,AT!I38) -> 14.6 | J23: =AVERAGE(MK!J38,BS!J38,TF!J38,PK!J38,AT!J38) -> 8.8 | K23: =AVERAGE(MK!K38,BS!K38,TF!K38,PK!K38,AT!K38) -> 7.8 | L23: =SUM(F23:K23) -> 81.4 | M23: 1000000 | N23: ano | O23: ano - 30% | P23: ano | Q23: ano | R23: 0.6 | S23: 0.9 | T23: 22.6.2028 | U23: 47361 | V23: =M23/(0.8*D23) -> 0.42553191
A24: 1025-2026 | B24: NOCHI FILM s.r.o. | C24: Všude dobře | D24: 1796700 | E24: 1100000 | F24: =AVERAGE(MK!F51,BS!F51,TF!F51,PK!F51,AT!F51) -> 24.2 | G24: =AVERAGE(MK!G51,BS!G51,TF!G51,PK!G51,AT!G51) -> 8 | H24: =AVERAGE(MK!H51,BS!H51,TF!H51,PK!H51,AT!H51) -> 15.4 | I24: =AVERAGE(MK!I51,BS!I51,TF!I51,PK!I51,AT!I51) -> 16.4 | J24: =AVERAGE(MK!J51,BS!J51,TF!J51,PK!J51,AT!J51) -> 8.8 | K24: =AVERAGE(MK!K51,BS!K51,TF!K51,PK!K51,AT!K51) -> 7.8 | L24: =SUM(F24:K24) -> 80.6 | M24: 1067000 | N24: ne | O24: ne | P24: ano | Q24: ano | R24: 0.76 | S24: 0.9 | T24: 30.11.2027 | U24: 47361 | V24: =M24/(0.8*D24) -> 0.74233317
A25: 0990-2026 | B25: Xova Film s.r.o. | C25: Alfa | D25: 3486000 | E25: 1250000 | F25: =AVERAGE(MK!F32,BS!F32,TF!F32,PK!F32,AT!F32) -> 22.8 | G25: =AVERAGE(MK!G32,BS!G32,TF!G32,PK!G32,AT!G32) -> 7 | H25: =AVERAGE(MK!H32,BS!H32,TF!H32,PK!H32,AT!H32) -> 16.6 | I25: =AVERAGE(MK!I32,BS!I32,TF!I32,PK!I32,AT!I32) -> 16.4 | J25: =AVERAGE(MK!J32,BS!J32,TF!J32,PK!J32,AT!J32) -> 8.4 | K25: =AVERAGE(MK!K32,BS!K32,TF!K32,PK!K32,AT!K32) -> 8.4 | L25: =SUM(F25:K25) -> 79.6 | M25: 1212500 | N25: ne | O25: ne | P25: ano | Q25: ano | R25: 0.53 | S25: 0.9 | T25: 31.12.2028 | U25: 47361 | V25: =M25/(0.8*D25) -> 0.43477481
A26: 1011-2026 | B26: DRAMEDY PRODUCTIONS s.r.o. | C26: Kněžna | D26: 3187000 | E26: 1250000 | F26: =AVERAGE(MK!F45,BS!F45,TF!F45,PK!F45,AT!F45) -> 19.6 | G26: =AVERAGE(MK!G45,BS!G45,TF!G45,PK!G45,AT!G45) -> 7.4 | H26: =AVERAGE(MK!H45,BS!H45,TF!H45,PK!H45,AT!H45) -> 18.2 | I26: =AVERAGE(MK!I45,BS!I45,TF!I45,PK!I45,AT!I45) -> 17 | J26: =AVERAGE(MK!J45,BS!J45,TF!J45,PK!J45,AT!J45) -> 8.2 | K26: =AVERAGE(MK!K45,BS!K45,TF!K45,PK!K45,AT!K45) -> 8 | L26: =SUM(F26:K26) -> 78.4 | M26: 1212500 | N26: ano | O26: ano - 30% | P26: ano | Q26: ano | R26: 0.39 | S26: 0.9 | T26: 31.8.2029 | U26: 47361 | V26: =M26/(0.8*D26) -> 0.47556479
A27: 1031-2026 | B27: moloko film s.r.o. | C27: Předvoj | D27: 2962375 | E27: 1250000 | F27: =AVERAGE(MK!F53,BS!F53,TF!F53,PK!F53,AT!F53) -> 23.4 | G27: =AVERAGE(MK!G53,BS!G53,TF!G53,PK!G53,AT!G53) -> 7.6 | H27: =AVERAGE(MK!H53,BS!H53,TF!H53,PK!H53,AT!H53) -> 15.2 | I27: =AVERAGE(MK!I53,BS!I53,TF!I53,PK!I53,AT!I53) -> 17.2 | J27: =AVERAGE(MK!J53,BS!J53,TF!J53,PK!J53,AT!J53) -> 7 | K27: =AVERAGE(MK!K53,BS!K53,TF!K53,PK!K53,AT!K53) -> 7.4 | L27: =SUM(F27:K27) -> 77.8 | M27: 1212500 | N27: ne | O27: ne | P27: ano | Q27: ano | R27: 0.42 | S27: 0.9 | T27: 31.3.2029 | U27: 47361 | V27: =M27/(0.8*D27) -> 0.51162496
A28: 0968-2026 | B28: 0.7km films s.r.o. | C28: FESTIVAL | D28: 2500000 | E28: 1200000 | F28: =AVERAGE(MK!F21,BS!F21,TF!F21,PK!F21,AT!F21) -> 24 | G28: =AVERAGE(MK!G21,BS!G21,TF!G21,PK!G21,AT!G21) -> 8.4 | H28: =AVERAGE(MK!H21,BS!H21,TF!H21,PK!H21,AT!H21) -> 15 | I28: =AVERAGE(MK!I21,BS!I21,TF!I21,PK!I21,AT!I21) -> 19 | J28: =AVERAGE(MK!J21,BS!J21,TF!J21,PK!J21,AT!J21) -> 4.8 | K28: =AVERAGE(MK!K21,BS!K21,TF!K21,PK!K21,AT!K21) -> 6.6 | L28: =SUM(F28:K28) -> 77.8 | M28: 1164000 | N28: ne | O28: ne | P28: ne | Q28: ano | R28: 0.48 | S28: 0.9 | T28: 31.1.2029 | U28: 47361 | V28: =M28/(0.8*D28) -> 0.582
A29: 1023-2026 | B29: MAUR film s.r.o. | C29: Ante Portas | D29: 2970000 | E29: 1250000 | F29: =AVERAGE(MK!F50,BS!F50,TF!F50,PK!F50,AT!F50) -> 21.8 | G29: =AVERAGE(MK!G50,BS!G50,TF!G50,PK!G50,AT!G50) -> 8 | H29: =AVERAGE(MK!H50,BS!H50,TF!H50,PK!H50,AT!H50) -> 15.2 | I29: =AVERAGE(MK!I50,BS!I50,TF!I50,PK!I50,AT!I50) -> 17.6 | J29: =AVERAGE(MK!J50,BS!J50,TF!J50,PK!J50,AT!J50) -> 7.8 | K29: =AVERAGE(MK!K50,BS!K50,TF!K50,PK!K50,AT!K50) -> 7.2 | L29: =SUM(F29:K29) -> 77.6 | M29: 1212500 | N29: ne | O29: ne | P29: ne | Q29: ano | R29: 0.42 | S29: 0.9 | T29: 10.6.2028 | U29: 47361 | V29: =M29/(0.8*D29) -> 0.51031145
A30: 1036-2026 | B30: Cinémotif Films s.r.o. | C30: Kalné vody | D30: 2885900 | E30: 1250000 | F30: =AVERAGE(MK!F56,BS!F56,TF!F56,PK!F56,AT!F56) -> 22 | G30: =AVERAGE(MK!G56,BS!G56,TF!G56,PK!G56,AT!G56) -> 7 | H30: =AVERAGE(MK!H56,BS!H56,TF!H56,PK!H56,AT!H56) -> 16 | I30: =AVERAGE(MK!I56,BS!I56,TF!I56,PK!I56,AT!I56) -> 16.6 | J30: =AVERAGE(MK!J56,BS!J56,TF!J56,PK!J56,AT!J56) -> 7.8 | K30: =AVERAGE(MK!K56,BS!K56,TF!K56,PK!K56,AT!K56) -> 8 | L30: =SUM(F30:K30) -> 77.4 | M30: 1212500 | N30: ne | O30: ne | P30: ano | Q30: ano | R30: 0.43 | S30: 0.9 | T30: 31.8.2029 | U30: 47361 | V30: =M30/(0.8*D30) -> 0.52518279
A31: 0987-2026 | B31: nutprodukce, s.r.o. | C31: Nultý rok | D31: 3050000 | E31: 1200000 | F31: =AVERAGE(MK!F31,BS!F31,TF!F31,PK!F31,AT!F31) -> 17.6 | G31: =AVERAGE(MK!G31,BS!G31,TF!G31,PK!G31,AT!G31) -> 7 | H31: =AVERAGE(MK!H31,BS!H31,TF!H31,PK!H31,AT!H31) -> 19.8 | I31: =AVERAGE(MK!I31,BS!I31,TF!I31,PK!I31,AT!I31) -> 15.8 | J31: =AVERAGE(MK!J31,BS!J31,TF!J31,PK!J31,AT!J31) -> 8 | K31: =AVERAGE(MK!K31,BS!K31,TF!K31,PK!K31,AT!K31) -> 7.8 | L31: =SUM(F31:K31) -> 76 | N31: ne | P31: ano | R31: 0.46 | T31: 1.1.2028 | V31: =M31/(0.8*D31) -> 0
A32: 0976-2026 | B32: DNA Production s.r.o. | C32: ELTON | D32: 2260375 | E32: 1100000 | F32: =AVERAGE(MK!F27,BS!F27,TF!F27,PK!F27,AT!F27) -> 20.4 | G32: =AVERAGE(MK!G27,BS!G27,TF!G27,PK!G27,AT!G27) -> 6.6 | H32: =AVERAGE(MK!H27,BS!H27,TF!H27,PK!H27,AT!H27) -> 18 | I32: =AVERAGE(MK!I27,BS!I27,TF!I27,PK!I27,AT!I27) -> 17.8 | J32: =AVERAGE(MK!J27,BS!J27,TF!J27,PK!J27,AT!J27) -> 5.8 | K32: =AVERAGE(MK!K27,BS!K27,TF!K27,PK!K27,AT!K27) -> 7 | L32: =SUM(F32:K32) -> 75.6 | N32: ne | P32: ano | R32: 0.49 | T32: 31.12.2027 | V32: =M32/(0.8*D32) -> 0
A33: 0969-2026 | B33: Cinebonbon s.r.o. | C33: Intimita na předpis | D33: 2683500 | E33: 1250000 | F33: =AVERAGE(MK!F22,BS!F22,TF!F22,PK!F22,AT!F22) -> 21 | G33: =AVERAGE(MK!G22,BS!G22,TF!G22,PK!G22,AT!G22) -> 7 | H33: =AVERAGE(MK!H22,BS!H22,TF!H22,PK!H22,AT!H22) -> 16.2 | I33: =AVERAGE(MK!I22,BS!I22,TF!I22,PK!I22,AT!I22) -> 16.6 | J33: =AVERAGE(MK!J22,BS!J22,TF!J22,PK!J22,AT!J22) -> 7 | K33: =AVERAGE(MK!K22,BS!K22,TF!K22,PK!K22,AT!K22) -> 7.4 | L33: =SUM(F33:K33) -> 75.2 | N33: ne | P33: ne | R33: 0.47 | T33: 1.11.2027 | V33: =M33/(0.8*D33) -> 0
A34: 0994-2026 | B34: YUMMY YUMMY s.r.o. | C34: Linka | D34: 1957000 | E34: 1250000 | F34: =AVERAGE(MK!F36,BS!F36,TF!F36,PK!F36,AT!F36) -> 23.2 | G34: =AVERAGE(MK!G36,BS!G36,TF!G36,PK!G36,AT!G36) -> 8 | H34: =AVERAGE(MK!H36,BS!H36,TF!H36,PK!H36,AT!H36) -> 13.6 | I34: =AVERAGE(MK!I36,BS!I36,TF!I36,PK!I36,AT!I36) -> 14.6 | J34: =AVERAGE(MK!J36,BS!J36,TF!J36,PK!J36,AT!J36) -> 8 | K34: =AVERAGE(MK!K36,BS!K36,TF!K36,PK!K36,AT!K36) -> 7 | L34: =SUM(F34:K34) -> 74.4 | N34: ne | P34: ano | R34: 0.64 | T34: 30.6.2027 | V34: =M34/(0.8*D34) -> 0
A35: 1027-2026 | B35: Other Stories s.r.o. | C35: Labyrint ztracenych dusi | D35: 3330000 | E35: 1250000 | F35: =AVERAGE(MK!F52,BS!F52,TF!F52,PK!F52,AT!F52) -> 20.4 | G35: =AVERAGE(MK!G52,BS!G52,TF!G52,PK!G52,AT!G52) -> 6.8 | H35: =AVERAGE(MK!H52,BS!H52,TF!H52,PK!H52,AT!H52) -> 15 | I35: =AVERAGE(MK!I52,BS!I52,TF!I52,PK!I52,AT!I52) -> 15.4 | J35: =AVERAGE(MK!J52,BS!J52,TF!J52,PK!J52,AT!J52) -> 7.8 | K35: =AVERAGE(MK!K52,BS!K52,TF!K52,PK!K52,AT!K52) -> 7.2 | L35: =SUM(F35:K35) -> 72.6 | N35: ne | P35: ano | R35: 0.58 | T35: 1.6.2029 | V35: =M35/(0.8*D35) -> 0
A36: 1006-2026 | B36: HEAVEN'S GATE s.r.o. | C36: Před povodní | D36: 2975000 | E36: 1250000 | F36: =AVERAGE(MK!F41,BS!F41,TF!F41,PK!F41,AT!F41) -> 18.2 | G36: =AVERAGE(MK!G41,BS!G41,TF!G41,PK!G41,AT!G41) -> 6.4 | H36: =AVERAGE(MK!H41,BS!H41,TF!H41,PK!H41,AT!H41) -> 16 | I36: =AVERAGE(MK!I41,BS!I41,TF!I41,PK!I41,AT!I41) -> 17.4 | J36: =AVERAGE(MK!J41,BS!J41,TF!J41,PK!J41,AT!J41) -> 7 | K36: =AVERAGE(MK!K41,BS!K41,TF!K41,PK!K41,AT!K41) -> 7.4 | L36: =SUM(F36:K36) -> 72.4 | N36: ne | P36: ne | R36: 0.42 | T36: 20.12.2026 | V36: =M36/(0.8*D36) -> 0
A37: 0992-2026 | B37: Paprika Studios s.r.o. | C37: Nákaza | D37: 2514000 | E37: 1250000 | F37: =AVERAGE(MK!F34,BS!F34,TF!F34,PK!F34,AT!F34) -> 18.4 | G37: =AVERAGE(MK!G34,BS!G34,TF!G34,PK!G34,AT!G34) -> 6.8 | H37: =AVERAGE(MK!H34,BS!H34,TF!H34,PK!H34,AT!H34) -> 15 | I37: =AVERAGE(MK!I34,BS!I34,TF!I34,PK!I34,AT!I34) -> 16 | J37: =AVERAGE(MK!J34,BS!J34,TF!J34,PK!J34,AT!J34) -> 7.6 | K37: =AVERAGE(MK!K34,BS!K34,TF!K34,PK!K34,AT!K34) -> 7.6 | L37: =SUM(F37:K37) -> 71.4 | N37: ne | P37: ano | R37: 0.53 | T37: 15.5.2027 | V37: =M37/(0.8*D37) -> 0
A38: 0985-2026 | B38: Lumivod s.r.o. | C38: Vyjednavač | D38: 3300000 | E38: 1200000 | F38: =AVERAGE(MK!F29,BS!F29,TF!F29,PK!F29,AT!F29) -> 18 | G38: =AVERAGE(MK!G29,BS!G29,TF!G29,PK!G29,AT!G29) -> 6 | H38: =AVERAGE(MK!H29,BS!H29,TF!H29,PK!H29,AT!H29) -> 15.6 | I38: =AVERAGE(MK!I29,BS!I29,TF!I29,PK!I29,AT!I29) -> 16.4 | J38: =AVERAGE(MK!J29,BS!J29,TF!J29,PK!J29,AT!J29) -> 6.8 | K38: =AVERAGE(MK!K29,BS!K29,TF!K29,PK!K29,AT!K29) -> 6.4 | L38: =SUM(F38:K38) -> 69.2 | N38: ne | P38: ano | R38: 0.36 | T38: 30.6.2028 | V38: =M38/(0.8*D38) -> 0
A39: 1004-2026 | B39: Strong images s.r.o. | C39: Krtek v CIA | D39: 2792700 | E39: 1250000 | F39: =AVERAGE(MK!F40,BS!F40,TF!F40,PK!F40,AT!F40) -> 17.4 | G39: =AVERAGE(MK!G40,BS!G40,TF!G40,PK!G40,AT!G40) -> 6.4 | H39: =AVERAGE(MK!H40,BS!H40,TF!H40,PK!H40,AT!H40) -> 15.8 | I39: =AVERAGE(MK!I40,BS!I40,TF!I40,PK!I40,AT!I40) -> 16.6 | J39: =AVERAGE(MK!J40,BS!J40,TF!J40,PK!J40,AT!J40) -> 6 | K39: =AVERAGE(MK!K40,BS!K40,TF!K40,PK!K40,AT!K40) -> 6.8 | L39: =SUM(F39:K39) -> 69 | N39: ano | P39: ano | R39: 0.45 | T39: 31.12.2027 | V39: =M39/(0.8*D39) -> 0
A40: 1016-2026 | B40: Seeya s.r.o. | C40: Svízel | D40: 2070000 | E40: 1250000 | F40: =AVERAGE(MK!F47,BS!F47,TF!F47,PK!F47,AT!F47) -> 19.8 | G40: =AVERAGE(MK!G47,BS!G47,TF!G47,PK!G47,AT!G47) -> 6.4 | H40: =AVERAGE(MK!H47,BS!H47,TF!H47,PK!H47,AT!H47) -> 13.6 | I40: =AVERAGE(MK!I47,BS!I47,TF!I47,PK!I47,AT!I47) -> 14 | J40: =AVERAGE(MK!J47,BS!J47,TF!J47,PK!J47,AT!J47) -> 7 | K40: =AVERAGE(MK!K47,BS!K47,TF!K47,PK!K47,AT!K47) -> 7.4 | L40: =SUM(F40:K40) -> 68.2 | N40: ne | P40: ano | R40: 0.6 | T40: 15.5.2027 | V40: =M40/(0.8*D40) -> 0
A41: 1034-2026 | B41: Other Stories s.r.o. | C41: Theova nová holka | D41: 2485000 | E41: 1000000 | F41: =AVERAGE(MK!F55,BS!F55,TF!F55,PK!F55,AT!F55) -> 18.4 | G41: =AVERAGE(MK!G55,BS!G55,TF!G55,PK!G55,AT!G55) -> 7 | H41: =AVERAGE(MK!H55,BS!H55,TF!H55,PK!H55,AT!H55) -> 14 | I41: =AVERAGE(MK!I55,BS!I55,TF!I55,PK!I55,AT!I55) -> 14 | J41: =AVERAGE(MK!J55,BS!J55,TF!J55,PK!J55,AT!J55) -> 7 | K41: =AVERAGE(MK!K55,BS!K55,TF!K55,PK!K55,AT!K55) -> 6.8 | L41: =SUM(F41:K41) -> 67.2 | N41: ne | P41: ano | R41: 0.4 | T41: 1.6.2029 | V41: =M41/(0.8*D41) -> 0
A42: 1014-2026 | B42: Beginner's Mind s.r.o. | C42: Naprosto nejdelší vteřina | D42: 2135000 | E42: 1250000 | F42: =AVERAGE(MK!F46,BS!F46,TF!F46,PK!F46,AT!F46) -> 17 | G42: =AVERAGE(MK!G46,BS!G46,TF!G46,PK!G46,AT!G46) -> 6.2 | H42: =AVERAGE(MK!H46,BS!H46,TF!H46,PK!H46,AT!H46) -> 13.8 | I42: =AVERAGE(MK!I46,BS!I46,TF!I46,PK!I46,AT!I46) -> 15 | J42: =AVERAGE(MK!J46,BS!J46,TF!J46,PK!J46,AT!J46) -> 7 | K42: =AVERAGE(MK!K46,BS!K46,TF!K46,PK!K46,AT!K46) -> 8 | L42: =SUM(F42:K42) -> 67 | N42: ne | P42: ano | R42: 0.59 | T42: 1.5.2029 | V42: =M42/(0.8*D42) -> 0
A43: 0980-2026 | B43: BEDNA FILMS, s.r.o. | C43: Arboriáni | D43: 1700000 | E43: 1250000 | F43: =AVERAGE(MK!F28,BS!F28,TF!F28,PK!F28,AT!F28) -> 19.8 | G43: =AVERAGE(MK!G28,BS!G28,TF!G28,PK!G28,AT!G28) -> 6.2 | H43: =AVERAGE(MK!H28,BS!H28,TF!H28,PK!H28,AT!H28) -> 14.2 | I43: =AVERAGE(MK!I28,BS!I28,TF!I28,PK!I28,AT!I28) -> 13.6 | J43: =AVERAGE(MK!J28,BS!J28,TF!J28,PK!J28,AT!J28) -> 6 | K43: =AVERAGE(MK!K28,BS!K28,TF!K28,PK!K28,AT!K28) -> 6.8 | L43: =SUM(F43:K43) -> 66.6 | N43: ne | P43: ano | R43: 0.74 | T43: 1.10.2027 | V43: =M43/(0.8*D43) -> 0
A44: 1003-2026 | B44: Shore Points s.r.o. | C44: HATEBYZ | D44: 1420000 | E44: 900000 | F44: =AVERAGE(MK!F39,BS!F39,TF!F39,PK!F39,AT!F39) -> 14.8 | G44: =AVERAGE(MK!G39,BS!G39,TF!G39,PK!G39,AT!G39) -> 5.6 | H44: =AVERAGE(MK!H39,BS!H39,TF!H39,PK!H39,AT!H39) -> 15 | I44: =AVERAGE(MK!I39,BS!I39,TF!I39,PK!I39,AT!I39) -> 14 | J44: =AVERAGE(MK!J39,BS!J39,TF!J39,PK!J39,AT!J39) -> 8.2 | K44: =AVERAGE(MK!K39,BS!K39,TF!K39,PK!K39,AT!K39) -> 7 | L44: =SUM(F44:K44) -> 64.6 | N44: ne | P44: ano | R44: 0.63 | T44: 14.5.2029 | V44: =M44/(0.8*D44) -> 0
A45: 0993-2026 | B45: Gnomon Production s.r.o. | C45: Křehké bytosti | D45: 3825000 | E45: 1250000 | F45: =AVERAGE(MK!F35,BS!F35,TF!F35,PK!F35,AT!F35) -> 16.4 | G45: =AVERAGE(MK!G35,BS!G35,TF!G35,PK!G35,AT!G35) -> 6 | H45: =AVERAGE(MK!H35,BS!H35,TF!H35,PK!H35,AT!H35) -> 13.6 | I45: =AVERAGE(MK!I35,BS!I35,TF!I35,PK!I35,AT!I35) -> 12.4 | J45: =AVERAGE(MK!J35,BS!J35,TF!J35,PK!J35,AT!J35) -> 7 | K45: =AVERAGE(MK!K35,BS!K35,TF!K35,PK!K35,AT!K35) -> 8 | L45: =SUM(F45:K45) -> 63.4 | N45: ano | P45: ano | R45: 0.54 | T45: 30.6.2027 | V45: =M45/(0.8*D45) -> 0
A46: 1010-2026 | B46: Wandal Production, s.r.o. | C46: VĚRKA | D46: 2440912 | E46: 850000 | F46: =AVERAGE(MK!F44,BS!F44,TF!F44,PK!F44,AT!F44) -> 17.4 | G46: =AVERAGE(MK!G44,BS!G44,TF!G44,PK!G44,AT!G44) -> 5.6 | H46: =AVERAGE(MK!H44,BS!H44,TF!H44,PK!H44,AT!H44) -> 14.8 | I46: =AVERAGE(MK!I44,BS!I44,TF!I44,PK!I44,AT!I44) -> 13.2 | J46: =AVERAGE(MK!J44,BS!J44,TF!J44,PK!J44,AT!J44) -> 6 | K46: =AVERAGE(MK!K44,BS!K44,TF!K44,PK!K44,AT!K44) -> 6 | L46: =SUM(F46:K46) -> 63 | N46: ano | P46: ano | R46: 0.35 | T46: 30.3.2028 | V46: =M46/(0.8*D46) -> 0
A47: 0997-2026 | B47: Armada Films | C47: Dean Reed | D47: 3180200 | E47: 1250000 | F47: =AVERAGE(MK!F37,BS!F37,TF!F37,PK!F37,AT!F37) -> 16.2 | G47: =AVERAGE(MK!G37,BS!G37,TF!G37,PK!G37,AT!G37) -> 4.8 | H47: =AVERAGE(MK!H37,BS!H37,TF!H37,PK!H37,AT!H37) -> 14 | I47: =AVERAGE(MK!I37,BS!I37,TF!I37,PK!I37,AT!I37) -> 13.4 | J47: =AVERAGE(MK!J37,BS!J37,TF!J37,PK!J37,AT!J37) -> 6.8 | K47: =AVERAGE(MK!K37,BS!K37,TF!K37,PK!K37,AT!K37) -> 7 | L47: =SUM(F47:K47) -> 62.2 | N47: ne | P47: ne | R47: 0.39 | T47: 31.8.2029 | V47: =M47/(0.8*D47) -> 0
A48: 1007-2026 | B48: Orbis Pictures film, s.r.o. | C48: Dcerkám českým | D48: 2400400 | E48: 1120000 | F48: =AVERAGE(MK!F42,BS!F42,TF!F42,PK!F42,AT!F42) -> 14.8 | G48: =AVERAGE(MK!G42,BS!G42,TF!G42,PK!G42,AT!G42) -> 5.8 | H48: =AVERAGE(MK!H42,BS!H42,TF!H42,PK!H42,AT!H42) -> 15 | I48: =AVERAGE(MK!I42,BS!I42,TF!I42,PK!I42,AT!I42) -> 14.2 | J48: =AVERAGE(MK!J42,BS!J42,TF!J42,PK!J42,AT!J42) -> 6 | K48: =AVERAGE(MK!K42,BS!K42,TF!K42,PK!K42,AT!K42) -> 6 | L48: =SUM(F48:K48) -> 61.8 | N48: ne | P48: ano | R48: 0.47 | T48: 28.2.2027 | V48: =M48/(0.8*D48) -> 0
A49: 0973-2026 | B49: 106% s.r.o. | C49: Kdo nás zabil | D49: 1360000 | E49: 800000 | F49: =AVERAGE(MK!F25,BS!F25,TF!F25,PK!F25,AT!F25) -> 18.4 | G49: =AVERAGE(MK!G25,BS!G25,TF!G25,PK!G25,AT!G25) -> 6.6 | H49: =AVERAGE(MK!H25,BS!H25,TF!H25,PK!H25,AT!H25) -> 12.2 | I49: =AVERAGE(MK!I25,BS!I25,TF!I25,PK!I25,AT!I25) -> 10.4 | J49: =AVERAGE(MK!J25,BS!J25,TF!J25,PK!J25,AT!J25) -> 7 | K49: =AVERAGE(MK!K25,BS!K25,TF!K25,PK!K25,AT!K25) -> 7 | L49: =SUM(F49:K49) -> 61.6 | N49: ne | P49: ano | R49: 0.59 | T49: 17.6.2028 | V49: =M49/(0.8*D49) -> 0
A50: 0972-2026 | B50: FrameGuides s.r.o. | C50: Já, feťák | D50: 2750000 | E50: 1250000 | F50: =AVERAGE(MK!F24,BS!F24,TF!F24,PK!F24,AT!F24) -> 18.4 | G50: =AVERAGE(MK!G24,BS!G24,TF!G24,PK!G24,AT!G24) -> 6.4 | H50: =AVERAGE(MK!H24,BS!H24,TF!H24,PK!H24,AT!H24) -> 10.6 | I50: =AVERAGE(MK!I24,BS!I24,TF!I24,PK!I24,AT!I24) -> 12.2 | J50: =AVERAGE(MK!J24,BS!J24,TF!J24,PK!J24,AT!J24) -> 7 | K50: =AVERAGE(MK!K24,BS!K24,TF!K24,PK!K24,AT!K24) -> 7 | L50: =SUM(F50:K50) -> 61.6 | N50: ne | P50: ano | R50: 0.49 | T50: 20.6.2029 | V50: =M50/(0.8*D50) -> 0
A51: 0970-2026 | B51: 106% s.r.o. | C51: Rymejk | D51: 1830000 | E51: 1250000 | F51: =AVERAGE(MK!F23,BS!F23,TF!F23,PK!F23,AT!F23) -> 15 | G51: =AVERAGE(MK!G23,BS!G23,TF!G23,PK!G23,AT!G23) -> 5.2 | H51: =AVERAGE(MK!H23,BS!H23,TF!H23,PK!H23,AT!H23) -> 12.2 | I51: =AVERAGE(MK!I23,BS!I23,TF!I23,PK!I23,AT!I23) -> 12 | J51: =AVERAGE(MK!J23,BS!J23,TF!J23,PK!J23,AT!J23) -> 6.8 | K51: =AVERAGE(MK!K23,BS!K23,TF!K23,PK!K23,AT!K23) -> 7 | L51: =SUM(F51:K51) -> 58.2 | N51: ne | P51: ano | R51: 0.68 | T51: 17.6.2028 | V51: =M51/(0.8*D51) -> 0
A52: 0991-2026 | B52: IS Produkce s.r.o. | C52: 23. týden | D52: 2899000 | E52: 1250000 | F52: =AVERAGE(MK!F33,BS!F33,TF!F33,PK!F33,AT!F33) -> 15.4 | G52: =AVERAGE(MK!G33,BS!G33,TF!G33,PK!G33,AT!G33) -> 6 | H52: =AVERAGE(MK!H33,BS!H33,TF!H33,PK!H33,AT!H33) -> 11 | I52: =AVERAGE(MK!I33,BS!I33,TF!I33,PK!I33,AT!I33) -> 11.8 | J52: =AVERAGE(MK!J33,BS!J33,TF!J33,PK!J33,AT!J33) -> 6 | K52: =AVERAGE(MK!K33,BS!K33,TF!K33,PK!K33,AT!K33) -> 6.8 | L52: =SUM(F52:K52) -> 57 | N52: ne | P52: ne | R52: 0.59 | T52: 1.1.2028 | V52: =M52/(0.8*D52) -> 0
A53: 0975-2026 | B53: XLfilm s.r.o. | C53: Mesiáška | D53: 1835000 | E53: 1250000 | F53: =AVERAGE(MK!F26,BS!F26,TF!F26,PK!F26,AT!F26) -> 15 | G53: =AVERAGE(MK!G26,BS!G26,TF!G26,PK!G26,AT!G26) -> 5.8 | H53: =AVERAGE(MK!H26,BS!H26,TF!H26,PK!H26,AT!H26) -> 10 | I53: =AVERAGE(MK!I26,BS!I26,TF!I26,PK!I26,AT!I26) -> 11.4 | J53: =AVERAGE(MK!J26,BS!J26,TF!J26,PK!J26,AT!J26) -> 6 | K53: =AVERAGE(MK!K26,BS!K26,TF!K26,PK!K26,AT!K26) -> 7.2 | L53: =SUM(F53:K53) -> 55.4 | N53: ne | P53: ano | R53: 0.68 | T53: 1.9.2027 | V53: =M53/(0.8*D53) -> 0
A54: 1033-2026 | B54: We Know Film production, s.r.o. | C54: MISTY seriál | D54: 2103000 | E54: 1051500 | F54: =AVERAGE(MK!F54,BS!F54,TF!F54,PK!F54,AT!F54) -> 12.8 | G54: =AVERAGE(MK!G54,BS!G54,TF!G54,PK!G54,AT!G54) -> 5.6 | H54: =AVERAGE(MK!H54,BS!H54,TF!H54,PK!H54,AT!H54) -> 13.2 | I54: =AVERAGE(MK!I54,BS!I54,TF!I54,PK!I54,AT!I54) -> 14 | J54: =AVERAGE(MK!J54,BS!J54,TF!J54,PK!J54,AT!J54) -> 3.4 | K54: =AVERAGE(MK!K54,BS!K54,TF!K54,PK!K54,AT!K54) -> 6 | L54: =SUM(F54:K54) -> 55 | N54: ne | P54: ne | R54: 0.5 | T54: 20.5.2029 | V54: =M54/(0.8*D54) -> 0
A55: 1022-2026 | B55: Meloun Production s.r.o. | C55: Pan Chůva | D55: 1576500 | E55: 713000 | F55: =AVERAGE(MK!F49,BS!F49,TF!F49,PK!F49,AT!F49) -> 14.2 | G55: =AVERAGE(MK!G49,BS!G49,TF!G49,PK!G49,AT!G49) -> 5.8 | H55: =AVERAGE(MK!H49,BS!H49,TF!H49,PK!H49,AT!H49) -> 10 | I55: =AVERAGE(MK!I49,BS!I49,TF!I49,PK!I49,AT!I49) -> 11.2 | J55: =AVERAGE(MK!J49,BS!J49,TF!J49,PK!J49,AT!J49) -> 6 | K55: =AVERAGE(MK!K49,BS!K49,TF!K49,PK!K49,AT!K49) -> 7.6 | L55: =SUM(F55:K55) -> 54.8 | N55: ne | P55: ne | R55: 0.45 | T55: 30.4.2027 | V55: =M55/(0.8*D55) -> 0
A56: 0963-2026 | B56: MINI MAX FILMS s.r.o. | C56: ÚLET 72 | D56: 2850000 | E56: 1250000 | F56: =AVERAGE(MK!F20,BS!F20,TF!F20,PK!F20,AT!F20) -> 14.8 | G56: =AVERAGE(MK!G20,BS!G20,TF!G20,PK!G20,AT!G20) -> 5.2 | H56: =AVERAGE(MK!H20,BS!H20,TF!H20,PK!H20,AT!H20) -> 8.8 | I56: =AVERAGE(MK!I20,BS!I20,TF!I20,PK!I20,AT!I20) -> 11.8 | J56: =AVERAGE(MK!J20,BS!J20,TF!J20,PK!J20,AT!J20) -> 6 | K56: =AVERAGE(MK!K20,BS!K20,TF!K20,PK!K20,AT!K20) -> 5.6 | L56: =SUM(F56:K56) -> 52.2 | N56: ne | P56: ano | R56: 0.44 | T56: 23.6.2027 | V56: =M56/(0.8*D56) -> 0
D57: =SUM(D20:D56) -> 93811062 | E57: =SUM(E20:E56) -> 42784500 | M57: =SUM(M20:M56) -> 12518500
L58: zbývá | M58: =12535800-M57 -> 17300

Sheet MK
A1: Kompletní vývoj hraného seriálu nebo minisérie
A2: Evidenční číslo výzvy: 2026-B-1-4-38 | D2: Cíle podpory audiovize:
A3: Dotační kategorie: Podpora televizních děl | D3: 1. Posílení stability producentských firem a podpora jejich dlouhodobé spolupráce s kreativními týmy.
A4: Dotační okruh: Vývoj českého audiovizuálního díla | D4: 2. Podpora diverzity portfolia producentských firem.
A5: Lhůta pro podávání žádostí: 22. 5. 2026–22. 6. 2026 | D5: 3. Podpora debutů a žánrové diverzity v české audiovizi.
A6: Finanční alokace: 12 535 800 Kč | D6: 4. Podpora projektů pro různé cílové skupiny.
A7: Lhůta pro dokončení projektu: dle žádosti, nejpozději však do 31. 8. 2029 | D7: 5. Podpora projektů pro lokální trh i pro mezinárodní distribuci.
A8: Forma podpory: investiční dotace | D8: 6. Navýšení rozpočtů projektů ve vývoji skrze kofinancování z evropských i lokálních zdrojů
D10: Specifikace dotačního okruhu
D11: Podpora je určena pro vývoj hraného televizního díla ve formě minisérie (2–4 díly) a vývoj hraného televizního díla ve formě seriálu (5–13 dílů) (ve smyslu § 2 odst. 1 písm. c) zákona o audiovizi), které je českým audiovizuálním dílem (ve smyslu § 2 odst. 1 písm. i) zákona o audiovizi).
D12: Součástí vývoje je práce na treatmentu, scénáři nebo set-upu projektu (synopse epizod) ve verzi po kompletním vývoji; vytvoření plánu výroby a jeho předpokládaného zajištění, práce na kreativním přístupu k tématu.
D13: Rada si vedle cílů podpory stanoví ve výzvě za cíl podporu efektivnějšího a diverzifikovanějšího spolufinancování projektů z mezinárodních i lokálních zdrojů a podporu umělecké tvorby, různých žánrů a inovativních non-fiction formátů a postupů.
D14: Rada deklaruje, že v této výzvě neurčuje specificky podporu režijních a producentských debutů.
A16: evidenční číslo projektu | B16: název žadatele | C16: název projektu | D16: celkový rozpočet projektu | E16: požadovaná podpora | F16: bodové hodnocení dle tvůrčího a realizačního testu | L16: bodové hodnocení Rada
F17: tvůrčí kritéria | H17: realizační kritéria
F18: Relevance projektu k výzvě | G18: Potenciál pro publikum | H18: Relevance k předchozí činnosti žadatele | I18: Kreativní tým | J18: Realizační strategie a ekonomika projektu | K18: Udržitelnost
F19: 0–30 | G19: 0–10 | H19: 0–20 | I19: 0–20 | J19: 0–10 | K19: 0–10
A20: 963-2026 | B20: MINI MAX FILMS s.r.o. | C20: ÚLET 72 | D20: 2 850 000 Kč | E20: 1 250 000 Kč | F20: 14 | G20: 5 | H20: 9 | I20: 12 | J20: 6 | K20: 5 | L20: =SUM(F20:K20) -> 51
A21: 968-2026 | B21: 0.7km films s.r.o. | C21: FESTIVAL | D21: 2 500 000 Kč | E21: 1 200 000 Kč | F21: 25 | G21: 9 | H21: 15 | I21: 19 | J21: 5 | K21: 6 | L21: =SUM(F21:K21) -> 79
A22: 969-2026 | B22: Cinebonbon s.r.o. | C22: Intimita na předpis | D22: 2 683 500 Kč | E22: 1 250 000 Kč | F22: 20 | G22: 7 | H22: 17 | I22: 17 | J22: 7 | K22: 7 | L22: =SUM(F22:K22) -> 75
A23: 970-2026 | B23: 106% s.r.o. | C23: Rymejk | D23: 1 830 000 Kč | E23: 1 250 000 Kč | F23: 15 | G23: 5 | H23: 12 | I23: 11 | J23: 7 | K23: 7 | L23: =SUM(F23:K23) -> 57
A24: 972-2026 | B24: FrameGuides s.r.o. | C24: Já, feťák | D24: 2 750 000 Kč | E24: 1 250 000 Kč | F24: 18 | G24: 6 | H24: 10 | I24: 12 | J24: 7 | K24: 7 | L24: =SUM(F24:K24) -> 60
A25: 973-2026 | B25: 106% s.r.o. | C25: Kdo nás zabil | D25: 1 360 000 Kč | E25: 800 000 Kč | F25: 17 | G25: 6 | H25: 12 | I25: 10 | J25: 7 | K25: 7 | L25: =SUM(F25:K25) -> 59
A26: 975-2026 | B26: XLfilm s.r.o. | C26: Mesiáška | D26: 1 835 000 Kč | E26: 1 250 000 Kč | F26: 15 | G26: 6 | H26: 10 | I26: 10 | J26: 6 | K26: 8 | L26: =SUM(F26:K26) -> 55
A27: 976-2026 | B27: DNA Production s.r.o. | C27: ELTON | D27: 2 260 375 Kč | E27: 1 100 000 Kč | F27: 21 | G27: 7 | H27: 17 | I27: 18 | J27: 6 | K27: 7 | L27: =SUM(F27:K27) -> 76
A28: 980-2026 | B28: BEDNA FILMS, s.r.o. | C28: Arboriáni | D28: 1 700 000 Kč | E28: 1 250 000 Kč | F28: 20 | G28: 7 | H28: 14 | I28: 13 | J28: 6 | K28: 7 | L28: =SUM(F28:K28) -> 67
A29: 985-2026 | B29: Lumivod s.r.o. | C29: Vyjednavač | D29: 3 300 000 Kč | E29: 1 200 000 Kč | F29: 18 | G29: 6 | H29: 15 | I29: 16 | J29: 7 | K29: 6 | L29: =SUM(F29:K29) -> 68
A30: 986-2026 | B30: nutprodukce, s.r.o. | C30: Umělá | D30: 2 320 000 Kč | E30: 800 000 Kč | F30: 22 | G30: 8 | H30: 20 | I30: 16 | J30: 9 | K30: 9 | L30: =SUM(F30:K30) -> 84
A31: 987-2026 | B31: nutprodukce, s.r.o. | C31: Nultý rok | D31: 3 050 000 Kč | E31: 1 200 000 Kč | F31: 17 | G31: 7 | H31: 20 | I31: 16 | J31: 8 | K31: 8 | L31: =SUM(F31:K31) -> 76
... A56: 1036-2026 | B56: Cinémotif Films s.r.o. | C56: Kalné vody | D56: 2 885 900 Kč | E56: 1 250 000 Kč | F56: 21 | G56: 7 | H56: 16 | I56: 17 | J56: 8 | K56: 8 | L56: =SUM(F56:K56) -> 77
D57: =SUM(D20:D56) -> 0 | E57: =SUM(E20:E56) -> 0

Sheet BS
A1: Kompletní vývoj hraného seriálu nebo minisérie
A2: Evidenční číslo výzvy: 2026-B-1-4-38 | D2: Cíle podpory audiovize:
A3: Dotační kategorie: Podpora televizních děl | D3: 1. Posílení stability producentských firem a podpora jejich dlouhodobé spolupráce s kreativními týmy.
A4: Dotační okruh: Vývoj českého audiovizuálního díla | D4: 2. Podpora diverzity portfolia producentských firem.
A5: Lhůta pro podávání žádostí: 22. 5. 2026–22. 6. 2026 | D5: 3. Podpora debutů a žánrové diverzity v české audiovizi.
A6: Finanční alokace: 12 535 800 Kč | D6: 4. Podpora projektů pro různé cílové skupiny.
A7: Lhůta pro dokončení projektu: dle žádosti, nejpozději však do 31. 8. 2029 | D7: 5. Podpora projektů pro lokální trh i pro mezinárodní distribuci.
A8: Forma podpory: investiční dotace | D8: 6. Navýšení rozpočtů projektů ve vývoji skrze kofinancování z evropských i lokálních zdrojů
D10: Specifikace dotačního okruhu
D11: Podpora je určena pro vývoj hraného televizního díla ve formě minisérie (2–4 díly) a vývoj hraného televizního díla ve formě seriálu (5–13 dílů) (ve smyslu § 2 odst. 1 písm. c) zákona o audiovizi), které je českým audiovizuálním dílem (ve smyslu § 2 odst. 1 písm. i) zákona o audiovizi).
D12: Součástí vývoje je práce na treatmentu, scénáři nebo set-upu projektu (synopse epizod) ve verzi po kompletním vývoji; vytvoření plánu výroby a jeho předpokládaného zajištění, práce na kreativním přístupu k tématu.
D13: Rada si vedle cílů podpory stanoví ve výzvě za cíl podporu efektivnějšího a diverzifikovanějšího spolufinancování projektů z mezinárodních i lokálních zdrojů a podporu umělecké tvorby, různých žánrů a inovativních non-fiction formátů a postupů.
D14: Rada deklaruje, že v této výzvě neurčuje specificky podporu režijních a producentských debutů.
A16: evidenční číslo projektu | B16: název žadatele | C16: název projektu | D16: celkový rozpočet projektu | E16: požadovaná podpora | F16: bodové hodnocení dle tvůrčího a realizačního testu | L16: bodové hodnocení Rada
F17: tvůrčí kritéria | H17: realizační kritéria
F18: Relevance projektu k výzvě | G18: Potenciál pro publikum | H18: Relevance k předchozí činnosti žadatele | I18: Kreativní tým | J18: Realizační strategie a ekonomika projektu | K18: Udržitelnost
F19: 0–30 | G19: 0–10 | H19: 0–20 | I19: 0–20 | J19: 0–10 | K19: 0–10
A20: 963-2026 | B20: MINI MAX FILMS s.r.o. | C20: ÚLET 72 | D20: 2 850 000 Kč | E20: 1 250 000 Kč | F20: 14 | G20: 5 | H20: 8 | I20: 10 | J20: 6 | K20: 5 | L20: =SUM(F20:K20) -> 48
A21: 968-2026 | B21: 0.7km films s.r.o. | C21: FESTIVAL | D21: 2 500 000 Kč | E21: 1 200 000 Kč | F21: 23 | G21: 7 | H21: 15 | I21: 19 | J21: 4 | K21: 6 | L21: =SUM(F21:K21) -> 74
A22: 969-2026 | B22: Cinebonbon s.r.o. | C22: Intimita na předpis | D22: 2 683 500 Kč | E22: 1 250 000 Kč | F22: 20 | G22: 7 | H22: 16 | I22: 16 | J22: 7 | K22: 7 | L22: =SUM(F22:K22) -> 73
A23: 970-2026 | B23: 106% s.r.o. | C23: Rymejk | D23: 1 830 000 Kč | E23: 1 250 000 Kč | F23: 14 | G23: 5 | H23: 12 | I23: 11 | J23: 7 | K23: 7 | L23: =SUM(F23:K23) -> 56
A24: 972-2026 | B24: FrameGuides s.r.o. | C24: Já, feťák | D24: 2 750 000 Kč | E24: 1 250 000 Kč | F24: 17 | G24: 6 | H24: 10 | I24: 13 | J24: 7 | K24: 7 | L24: =SUM(F24:K24) -> 60
A25: 973-2026 | B25: 106% s.r.o. | C25: Kdo nás zabil | D25: 1 360 000 Kč | E25: 800 000 Kč | F25: 16 | G25: 6 | H25: 12 | I25: 10 | J25: 7 | K25: 7 | L25: =SUM(F25:K25) -> 58
A26: 975-2026 | B26: XLfilm s.r.o. | C26: Mesiáška | D26: 1 835 000 Kč | E26: 1 250 000 Kč | F26: 15 | G26: 6 | H26: 10 | I26: 10 | J26: 6 | K26: 7 | L26: =SUM(F26:K26) -> 54
A27: 976-2026 | B27: DNA Production s.r.o. | C27: ELTON | D27: 2 260 375 Kč | E27: 1 100 000 Kč | F27: 23 | G27: 7 | H27: 19 | I27: 18 | J27: 5 | K27: 7 | L27: =SUM(F27:K27) -> 79
A28: 980-2026 | B28: BEDNA FILMS, s.r.o. | C28: Arboriáni | D28: 1 700 000 Kč | E28: 1 250 000 Kč | F28: 19 | G28: 6 | H28: 14 | I28: 13 | J28: 6 | K28: 7 | L28: =SUM(F28:K28) -> 65
A29: 985-2026 | B29: Lumivod s.r.o. | C29: Vyjednavač | D29: 3 300 000 Kč | E29: 1 200 000 Kč | F29: 17 | G29: 6 | H29: 15 | I29: 17 | J29: 7 | K29: 6 | L29: =SUM(F29:K29) -> 68
A30: 986-2026 | B30: nutprodukce, s.r.o. | C30: Umělá | D30: 2 320 000 Kč | E30: 800 000 Kč | F30: 24 | G30: 9 | H30: 20 | I30: 16 | J30: 9 | K30: 9 | L30: =SUM(F30:K30) -> 87
A31: 987-2026 | B31: nutprodukce, s.r.o. | C31: Nultý rok | D31: 3 050 000 Kč | E31: 1 200 000 Kč | F31: 18 | G31: 7 | H31: 20 | I31: 16 | J31: 8 | K31: 8 | L31: =SUM(F31:K31) -> 77
... A56: 1036-2026 | B56: Cinémotif Films s.r.o. | C56: Kalné vody | D56: 2 885 900 Kč | E56: 1 250 000 Kč | F56: 24 | G56: 7 | H56: 16 | I56: 17 | J56: 8 | K56: 8 | L56: =SUM(F56:K56) -> 80
D57: =SUM(D20:D56) -> 0 | E57: =SUM(E20:E56) -> 0

Sheet TF
A1: Kompletní vývoj hraného seriálu nebo minisérie
A2: Evidenční číslo výzvy: 2026-B-1-4-38 | D2: Cíle podpory audiovize:
A3: Dotační kategorie: Podpora televizních děl | D3: 1. Posílení stability producentských firem a podpora jejich dlouhodobé spolupráce s kreativními týmy.
A4: Dotační okruh: Vývoj českého audiovizuálního díla | D4: 2. Podpora diverzity portfolia producentských firem.
A5: Lhůta pro podávání žádostí: 22. 5. 2026–22. 6. 2026 | D5: 3. Podpora debutů a žánrové diverzity v české audiovizi.
A6: Finanční alokace: 12 535 800 Kč | D6: 4. Podpora projektů pro různé cílové skupiny.
A7: Lhůta pro dokončení projektu: dle žádosti, nejpozději však do 31. 8. 2029 | D7: 5. Podpora projektů pro lokální trh i pro mezinárodní distribuci.
A8: Forma podpory: investiční dotace | D8: 6. Navýšení rozpočtů projektů ve vývoji skrze kofinancování z evropských i lokálních zdrojů
D10: Specifikace dotačního okruhu
D11: Podpora je určena pro vývoj hraného televizního díla ve formě minisérie (2–4 díly) a vývoj hraného televizního díla ve formě seriálu (5–13 dílů) (ve smyslu § 2 odst. 1 písm. c) zákona o audiovizi), které je českým audiovizuálním dílem (ve smyslu § 2 odst. 1 písm. i) zákona o audiovizi).
D12: Součástí vývoje je práce na treatmentu, scénáři nebo set-upu projektu (synopse epizod) ve verzi po kompletním vývoji; vytvoření plánu výroby a jeho předpokládaného zajištění, práce na kreativním přístupu k tématu.
D13: Rada si vedle cílů podpory stanoví ve výzvě za cíl podporu efektivnějšího a diverzifikovanějšího spolufinancování projektů z mezinárodních i lokálních zdrojů a podporu umělecké tvorby, různých žánrů a inovativních non-fiction formátů a postupů.
D14: Rada deklaruje, že v této výzvě neurčuje specificky podporu režijních a producentských debutů.
A16: evidenční číslo projektu | B16: název žadatele | C16: název projektu | D16: celkový rozpočet projektu | E16: požadovaná podpora | F16: bodové hodnocení dle tvůrčího a realizačního testu | L16: bodové hodnocení Rada
F17: tvůrčí kritéria | H17: realizační kritéria
F18: Relevance projektu k výzvě | G18: Potenciál pro publikum | H18: Relevance k předchozí činnosti žadatele | I18: Kreativní tým | J18: Realizační strategie a ekonomika projektu | K18: Udržitelnost
F19: 0–30 | G19: 0–10 | H19: 0–20 | I19: 0–20 | J19: 0–10 | K19: 0–10
A20: 963-2026 | B20: MINI MAX FILMS s.r.o. | C20: ÚLET 72 | D20: 2 850 000 Kč | E20: 1 250 000 Kč | F20: 15 | G20: 5 | H20: 9 | I20: 12 | J20: 6 | K20: 6 | L20: =SUM(F20:K20) -> 53
A21: 968-2026 | B21: 0.7km films s.r.o. | C21: FESTIVAL | D21: 2 500 000 Kč | E21: 1 200 000 Kč | F21: 24 | G21: 8 | H21: 15 | I21: 19 | J21: 5 | K21: 7 | L21: =SUM(F21:K21) -> 78
A22: 969-2026 | B22: Cinebonbon s.r.o. | C22: Intimita na předpis | D22: 2 683 500 Kč | E22: 1 250 000 Kč | F22: 22 | G22: 7 | H22: 15 | I22: 17 | J22: 7 | K22: 8 | L22: =SUM(F22:K22) -> 76
A23: 970-2026 | B23: 106% s.r.o. | C23: Rymejk | D23: 1 830 000 Kč | E23: 1 250 000 Kč | F23: 15 | G23: 5 | H23: 12 | I23: 13 | J23: 7 | K23: 7 | L23: =SUM(F23:K23) -> 59
A24: 972-2026 | B24: FrameGuides s.r.o. | C24: Já, feťák | D24: 2 750 000 Kč | E24: 1 250 000 Kč | F24: 19 | G24: 7 | H24: 11 | I24: 12 | J24: 7 | K24: 7 | L24: =SUM(F24:K24) -> 63
A25: 973-2026 | B25: 106% s.r.o. | C25: Kdo nás zabil | D25: 1 360 000 Kč | E25: 800 000 Kč | F25: 20 | G25: 7 | H25: 12 | I25: 11 | J25: 7 | K25: 7 | L25: =SUM(F25:K25) -> 64
A26: 975-2026 | B26: XLfilm s.r.o. | C26: Mesiáška | D26: 1 835 000 Kč | E26: 1 250 000 Kč | F26: 15 | G26: 6 | H26: 10 | I26: 12 | J26: 6 | K26: 7 | L26: =SUM(F26:K26) -> 56
A27: 976-2026 | B27: DNA Production s.r.o. | C27: ELTON | D27: 2 260 375 Kč | E27: 1 100 000 Kč | F27: 18 | G27: 6 | H27: 18 | I27: 18 | J27: 6 | K27: 7 | L27: =SUM(F27:K27) -> 73
A28: 980-2026 | B28: BEDNA FILMS, s.r.o. | C28: Arboriáni | D28: 1 700 000 Kč | E28: 1 250 000 Kč | F28: 20 | G28: 6 | H28: 13 | I28: 14 | J28: 6 | K28: 7 | L28: =SUM(F28:K28) -> 66
A29: 985-2026 | B29: Lumivod s.r.o. | C29: Vyjednavač | D29: 3 300 000 Kč | E29: 1 200 000 Kč | F29: 17 | G29: 6 | H29: 16 | I29: 16 | J29: 7 | K29: 7 | L29: =SUM(F29:K29) -> 69
A30: 986-2026 | B30: nutprodukce, s.r.o. | C30: Umělá | D30: 2 320 000 Kč | E30: 800 000 Kč | F30: 24 | G30: 8 | H30: 20 | I30: 16 | J30: 9 | K30: 9 | L30: =SUM(F30:K30) -> 86
A31: 987-2026 | B31: nutprodukce, s.r.o. | C31: Nultý rok | D31: 3 050 000 Kč | E31: 1 200 000 Kč | F31: 17 | G31: 7 | H31: 20 | I31: 15 | J31: 8 | K31: 8 | L31: =SUM(F31:K31) -> 75
... A56: 1036-2026 | B56: Cinémotif Films s.r.o. | C56: Kalné vody | D56: 2 885 900 Kč | E56: 1 250 000 Kč | F56: 22 | G56: 7 | H56: 16 | I56: 16 | J56: 8 | K56: 8 | L56: =SUM(F56:K56) -> 77
D57: =SUM(D20:D56) -> 0 | E57: =SUM(E20:E56) -> 0

Sheet PK
A1: Kompletní vývoj hraného seriálu nebo minisérie
A2: Evidenční číslo výzvy: 2026-B-1-4-38 | D2: Cíle podpory audiovize:
A3: Dotační kategorie: Podpora televizních děl | D3: 1. Posílení stability producentských firem a podpora jejich dlouhodobé spolupráce s kreativními týmy.
A4: Dotační okruh: Vývoj českého audiovizuálního díla | D4: 2. Podpora diverzity portfolia producentských firem.
A5: Lhůta pro podávání žádostí: 22. 5. 2026–22. 6. 2026 | D5: 3. Podpora debutů a žánrové diverzity v české audiovizi.
A6: Finanční alokace: 12 535 800 Kč | D6: 4. Podpora projektů pro různé cílové skupiny.
A7: Lhůta pro dokončení projektu: dle žádosti, nejpozději však do 31. 8. 2029 | D7: 5. Podpora projektů pro lokální trh i pro mezinárodní distribuci.
A8: Forma podpory: investiční dotace | D8: 6. Navýšení rozpočtů projektů ve vývoji skrze kofinancování z evropských i lokálních zdrojů
D10: Specifikace dotačního okruhu
D11: Podpora je určena pro vývoj hraného televizního díla ve formě minisérie (2–4 díly) a vývoj hraného televizního díla ve formě seriálu (5–13 dílů) (ve smyslu § 2 odst. 1 písm. c) zákona o audiovizi), které je českým audiovizuálním dílem (ve smyslu § 2 odst. 1 písm. i) zákona o audiovizi).
D12: Součástí vývoje je práce na treatmentu, scénáři nebo set-upu projektu (synopse epizod) ve verzi po kompletním vývoji; vytvoření plánu výroby a jeho předpokládaného zajištění, práce na kreativním přístupu k tématu.
D13: Rada si vedle cílů podpory stanoví ve výzvě za cíl podporu efektivnějšího a diverzifikovanějšího spolufinancování projektů z mezinárodních i lokálních zdrojů a podporu umělecké tvorby, různých žánrů a inovativních non-fiction formátů a postupů.
D14: Rada deklaruje, že v této výzvě neurčuje specificky podporu režijních a producentských debutů.
A16: evidenční číslo projektu | B16: název žadatele | C16: název projektu | D16: celkový rozpočet projektu | E16: požadovaná podpora | F16: bodové hodnocení dle tvůrčího a realizačního testu | L16: bodové hodnocení Rada
F17: tvůrčí kritéria | H17: realizační kritéria
F18: Relevance projektu k výzvě | G18: Potenciál pro publikum | H18: Relevance k předchozí činnosti žadatele | I18: Kreativní tým | J18: Realizační strategie a ekonomika projektu | K18: Udržitelnost
F19: 0–30 | G19: 0–10 | H19: 0–20 | I19: 0–20 | J19: 0–10 | K19: 0–10
A20: 963-2026 | B20: MINI MAX FILMS s.r.o. | C20: ÚLET 72 | D20: 2 850 000 Kč | E20: 1 250 000 Kč | F20: 16 | G20: 5 | H20: 9 | I20: 13 | J20: 6 | K20: 6 | L20: =SUM(F20:K20) -> 55
A21: 968-2026 | B21: 0.7km films s.r.o. | C21: FESTIVAL | D21: 2 500 000 Kč | E21: 1 200 000 Kč | F21: 24 | G21: 9 | H21: 15 | I21: 19 | J21: 5 | K21: 7 | L21: =SUM(F21:K21) -> 79
A22: 969-2026 | B22: Cinebonbon s.r.o. | C22: Intimita na předpis | D22: 2 683 500 Kč | E22: 1 250 000 Kč | F22: 22 | G22: 7 | H22: 16 | I22: 17 | J22: 7 | K22: 7 | L22: =SUM(F22:K22) -> 76
A23: 970-2026 | B23: 106% s.r.o. | C23: Rymejk | D23: 1 830 000 Kč | E23: 1 250 000 Kč | F23: 14 | G23: 5 | H23: 13 | I23: 12 | J23: 6 | K23: 7 | L23: =SUM(F23:K23) -> 57
A24: 972-2026 | B24: FrameGuides s.r.o. | C24: Já, feťák | D24: 2 750 000 Kč | E24: 1 250 000 Kč | F24: 21 | G24: 7 | H24: 11 | I24: 12 | J24: 7 | K24: 7 | L24: =SUM(F24:K24) -> 65
A25: 973-2026 | B25: 106% s.r.o. | C25: Kdo nás zabil | D25: 1 360 000 Kč | E25: 800 000 Kč | F25: 19 | G25: 7 | H25: 13 | I25: 11 | J25: 7 | K25: 7 | L25: =SUM(F25:K25) -> 64
A26: 975-2026 | B26: XLfilm s.r.o. | C26: Mesiáška | D26: 1 835 000 Kč | E26: 1 250 000 Kč | F26: 14 | G26: 5 | H26: 10 | I26: 11 | J26: 6 | K26: 7 | L26: =SUM(F26:K26) -> 53
A27: 976-2026 | B27: DNA Production s.r.o. | C27: ELTON | D27: 2 260 375 Kč | E27: 1 100 000 Kč | F27: 19 | G27: 6 | H27: 18 | I27: 17 | J27: 7 | K27: 7 | L27: =SUM(F27:K27) -> 74
A28: 980-2026 | B28: BEDNA FILMS, s.r.o. | C28: Arboriáni | D28: 1 700 000 Kč | E28: 1 250 000 Kč | F28: 19 | G28: 6 | H28: 15 | I28: 14 | J28: 6 | K28: 6 | L28: =SUM(F28:K28) -> 66
A29: 985-2026 | B29: Lumivod s.r.o. | C29: Vyjednavač | D29: 3 300 000 Kč | E29: 1 200 000 Kč | F29: 19 | G29: 6 | H29: 16 | I29: 16 | J29: 6 | K29: 6 | L29: =SUM(F29:K29) -> 69
A30: 986-2026 | B30: nutprodukce, s.r.o. | C30: Umělá | D30: 2 320 000 Kč | E30: 800 000 Kč | F30: 22 | G30: 8 | H30: 20 | I30: 16 | J30: 8 | K30: 8 | L30: =SUM(F30:K30) -> 82
A31: 987-2026 | B31: nutprodukce, s.r.o. | C31: Nultý rok | D31: 3 050 000 Kč | E31: 1 200 000 Kč | F31: 18 | G31: 7 | H31: 20 | I31: 16 | J31: 8 | K31: 7 | L31: =SUM(F31:K31) -> 76
... A56: 1036-2026 | B56: Cinémotif Films s.r.o. | C56: Kalné vody | D56: 2 885 900 Kč | E56: 1 250 000 Kč | F56: 21 | G56: 7 | H56: 16 | I56: 16 | J56: 7 | K56: 8 | L56: =SUM(F56:K56) -> 75
D57: =SUM(D20:D56) -> 0 | E57: =SUM(E20:E56) -> 0

Sheet AT
A1: Kompletní vývoj hraného seriálu nebo minisérie
A2: Evidenční číslo výzvy: 2026-B-1-4-38 | D2: Cíle podpory audiovize:
A3: Dotační kategorie: Podpora televizních děl | D3: 1. Posílení stability producentských firem a podpora jejich dlouhodobé spolupráce s kreativními týmy.
A4: Dotační okruh: Vývoj českého audiovizuálního díla | D4: 2. Podpora diverzity portfolia producentských firem.
A5: Lhůta pro podávání žádostí: 22. 5. 2026–22. 6. 2026 | D5: 3. Podpora debutů a žánrové diverzity v české audiovizi.
A6: Finanční alokace: 12 535 800 Kč | D6: 4. Podpora projektů pro různé cílové skupiny.
A7: Lhůta pro dokončení projektu: dle žádosti, nejpozději však do 31. 8. 2029 | D7: 5. Podpora projektů pro lokální trh i pro mezinárodní distribuci.
A8: Forma podpory: investiční dotace | D8: 6. Navýšení rozpočtů projektů ve vývoji skrze kofinancování z evropských i lokálních zdrojů
D10: Specifikace dotačního okruhu
D11: Podpora je určena pro vývoj hraného televizního díla ve formě minisérie (2–4 díly) a vývoj hraného televizního díla ve formě seriálu (5–13 dílů) (ve smyslu § 2 odst. 1 písm. c) zákona o audiovizi), které je českým audiovizuálním dílem (ve smyslu § 2 odst. 1 písm. i) zákona o audiovizi).
D12: Součástí vývoje je práce na treatmentu, scénáři nebo set-upu projektu (synopse epizod) ve verzi po kompletním vývoji; vytvoření plánu výroby a jeho předpokládaného zajištění, práce na kreativním přístupu k tématu.
D13: Rada si vedle cílů podpory stanoví ve výzvě za cíl podporu efektivnějšího a diverzifikovanějšího spolufinancování projektů z mezinárodních i lokálních zdrojů a podporu umělecké tvorby, různých žánrů a inovativních non-fiction formátů a postupů.
D14: Rada deklaruje, že v této výzvě neurčuje specificky podporu režijních a producentských debutů.
A16: evidenční číslo projektu | B16: název žadatele | C16: název projektu | D16: celkový rozpočet projektu | E16: požadovaná podpora | F16: bodové hodnocení dle tvůrčího a realizačního testu | L16: bodové hodnocení Rada
F17: tvůrčí kritéria | H17: realizační kritéria
F18: Relevance projektu k výzvě | G18: Potenciál pro publikum | H18: Relevance k předchozí činnosti žadatele | I18: Kreativní tým | J18: Realizační strategie a ekonomika projektu | K18: Udržitelnost
F19: 0–30 | G19: 0–10 | H19: 0–20 | I19: 0–20 | J19: 0–10 | K19: 0–10
A20: 963-2026 | B20: MINI MAX FILMS s.r.o. | C20: ÚLET 72 | D20: 2 850 000 Kč | E20: 1 250 000 Kč | F20: 15 | G20: 6 | H20: 9 | I20: 12 | J20: 6 | K20: 6 | L20: =SUM(F20:K20) -> 54
A21: 968-2026 | B21: 0.7km films s.r.o. | C21: FESTIVAL | D21: 2 500 000 Kč | E21: 1 200 000 Kč | F21: 24 | G21: 9 | H21: 15 | I21: 19 | J21: 5 | K21: 7 | L21: =SUM(F21:K21) -> 79
A22: 969-2026 | B22: Cinebonbon s.r.o. | C22: Intimita na předpis | D22: 2 683 500 Kč | E22: 1 250 000 Kč | F22: 21 | G22: 7 | H22: 17 | I22: 16 | J22: 7 | K22: 8 | L22: =SUM(F22:K22) -> 76
A23: 970-2026 | B23: 106% s.r.o. | C23: Rymejk | D23: 1 830 000 Kč | E23: 1 250 000 Kč | F23: 17 | G23: 6 | H23: 12 | I23: 13 | J23: 7 | K23: 7 | L23: =SUM(F23:K23) -> 62
A24: 972-2026 | B24: FrameGuides s.r.o. | C24: Já, feťák | D24: 2 750 000 Kč | E24: 1 250 000 Kč | F24: 17 | G24: 6 | H24: 11 | I24: 12 | J24: 7 | K24: 7 | L24: =SUM(F24:K24) -> 60
A25: 973-2026 | B25: 106% s.r.o. | C25: Kdo nás zabil | D25: 1 360 000 Kč | E25: 800 000 Kč | F25: 20 | G25: 7 | H25: 12 | I25: 10 | J25: 7 | K25: 7 | L25: =SUM(F25:K25) -> 63
A26: 975-2026 | B26: XLfilm s.r.o. | C26: Mesiáška | D26: 1 835 000 Kč | E26: 1 250 000 Kč | F26: 16 | G26: 6 | H26: 10 | I26: 14 | J26: 6 | K26: 7 | L26: =SUM(F26:K26) -> 59
A27: 976-2026 | B27: DNA Production s.r.o. | C27: ELTON | D27: 2 260 375 Kč | E27: 1 100 000 Kč | F27: 21 | G27: 7 | H27: 18 | I27: 18 | J27: 5 | K27: 7 | L27: =SUM(F27:K27) -> 76
A28: 980-2026 | B28: BEDNA FILMS, s.r.o. | C28: Arboriáni | D28: 1 700 000 Kč | E28: 1 250 000 Kč | F28: 21 | G28: 6 | H28: 15 | I28: 14 | J28: 6 | K28: 7 | L28: =SUM(F28:K28) -> 69
A29: 985-2026 | B29: Lumivod s.r.o. | C29: Vyjednavač | D29: 3 300 000 Kč | E29: 1 200 000 Kč | F29: 19 | G29: 6 | H29: 16 | I29: 17 | J29: 7 | K29: 7 | L29: =SUM(F29:K29) -> 72
A30: 986-2026 | B30: nutprodukce, s.r.o. | C30: Umělá | D30: 2 320 000 Kč | E30: 800 000 Kč | F30: 23 | G30: 8 | H30: 19 | I30: 16 | J30: 9 | K30: 9 | L30: =SUM(F30:K30) -> 84
A31: 987-2026 | B31: nutprodukce, s.r.o. | C31: Nultý rok | D31: 3 050 000 Kč | E31: 1 200 000 Kč | F31: 18 | G31: 7 | H31: 19 | I31: 16 | J31: 8 | K31: 8 | L31: =SUM(F31:K31) -> 76
... A56: 1036-2026 | B56: Cinémotif Films s.r.o. | C56: Kalné vody | D56: 2 885 900 Kč | E56: 1 250 000 Kč | F56: 22 | G56: 7 | H56: 16 | I56: 17 | J56: 8 | K56: 8 | L56: =SUM(F56:K56) -> 78
D57: =SUM(D20:D56) -> 0 | E57: =SUM(E20:E56) -> 0
