Workbook

Sheet Vývoj dokumentárního díla
A1: Kompletní vývoj dokumentárního díla
A2: Evidenční číslo výzvy: 2026-B-1-3-34 | D2: Cíle podpory audiovize:
A3: Dotační kategorie: Podpora televizních děl | D3: 1. Posílení stability producentských firem a podpora jejich dlouhodobé spolupráce s kreativními týmy.
A4: Dotační okruh: Vývoj českého audiovizuálního díla | D4: 2. Podpora žánrové diverzity v české audiovizi.
A5: Lhůta pro podávání žádostí: 4. 5. 2026–5. 6. 2026 | D5: 3. Podpora debutů a projektů pro různé cílové skupiny.
A6: Finanční alokace: 10 535 800 Kč | D6: 4. Podpora projektů pro lokální trh i pro mezinárodní distribuci.
A7: Lhůta pro dokončení projektu: dle žádosti, nejpozději však do 30. 9. 2029 | D7: 5. Navýšení rozpočtů projektů ve vývoji skrze kofinancování z evropských i lokálních zdrojů.
A8: Forma podpory: investiční dotace
D9: Specifikace dotačního okruhu
D10: Podpora je určena pro kompletní vývoj:
D11: – krátkometrážního nebo celovečerního dokumentárního televizního či kinematografického díla (ve smyslu § 2. odst. 1 písm. b), c) zákona o audiovizi) nebo – dokumentárního televizního díla (ve smyslu § 2. odst. 1 písm. c) zákona o audiovizi) ve formě dokumentární minisérie (2–4 díly) nebo dokumentárního seriálu (5–13 dílů),
D12: která jsou českými audiovizuálními díly (ve smyslu § 2 odst. 1 písm. i) zákona o audiovizi).
D13: Krátkometrážním audiovizuálním dílem se pro účely Státního fondu audiovize (dále jen „Fond“) rozumí dílo o délce do 60 minut včetně. Celovečerním audiovizuálním dílem se pro účely Fondu rozumí dílo se stopáží delší než 60 minut.
D14: Součástí vývoje je v případě dokumentárního filmu práce na treatmentu nebo scénáři, v případě minisérie nebo seriálu na scénáři nebo treatmentu prvních dvou epizod a synopse ostatních epizod a set-upu projektu ve verzi po kompletním vývoji; vytvoření plánu výroby a jeho předpokládaného zajištění, práce na kreativním přístupu k tématu.
D15: Rada si vedle cílů podpory stanoví ve výzvě za cíl podporu efektivnějšího a diverzifikovanějšího spolufinancování projektů z mezinárodních i lokálních zdrojů a podporu umělecké tvorby, různých žánrů a inovativních non-fiction formátů a postupů.
D16: Rada deklaruje, že v této výzvě neurčuje specificky podporu režijních a producentských debutů.
A18: evidenční číslo projektu | B18: název žadatele | C18: název projektu | D18: celkový rozpočet projektu | E18: požadovaná podpora | F18: bodové hodnocení dle tvůrčího a realizačního testu | L18: bodové hodnocení Rada | M18: výše podpory | N18: žadatel – komplexní dílo ano/ne | O18: Rada – komplexní dílo ano/ne | P18: žadatel – náročné audiovizuální dílo ano/ne | Q18: Rada – náročné audiovizuální dílo ano/ne | R18: žadatel – intenzita podpory % | S18: Rada – intenzita podpory % | T18: žadatel – datum dokončení projektu | U18: Rada – lhůta pro dokončení | V18: maximální podíl podpory na celkových nákladech
F19: tvůrčí kritéria | H19: realizační kritéria
F20: Relevance projektu k výzvě | G20: Potenciál pro publikum | H20: Relevance k předchozí činnosti žadatele | I20: Kreativní tým | J20: Realizační strategie a ekonomika projektu | K20: Udržitelnost
F21: 0–30 | G21: 0–10 | H21: 0–20 | I21: 0–20 | J21: 0–10 | K21: 0–10
A22: 897-2026 | B22: Hypermarket Film s.r.o. | C22: Obyčejný život - vývoj | D22: 1600000 | E22: 750000 | F22: =AVERAGE(MK!F32,BS!F32,TF!F32,PK!F32,AT!F32) -> 25.4 | G22: =AVERAGE(MK!G32,BS!G32,TF!G32,PK!G32,AT!G32) -> 8 | H22: =AVERAGE(MK!H32,BS!H32,TF!H32,PK!H32,AT!H32) -> 19.8 | I22: =AVERAGE(MK!I32,BS!I32,TF!I32,PK!I32,AT!I32) -> 16.6 | J22: =AVERAGE(MK!J32,BS!J32,TF!J32,PK!J32,AT!J32) -> 9 | K22: =AVERAGE(MK!K32,BS!K32,TF!K32,PK!K32,AT!K32) -> 8 | L22: =SUM(F22:K22) -> 86.8 | M22: 697500 | N22: ne | O22: ne | P22: ano | Q22: ano | R22: 0.47 | S22: 0.9 | T22: 31.1.2028 | U22: 30.9.2029 | V22: =M22/(0.8*D22) -> 0.54492188
A23: 916-2026 | B23: radical empathy s.r.o. | C23: Než se zlomí noc | D23: 1576150 | E23: 750000 | F23: =AVERAGE(MK!F50,BS!F50,TF!F50,PK!F50,AT!F50) -> 24.8 | G23: =AVERAGE(MK!G50,BS!G50,TF!G50,PK!G50,AT!G50) -> 7.6 | H23: =AVERAGE(MK!H50,BS!H50,TF!H50,PK!H50,AT!H50) -> 18 | I23: =AVERAGE(MK!I50,BS!I50,TF!I50,PK!I50,AT!I50) -> 18 | J23: =AVERAGE(MK!J50,BS!J50,TF!J50,PK!J50,AT!J50) -> 8 | K23: =AVERAGE(MK!K50,BS!K50,TF!K50,PK!K50,AT!K50) -> 8 | L23: =SUM(F23:K23) -> 84.4 | M23: 697500 | N23: ano | O23: ano - 30 % | P23: ano | Q23: ano | R23: 0.48 | S23: 0.9 | T23: 30.9.2029 | U23: 30.9.2029 | V23: =M23/(0.8*D23) -> 0.55316753
A24: 905-2026 | B24: Mimesis Film s.r.o. | C24: Pokrok? | D24: 960000 | E24: 750000 | F24: =AVERAGE(MK!F39,BS!F39,TF!F39,PK!F39,AT!F39) -> 23.6 | G24: =AVERAGE(MK!G39,BS!G39,TF!G39,PK!G39,AT!G39) -> 6.8 | H24: =AVERAGE(MK!H39,BS!H39,TF!H39,PK!H39,AT!H39) -> 18.6 | I24: =AVERAGE(MK!I39,BS!I39,TF!I39,PK!I39,AT!I39) -> 18.4 | J24: =AVERAGE(MK!J39,BS!J39,TF!J39,PK!J39,AT!J39) -> 8 | K24: =AVERAGE(MK!K39,BS!K39,TF!K39,PK!K39,AT!K39) -> 8 | L24: =SUM(F24:K24) -> 83.4 | M24: 697500 | N24: ne | O24: ne | P24: ano | Q24: ano | R24: 0.78 | S24: 0.9 | T24: 31.12.2027 | U24: 30.9.2029 | V24: =M24/(0.8*D24) -> 0.90820312
A25: 930-2026 | B25: Mimesis Film s.r.o. | C25: Poklad | D25: 550000 | E25: 450000 | F25: =AVERAGE(MK!F64,BS!F64,TF!F64,PK!F64,AT!F64) -> 22.6 | G25: =AVERAGE(MK!G64,BS!G64,TF!G64,PK!G64,AT!G64) -> 7.8 | H25: =AVERAGE(MK!H64,BS!H64,TF!H64,PK!H64,AT!H64) -> 18.4 | I25: =AVERAGE(MK!I64,BS!I64,TF!I64,PK!I64,AT!I64) -> 18.8 | J25: =AVERAGE(MK!J64,BS!J64,TF!J64,PK!J64,AT!J64) -> 8 | K25: =AVERAGE(MK!K64,BS!K64,TF!K64,PK!K64,AT!K64) -> 7 | L25: =SUM(F25:K25) -> 82.6 | M25: 450000 | N25: ne | O25: ne | P25: ano | Q25: ano | R25: 0.82 | S25: 0.9 | T25: 30.6.2028 | U25: 30.9.2029 | V25: =M25/(0.8*D25) -> 1.0227273
A26: 917-2026 | B26: radical empathy s.r.o. | C26: Ticho a hluk | D26: 1020000 | E26: 750000 | F26: =AVERAGE(MK!F51,BS!F51,TF!F51,PK!F51,AT!F51) -> 23.8 | G26: =AVERAGE(MK!G51,BS!G51,TF!G51,PK!G51,AT!G51) -> 7.8 | H26: =AVERAGE(MK!H51,BS!H51,TF!H51,PK!H51,AT!H51) -> 18 | I26: =AVERAGE(MK!I51,BS!I51,TF!I51,PK!I51,AT!I51) -> 17.8 | J26: =AVERAGE(MK!J51,BS!J51,TF!J51,PK!J51,AT!J51) -> 7 | K26: =AVERAGE(MK!K51,BS!K51,TF!K51,PK!K51,AT!K51) -> 8 | L26: =SUM(F26:K26) -> 82.4 | M26: 697500 | N26: ne | O26: ne | P26: ano | Q26: ano | R26: 0.83 | S26: 0.9 | T26: 31.12.2027 | U26: 30.9.2029 | V26: =M26/(0.8*D26) -> 0.85477941
A27: 906-2026 | B27: nutprodukce, s.r.o | C27: Ve věci přihlížení | D27: 1668000 | E27: 750000 | F27: =AVERAGE(MK!F40,BS!F40,TF!F40,PK!F40,AT!F40) -> 23.8 | G27: =AVERAGE(MK!G40,BS!G40,TF!G40,PK!G40,AT!G40) -> 7 | H27: =AVERAGE(MK!H40,BS!H40,TF!H40,PK!H40,AT!H40) -> 18.2 | I27: =AVERAGE(MK!I40,BS!I40,TF!I40,PK!I40,AT!I40) -> 18 | J27: =AVERAGE(MK!J40,BS!J40,TF!J40,PK!J40,AT!J40) -> 7.6 | K27: =AVERAGE(MK!K40,BS!K40,TF!K40,PK!K40,AT!K40) -> 7.6 | L27: =SUM(F27:K27) -> 82.2 | M27: 697500 | N27: ne | O27: ne | P27: ano | Q27: ano | R27: 0.45 | S27: 0.9 | T27: 31.12.2027 | U27: 30.9.2029 | V27: =M27/(0.8*D27) -> 0.52270683
A28: 923-2026 | B28: Somatic Films s.r.o. | C28: Ztracená | D28: 1633334 | E28: 750000 | F28: =AVERAGE(MK!F57,BS!F57,TF!F57,PK!F57,AT!F57) -> 22.8 | G28: =AVERAGE(MK!G57,BS!G57,TF!G57,PK!G57,AT!G57) -> 7 | H28: =AVERAGE(MK!H57,BS!H57,TF!H57,PK!H57,AT!H57) -> 17.2 | I28: =AVERAGE(MK!I57,BS!I57,TF!I57,PK!I57,AT!I57) -> 19 | J28: =AVERAGE(MK!J57,BS!J57,TF!J57,PK!J57,AT!J57) -> 8 | K28: =AVERAGE(MK!K57,BS!K57,TF!K57,PK!K57,AT!K57) -> 8 | L28: =SUM(F28:K28) -> 82 | M28: 697500 | N28: ne | O28: ne | P28: ano | Q28: ano | R28: 0.9 | S28: 0.9 | T28: 31.12.2027 | U28: 30.9.2029 | V28: =M28/(0.8*D28) -> 0.5338008
A29: 898-2026 | B29: Marina Films s.r.o. | C29: Bertha | D29: 1985000 | E29: 750000 | F29: =AVERAGE(MK!F33,BS!F33,TF!F33,PK!F33,AT!F33) -> 22.6 | G29: =AVERAGE(MK!G33,BS!G33,TF!G33,PK!G33,AT!G33) -> 7.2 | H29: =AVERAGE(MK!H33,BS!H33,TF!H33,PK!H33,AT!H33) -> 16.6 | I29: =AVERAGE(MK!I33,BS!I33,TF!I33,PK!I33,AT!I33) -> 19 | J29: =AVERAGE(MK!J33,BS!J33,TF!J33,PK!J33,AT!J33) -> 8 | K29: =AVERAGE(MK!K33,BS!K33,TF!K33,PK!K33,AT!K33) -> 8 | L29: =SUM(F29:K29) -> 81.4 | M29: 697500 | N29: ne | O29: ne | P29: ano | Q29: ano | R29: 0.38 | S29: 0.9 | T29: 31.12.2026 | U29: 30.9.2029 | V29: =M29/(0.8*D29) -> 0.43923174
A30: 900-2026 | B30: CINEPOINT s.r.o. | C30: Arctic Empire | D30: 2287831 | E30: 750000 | F30: =AVERAGE(MK!F35,BS!F35,TF!F35,PK!F35,AT!F35) -> 25.2 | G30: =AVERAGE(MK!G35,BS!G35,TF!G35,PK!G35,AT!G35) -> 8.4 | H30: =AVERAGE(MK!H35,BS!H35,TF!H35,PK!H35,AT!H35) -> 16 | I30: =AVERAGE(MK!I35,BS!I35,TF!I35,PK!I35,AT!I35) -> 16.2 | J30: =AVERAGE(MK!J35,BS!J35,TF!J35,PK!J35,AT!J35) -> 7.2 | K30: =AVERAGE(MK!K35,BS!K35,TF!K35,PK!K35,AT!K35) -> 8 | L30: =SUM(F30:K30) -> 81 | M30: 697500 | N30: ne | O30: ne | P30: ano | Q30: ano | R30: 0.89 | S30: 0.9 | T30: 30.4.2027 | U30: 30.9.2029 | V30: =M30/(0.8*D30) -> 0.3810924
A31: 895-2026 | B31: GPO Platform s.r.o. | C31: Černá skříňka | D31: 930000 | E31: 750000 | F31: =AVERAGE(MK!F30,BS!F30,TF!F30,PK!F30,AT!F30) -> 24.6 | G31: =AVERAGE(MK!G30,BS!G30,TF!G30,PK!G30,AT!G30) -> 7.6 | H31: =AVERAGE(MK!H30,BS!H30,TF!H30,PK!H30,AT!H30) -> 16.6 | I31: =AVERAGE(MK!I30,BS!I30,TF!I30,PK!I30,AT!I30) -> 16 | J31: =AVERAGE(MK!J30,BS!J30,TF!J30,PK!J30,AT!J30) -> 8 | K31: =AVERAGE(MK!K30,BS!K30,TF!K30,PK!K30,AT!K30) -> 7 | L31: =SUM(F31:K31) -> 79.8 | M31: 697500 | N31: ne | O31: ne | P31: ano | Q31: ano | R31: 0.81 | S31: 0.9 | T31: 30.11.2027 | U31: 30.9.2029 | V31: =M31/(0.8*D31) -> 0.9375
A32: 926-2026 | B32: Beginner's Mind s.r.o. | C32: Viktorka | D32: 900000 | E32: 750000 | F32: =AVERAGE(MK!F60,BS!F60,TF!F60,PK!F60,AT!F60) -> 24.2 | G32: =AVERAGE(MK!G60,BS!G60,TF!G60,PK!G60,AT!G60) -> 8 | H32: =AVERAGE(MK!H60,BS!H60,TF!H60,PK!H60,AT!H60) -> 17 | I32: =AVERAGE(MK!I60,BS!I60,TF!I60,PK!I60,AT!I60) -> 16.8 | J32: =AVERAGE(MK!J60,BS!J60,TF!J60,PK!J60,AT!J60) -> 6.8 | K32: =AVERAGE(MK!K60,BS!K60,TF!K60,PK!K60,AT!K60) -> 7 | L32: =SUM(F32:K32) -> 79.8 | M32: 697500 | N32: ne | O32: ne | P32: ano | Q32: ano | R32: 0.83 | S32: 0.9 | T32: 5.10.2028 | U32: 30.9.2029 | V32: =M32/(0.8*D32) -> 0.96875
A33: 921-2026 | B33: Films & Chips s.r.o. | C33: Národní obrození pro mírně pokročilé | D33: 963000 | E33: 750000 | F33: =AVERAGE(MK!F55,BS!F55,TF!F55,PK!F55,AT!F55) -> 24.4 | G33: =AVERAGE(MK!G55,BS!G55,TF!G55,PK!G55,AT!G55) -> 7.4 | H33: =AVERAGE(MK!H55,BS!H55,TF!H55,PK!H55,AT!H55) -> 16.6 | I33: =AVERAGE(MK!I55,BS!I55,TF!I55,PK!I55,AT!I55) -> 15.2 | J33: =AVERAGE(MK!J55,BS!J55,TF!J55,PK!J55,AT!J55) -> 7.8 | K33: =AVERAGE(MK!K55,BS!K55,TF!K55,PK!K55,AT!K55) -> 8 | L33: =SUM(F33:K33) -> 79.4 | M33: 697500 | N33: ne | O33: ne | P33: ano | Q33: ano | R33: 0.85 | S33: 0.9 | T33: 31.12.2027 | U33: 30.9.2029 | V33: =M33/(0.8*D33) -> 0.90537383
A34: 896-2026 | B34: Safe Place Production s.r.o. | C34: Hlad je vypnutý | D34: 1100000 | E34: 750000 | F34: =AVERAGE(MK!F31,BS!F31,TF!F31,PK!F31,AT!F31) -> 22.2 | G34: =AVERAGE(MK!G31,BS!G31,TF!G31,PK!G31,AT!G31) -> 8.2 | H34: =AVERAGE(MK!H31,BS!H31,TF!H31,PK!H31,AT!H31) -> 16.2 | I34: =AVERAGE(MK!I31,BS!I31,TF!I31,PK!I31,AT!I31) -> 17 | J34: =AVERAGE(MK!J31,BS!J31,TF!J31,PK!J31,AT!J31) -> 8 | K34: =AVERAGE(MK!K31,BS!K31,TF!K31,PK!K31,AT!K31) -> 7 | L34: =SUM(F34:K34) -> 78.6 | M34: 697500 | N34: ne | O34: ne | P34: ano | Q34: ano | R34: 0.82 | S34: 0.9 | T34: 31.12.2027 | U34: 30.9.2029 | V34: =M34/(0.8*D34) -> 0.79261364
A35: 910-2026 | B35: Somatic Films s.r.o. | C35: JUNK | D35: 2224300 | E35: 750000 | F35: =AVERAGE(MK!F44,BS!F44,TF!F44,PK!F44,AT!F44) -> 21 | G35: =AVERAGE(MK!G44,BS!G44,TF!G44,PK!G44,AT!G44) -> 7.6 | H35: =AVERAGE(MK!H44,BS!H44,TF!H44,PK!H44,AT!H44) -> 17.8 | I35: =AVERAGE(MK!I44,BS!I44,TF!I44,PK!I44,AT!I44) -> 17.8 | J35: =AVERAGE(MK!J44,BS!J44,TF!J44,PK!J44,AT!J44) -> 7 | K35: =AVERAGE(MK!K44,BS!K44,TF!K44,PK!K44,AT!K44) -> 7 | L35: =SUM(F35:K35) -> 78.2 | M35: 697500 | N35: ne | O35: ne | P35: ano | Q35: ano | R35: 0.9 | S35: 0.9 | T35: 31.12.2027 | U35: 30.9.2029 | V35: =M35/(0.8*D35) -> 0.39197725
A36: 869-2026 | B36: AZN kru s.r.o. | C36: Bears Without Visa | D36: 1023000 | E36: 300000 | F36: =AVERAGE(MK!F22,BS!F22,TF!F22,PK!F22,AT!F22) -> 24.8 | G36: =AVERAGE(MK!G22,BS!G22,TF!G22,PK!G22,AT!G22) -> 7.2 | H36: =AVERAGE(MK!H22,BS!H22,TF!H22,PK!H22,AT!H22) -> 15.6 | I36: =AVERAGE(MK!I22,BS!I22,TF!I22,PK!I22,AT!I22) -> 16 | J36: =AVERAGE(MK!J22,BS!J22,TF!J22,PK!J22,AT!J22) -> 6.8 | K36: =AVERAGE(MK!K22,BS!K22,TF!K22,PK!K22,AT!K22) -> 7.6 | L36: =SUM(F36:K36) -> 78 | M36: 300000 | N36: ano | O36: ano - 30 % | P36: ano | Q36: ano | R36: 0.88 | S36: 0.9 | T36: 30.9.2029 | U36: 30.9.2029 | V36: =M36/(0.8*D36) -> 0.36656891
A37: 881-2026 | B37: Lonely Production s.r.o. | C37: Kauza Bílý gauč | D37: 1700000 | E37: 750000 | F37: =AVERAGE(MK!F24,BS!F24,TF!F24,PK!F24,AT!F24) -> 25.2 | G37: =AVERAGE(MK!G24,BS!G24,TF!G24,PK!G24,AT!G24) -> 8.4 | H37: =AVERAGE(MK!H24,BS!H24,TF!H24,PK!H24,AT!H24) -> 15 | I37: =AVERAGE(MK!I24,BS!I24,TF!I24,PK!I24,AT!I24) -> 14.2 | J37: =AVERAGE(MK!J24,BS!J24,TF!J24,PK!J24,AT!J24) -> 7.2 | K37: =AVERAGE(MK!K24,BS!K24,TF!K24,PK!K24,AT!K24) -> 8 | L37: =SUM(F37:K37) -> 78 | M37: 697500 | N37: ne | O37: ne | P37: ano | Q37: ano | R37: 0.44 | S37: 0.9 | T37: 1.5.2027 | U37: 30.9.2029 | V37: =M37/(0.8*D37) -> 0.51286765
A38: 903-2026 | B38: Pink Productions, s.r.o. | C38: Život s Klausem | D38: 912000 | E38: 750000 | F38: =AVERAGE(MK!F37,BS!F37,TF!F37,PK!F37,AT!F37) -> 19.8 | G38: =AVERAGE(MK!G37,BS!G37,TF!G37,PK!G37,AT!G37) -> 6.8 | H38: =AVERAGE(MK!H37,BS!H37,TF!H37,PK!H37,AT!H37) -> 18.2 | I38: =AVERAGE(MK!I37,BS!I37,TF!I37,PK!I37,AT!I37) -> 17 | J38: =AVERAGE(MK!J37,BS!J37,TF!J37,PK!J37,AT!J37) -> 8 | K38: =AVERAGE(MK!K37,BS!K37,TF!K37,PK!K37,AT!K37) -> 7.2 | L38: =SUM(F38:K38) -> 77 | N38: ne | P38: ano | R38: 0.82 | T38: 30.6.2028 | V38: =M38/(0.8*D38) -> 0
A39: 901-2026 | B39: Punk Film, s.r.o. | C39: Ana Urdunia | D39: 1603000 | E39: 750000 | F39: =AVERAGE(MK!F36,BS!F36,TF!F36,PK!F36,AT!F36) -> 21.4 | G39: =AVERAGE(MK!G36,BS!G36,TF!G36,PK!G36,AT!G36) -> 7 | H39: =AVERAGE(MK!H36,BS!H36,TF!H36,PK!H36,AT!H36) -> 16.8 | I39: =AVERAGE(MK!I36,BS!I36,TF!I36,PK!I36,AT!I36) -> 16 | J39: =AVERAGE(MK!J36,BS!J36,TF!J36,PK!J36,AT!J36) -> 7.8 | K39: =AVERAGE(MK!K36,BS!K36,TF!K36,PK!K36,AT!K36) -> 7.2 | L39: =SUM(F39:K39) -> 76.2 | N39: ne | P39: ano | R39: 0.47 | T39: 31.12.2027 | V39: =M39/(0.8*D39) -> 0
A40: 918-2026 | B40: D1film s.r.o. | C40: Drtivá menšina | D40: 1108000 | E40: 750000 | F40: =AVERAGE(MK!F52,BS!F52,TF!F52,PK!F52,AT!F52) -> 20.6 | G40: =AVERAGE(MK!G52,BS!G52,TF!G52,PK!G52,AT!G52) -> 7.6 | H40: =AVERAGE(MK!H52,BS!H52,TF!H52,PK!H52,AT!H52) -> 16.6 | I40: =AVERAGE(MK!I52,BS!I52,TF!I52,PK!I52,AT!I52) -> 15 | J40: =AVERAGE(MK!J52,BS!J52,TF!J52,PK!J52,AT!J52) -> 7.8 | K40: =AVERAGE(MK!K52,BS!K52,TF!K52,PK!K52,AT!K52) -> 8 | L40: =SUM(F40:K40) -> 75.6 | N40: ne | P40: ano | R40: 0.68 | T40: 30.9.2029 | V40: =M40/(0.8*D40) -> 0
A41: 919-2026 | B41: Somatic Films s.r.o | C41: Unikáme tíze nekonečného nebe | D41: 1500000 | E41: 750000 | F41: =AVERAGE(MK!F53,BS!F53,TF!F53,PK!F53,AT!F53) -> 20.2 | G41: =AVERAGE(MK!G53,BS!G53,TF!G53,PK!G53,AT!G53) -> 7.6 | H41: =AVERAGE(MK!H53,BS!H53,TF!H53,PK!H53,AT!H53) -> 17.4 | I41: =AVERAGE(MK!I53,BS!I53,TF!I53,PK!I53,AT!I53) -> 14.6 | J41: =AVERAGE(MK!J53,BS!J53,TF!J53,PK!J53,AT!J53) -> 8.4 | K41: =AVERAGE(MK!K53,BS!K53,TF!K53,PK!K53,AT!K53) -> 7.2 | L41: =SUM(F41:K41) -> 75.4 | N41: ne | P41: ano | R41: 0.9 | T41: 30.4.2028 | V41: =M41/(0.8*D41) -> 0
...

Sheet MK
A1: Kompletní vývoj dokumentárního díla
A2: Evidenční číslo výzvy: 2026-B-1-3-34 | D2: Cíle podpory audiovize:
A3: Dotační kategorie: Podpora televizních děl | D3: 1. Posílení stability producentských firem a podpora jejich dlouhodobé spolupráce s kreativními týmy.
A4: Dotační okruh: Vývoj českého audiovizuálního díla | D4: 2. Podpora žánrové diverzity v české audiovizi.
A5: Lhůta pro podávání žádostí: 4. 5. 2026–5. 6. 2026 | D5: 3. Podpora debutů a projektů pro různé cílové skupiny.
A6: Finanční alokace: 10 535 800 Kč | D6: 4. Podpora projektů pro lokální trh i pro mezinárodní distribuci.
A7: Lhůta pro dokončení projektu: dle žádosti, nejpozději však do 30. 9. 2029 | D7: 5. Navýšení rozpočtů projektů ve vývoji skrze kofinancování z evropských i lokálních zdrojů.
A8: Forma podpory: investiční dotace
D9: Specifikace dotačního okruhu
D10: Podpora je určena pro kompletní vývoj:
D11: – krátkometrážního nebo celovečerního dokumentárního televizního či kinematografického díla (ve smyslu § 2. odst. 1 písm. b), c) zákona o audiovizi) nebo – dokumentárního televizního díla (ve smyslu § 2. odst. 1 písm. c) zákona o audiovizi) ve formě dokumentární minisérie (2–4 díly) nebo dokumentárního seriálu (5–13 dílů),
D12: která jsou českými audiovizuálními díly (ve smyslu § 2 odst. 1 písm. i) zákona o audiovizi).
D13: Krátkometrážním audiovizuálním dílem se pro účely Státního fondu audiovize (dále jen „Fond“) rozumí dílo o délce do 60 minut včetně. Celovečerním audiovizuálním dílem se pro účely Fondu rozumí dílo se stopáží delší než 60 minut.
D14: Součástí vývoje je v případě dokumentárního filmu práce na treatmentu nebo scénáři, v případě minisérie nebo seriálu na scénáři nebo treatmentu prvních dvou epizod a synopse ostatních epizod a set-upu projektu ve verzi po kompletním vývoji; vytvoření plánu výroby a jeho předpokládaného zajištění, práce na kreativním přístupu k tématu.
D15: Rada si vedle cílů podpory stanoví ve výzvě za cíl podporu efektivnějšího a diverzifikovanějšího spolufinancování projektů z mezinárodních i lokálních zdrojů a podporu umělecké tvorby, různých žánrů a inovativních non-fiction formátů a postupů.
D16: Rada deklaruje, že v této výzvě neurčuje specificky podporu režijních a producentských debutů.
A18: evidenční číslo projektu | B18: název žadatele | C18: název projektu | D18: celkový rozpočet projektu | E18: požadovaná podpora | F18: bodové hodnocení dle tvůrčího a realizačního testu | L18: bodové hodnocení Rada
F19: tvůrčí kritéria | H19: realizační kritéria
F20: Relevance projektu k výzvě | G20: Potenciál pro publikum | H20: Relevance k předchozí činnosti žadatele | I20: Kreativní tým | J20: Realizační strategie a ekonomika projektu | K20: Udržitelnost
F21: 0–30 | G21: 0–10 | H21: 0–20 | I21: 0–20 | J21: 0–10 | K21: 0–10
A22: 869-2026 | B22: AZN kru s.r.o. | C22: Bears Without Visa | D22: 1023000 | E22: 300000 | F22: 25 | G22: 8 | H22: 15 | I22: 15 | J22: 7 | K22: 7 | L22: =SUM(F22:K22) -> 77
A23: 878-2026 | B23: IAM PROLOG s.r.o. | C23: ELIŠKA A ERIKA – JEDEN PŘÍBĚH? | D23: 420000 | E23: 220000 | F23: 16 | G23: 5 | H23: 12 | I23: 15 | J23: 5 | K23: 6 | L23: =SUM(F23:K23) -> 59
A24: 881-2026 | B24: Lonely Production s.r.o. | C24: Kauza Bílý gauč | D24: 1700000 | E24: 750000 | F24: 25 | G24: 8 | H24: 16 | I24: 14 | J24: 7 | K24: 8 | L24: =SUM(F24:K24) -> 78
A25: 882-2026 | B25: Bledě modrá tečka s.r.o. | C25: Indiánský dar | D25: 635000 | E25: 565000 | F25: 12 | G25: 5 | H25: 10 | I25: 10 | J25: 6 | K25: 6 | L25: =SUM(F25:K25) -> 49
A26: 883-2026 | B26: CINEART TV Prague s.r.o. | C26: Ticho po sirénách | D26: 1005000 | E26: 625000 | F26: 23 | G26: 8 | H26: 15 | I26: 14 | J26: 6 | K26: 8 | L26: =SUM(F26:K26) -> 74
A27: 885-2026 | B27: NYASA FILMS INTERNATIONAL, z.ú. | C27: KULTURA JE DÁLNICE | D27: 1355000 | E27: 605000 | F27: 16 | G27: 7 | H27: 11 | I27: 17 | J27: 6 | K27: 7 | L27: =SUM(F27:K27) -> 64
A28: 893-2026 | B28: Films & Chips s.r.o. | C28: Vyjednavač | D28: 1065000 | E28: 750000 | F28: 20 | G28: 8 | H28: 16 | I28: 15 | J28: 7 | K28: 8 | L28: =SUM(F28:K28) -> 74
A29: 894-2026 | B29: FHBV s.r.o. | C29: All-in (O všechno) | D29: 512070 | E29: 350000 | F29: 20 | G29: 9 | H29: 8 | I29: 12 | J29: 7 | K29: 6 | L29: =SUM(F29:K29) -> 62
A30: 895-2026 | B30: GPO Platform s.r.o. | C30: Černá skříňka | D30: 930000 | E30: 750000 | F30: 24 | G30: 8 | H30: 16 | I30: 16 | J30: 8 | K30: 7 | L30: =SUM(F30:K30) -> 79
A31: 896-2026 | B31: Safe Place Production s.r.o. | C31: Hlad je vypnutý | D31: 1100000 | E31: 750000 | F31: 24 | G31: 8 | H31: 16 | I31: 17 | J31: 8 | K31: 7 | L31: =SUM(F31:K31) -> 80
A32: 897-2026 | B32: Hypermarket Film s.r.o. | C32: Obyčejný život - vývoj | D32: 1600000 | E32: 750000 | F32: 26 | G32: 8 | H32: 20 | I32: 17 | J32: 9 | K32: 8 | L32: =SUM(F32:K32) -> 88
A33: 898-2026 | B33: Marina Films s.r.o. | C33: Bertha | D33: 1985000 | E33: 750000 | F33: 22 | G33: 8 | H33: 17 | I33: 19 | J33: 8 | K33: 8 | L33: =SUM(F33:K33) -> 82
... A66: 932-2026 | B66: Van&Haus s.r.o. | C66: Planeta ticho | D66: 1010000 | E66: 420000 | F66: 16 | G66: 6 | H66: 14 | I66: 11 | J66: 6 | K66: 6 | L66: =SUM(F66:K66) -> 59
D67: =SUM(D22:D66) -> 55729466 | E67: =SUM(E22:E66) -> 30065000

Sheet BS
A1: Kompletní vývoj dokumentárního díla
A2: Evidenční číslo výzvy: 2026-B-1-3-34 | D2: Cíle podpory audiovize:
A3: Dotační kategorie: Podpora televizních děl | D3: 1. Posílení stability producentských firem a podpora jejich dlouhodobé spolupráce s kreativními týmy.
A4: Dotační okruh: Vývoj českého audiovizuálního díla | D4: 2. Podpora žánrové diverzity v české audiovizi.
A5: Lhůta pro podávání žádostí: 4. 5. 2026–5. 6. 2026 | D5: 3. Podpora debutů a projektů pro různé cílové skupiny.
A6: Finanční alokace: 10 535 800 Kč | D6: 4. Podpora projektů pro lokální trh i pro mezinárodní distribuci.
A7: Lhůta pro dokončení projektu: dle žádosti, nejpozději však do 30. 9. 2029 | D7: 5. Navýšení rozpočtů projektů ve vývoji skrze kofinancování z evropských i lokálních zdrojů.
A8: Forma podpory: investiční dotace
D9: Specifikace dotačního okruhu
D10: Podpora je určena pro kompletní vývoj:
D11: – krátkometrážního nebo celovečerního dokumentárního televizního či kinematografického díla (ve smyslu § 2. odst. 1 písm. b), c) zákona o audiovizi) nebo – dokumentárního televizního díla (ve smyslu § 2. odst. 1 písm. c) zákona o audiovizi) ve formě dokumentární minisérie (2–4 díly) nebo dokumentárního seriálu (5–13 dílů),
D12: která jsou českými audiovizuálními díly (ve smyslu § 2 odst. 1 písm. i) zákona o audiovizi).
D13: Krátkometrážním audiovizuálním dílem se pro účely Státního fondu audiovize (dále jen „Fond“) rozumí dílo o délce do 60 minut včetně. Celovečerním audiovizuálním dílem se pro účely Fondu rozumí dílo se stopáží delší než 60 minut.
D14: Součástí vývoje je v případě dokumentárního filmu práce na treatmentu nebo scénáři, v případě minisérie nebo seriálu na scénáři nebo treatmentu prvních dvou epizod a synopse ostatních epizod a set-upu projektu ve verzi po kompletním vývoji; vytvoření plánu výroby a jeho předpokládaného zajištění, práce na kreativním přístupu k tématu.
D15: Rada si vedle cílů podpory stanoví ve výzvě za cíl podporu efektivnějšího a diverzifikovanějšího spolufinancování projektů z mezinárodních i lokálních zdrojů a podporu umělecké tvorby, různých žánrů a inovativních non-fiction formátů a postupů.
D16: Rada deklaruje, že v této výzvě neurčuje specificky podporu režijních a producentských debutů.
A18: evidenční číslo projektu | B18: název žadatele | C18: název projektu | D18: celkový rozpočet projektu | E18: požadovaná podpora | F18: bodové hodnocení dle tvůrčího a realizačního testu | L18: bodové hodnocení Rada
F19: tvůrčí kritéria | H19: realizační kritéria
F20: Relevance projektu k výzvě | G20: Potenciál pro publikum | H20: Relevance k předchozí činnosti žadatele | I20: Kreativní tým | J20: Realizační strategie a ekonomika projektu | K20: Udržitelnost
F21: 0–30 | G21: 0–10 | H21: 0–20 | I21: 0–20 | J21: 0–10 | K21: 0–10
A22: 869-2026 | B22: AZN kru s.r.o. | C22: Bears Without Visa | D22: 1023000 | E22: 300000 | F22: 25 | G22: 8 | H22: 16 | I22: 18 | J22: 6 | K22: 8 | L22: =SUM(F22:K22) -> 81
A23: 878-2026 | B23: IAM PROLOG s.r.o. | C23: ELIŠKA A ERIKA – JEDEN PŘÍBĚH? | D23: 420000 | E23: 220000 | F23: 17 | G23: 5 | H23: 14 | I23: 11 | J23: 4 | K23: 6 | L23: =SUM(F23:K23) -> 57
A24: 881-2026 | B24: Lonely Production s.r.o. | C24: Kauza Bílý gauč | D24: 1700000 | E24: 750000 | F24: 25 | G24: 9 | H24: 14 | I24: 15 | J24: 7 | K24: 8 | L24: =SUM(F24:K24) -> 78
A25: 882-2026 | B25: Bledě modrá tečka s.r.o. | C25: Indiánský dar | D25: 635000 | E25: 565000 | F25: 12 | G25: 4 | H25: 10 | I25: 10 | J25: 5 | K25: 6 | L25: =SUM(F25:K25) -> 47
A26: 883-2026 | B26: CINEART TV Prague s.r.o. | C26: Ticho po sirénách | D26: 1005000 | E26: 625000 | F26: 21 | G26: 6 | H26: 17 | I26: 16 | J26: 6 | K26: 5 | L26: =SUM(F26:K26) -> 71
A27: 885-2026 | B27: NYASA FILMS INTERNATIONAL, z.ú. | C27: KULTURA JE DÁLNICE | D27: 1355000 | E27: 605000 | F27: 15 | G27: 6 | H27: 11 | I27: 16 | J27: 6 | K27: 8 | L27: =SUM(F27:K27) -> 62
A28: 893-2026 | B28: Films & Chips s.r.o. | C28: Vyjednavač | D28: 1065000 | E28: 750000 | F28: 17 | G28: 8 | H28: 17 | I28: 18 | J28: 8 | K28: 9 | L28: =SUM(F28:K28) -> 77
A29: 894-2026 | B29: FHBV s.r.o. | C29: All-in (O všechno) | D29: 512070 | E29: 350000 | F29: 20 | G29: 6 | H29: 7 | I29: 14 | J29: 6 | K29: 5 | L29: =SUM(F29:K29) -> 58
A30: 895-2026 | B30: GPO Platform s.r.o. | C30: Černá skříňka | D30: 930000 | E30: 750000 | F30: 24 | G30: 7 | H30: 18 | I30: 16 | J30: 8 | K30: 7 | L30: =SUM(F30:K30) -> 80
A31: 896-2026 | B31: Safe Place Production s.r.o. | C31: Hlad je vypnutý | D31: 1100000 | E31: 750000 | F31: 18 | G31: 7 | H31: 17 | I31: 17 | J31: 8 | K31: 7 | L31: =SUM(F31:K31) -> 74
A32: 897-2026 | B32: Hypermarket Film s.r.o. | C32: Obyčejný život - vývoj | D32: 1600000 | E32: 750000 | F32: 25 | G32: 8 | H32: 20 | I32: 17 | J32: 9 | K32: 8 | L32: =SUM(F32:K32) -> 87
A33: 898-2026 | B33: Marina Films s.r.o. | C33: Bertha | D33: 1985000 | E33: 750000 | F33: 22 | G33: 7 | H33: 16 | I33: 19 | J33: 8 | K33: 8 | L33: =SUM(F33:K33) -> 80
... A66: 932-2026 | B66: Van&Haus s.r.o. | C66: Planeta ticho | D66: 1010000 | E66: 420000 | F66: 16 | G66: 6 | H66: 14 | I66: 11 | J66: 6 | K66: 6 | L66: =SUM(F66:K66) -> 59
D67: =SUM(D22:D66) -> 55729466 | E67: =SUM(E22:E66) -> 30065000

Sheet TF
A1: Kompletní vývoj dokumentárního díla
A2: Evidenční číslo výzvy: 2026-B-1-3-34 | D2: Cíle podpory audiovize:
A3: Dotační kategorie: Podpora televizních děl | D3: 1. Posílení stability producentských firem a podpora jejich dlouhodobé spolupráce s kreativními týmy.
A4: Dotační okruh: Vývoj českého audiovizuálního díla | D4: 2. Podpora žánrové diverzity v české audiovizi.
A5: Lhůta pro podávání žádostí: 4. 5. 2026–5. 6. 2026 | D5: 3. Podpora debutů a projektů pro různé cílové skupiny.
A6: Finanční alokace: 10 535 800 Kč | D6: 4. Podpora projektů pro lokální trh i pro mezinárodní distribuci.
A7: Lhůta pro dokončení projektu: dle žádosti, nejpozději však do 30. 9. 2029 | D7: 5. Navýšení rozpočtů projektů ve vývoji skrze kofinancování z evropských i lokálních zdrojů.
A8: Forma podpory: investiční dotace
D9: Specifikace dotačního okruhu
D10: Podpora je určena pro kompletní vývoj:
D11: – krátkometrážního nebo celovečerního dokumentárního televizního či kinematografického díla (ve smyslu § 2. odst. 1 písm. b), c) zákona o audiovizi) nebo – dokumentárního televizního díla (ve smyslu § 2. odst. 1 písm. c) zákona o audiovizi) ve formě dokumentární minisérie (2–4 díly) nebo dokumentárního seriálu (5–13 dílů),
D12: která jsou českými audiovizuálními díly (ve smyslu § 2 odst. 1 písm. i) zákona o audiovizi).
D13: Krátkometrážním audiovizuálním dílem se pro účely Státního fondu audiovize (dále jen „Fond“) rozumí dílo o délce do 60 minut včetně. Celovečerním audiovizuálním dílem se pro účely Fondu rozumí dílo se stopáží delší než 60 minut.
D14: Součástí vývoje je v případě dokumentárního filmu práce na treatmentu nebo scénáři, v případě minisérie nebo seriálu na scénáři nebo treatmentu prvních dvou epizod a synopse ostatních epizod a set-upu projektu ve verzi po kompletním vývoji; vytvoření plánu výroby a jeho předpokládaného zajištění, práce na kreativním přístupu k tématu.
D15: Rada si vedle cílů podpory stanoví ve výzvě za cíl podporu efektivnějšího a diverzifikovanějšího spolufinancování projektů z mezinárodních i lokálních zdrojů a podporu umělecké tvorby, různých žánrů a inovativních non-fiction formátů a postupů.
D16: Rada deklaruje, že v této výzvě neurčuje specificky podporu režijních a producentských debutů.
A18: evidenční číslo projektu | B18: název žadatele | C18: název projektu | D18: celkový rozpočet projektu | E18: požadovaná podpora | F18: bodové hodnocení dle tvůrčího a realizačního testu | L18: bodové hodnocení Rada
F19: tvůrčí kritéria | H19: realizační kritéria
F20: Relevance projektu k výzvě | G20: Potenciál pro publikum | H20: Relevance k předchozí činnosti žadatele | I20: Kreativní tým | J20: Realizační strategie a ekonomika projektu | K20: Udržitelnost
F21: 0–30 | G21: 0–10 | H21: 0–20 | I21: 0–20 | J21: 0–10 | K21: 0–10
A22: 869-2026 | B22: AZN kru s.r.o. | C22: Bears Without Visa | D22: 1023000 | E22: 300000 | F22: 25 | G22: 7 | H22: 16 | I22: 15 | J22: 7 | K22: 8 | L22: =SUM(F22:K22) -> 78
A23: 878-2026 | B23: IAM PROLOG s.r.o. | C23: ELIŠKA A ERIKA – JEDEN PŘÍBĚH? | D23: 420000 | E23: 220000 | F23: 17 | G23: 5 | H23: 12 | I23: 14 | J23: 5 | K23: 7 | L23: =SUM(F23:K23) -> 60
A24: 881-2026 | B24: Lonely Production s.r.o. | C24: Kauza Bílý gauč | D24: 1700000 | E24: 750000 | F24: 25 | G24: 8 | H24: 15 | I24: 14 | J24: 7 | K24: 8 | L24: =SUM(F24:K24) -> 77
A25: 882-2026 | B25: Bledě modrá tečka s.r.o. | C25: Indiánský dar | D25: 635000 | E25: 565000 | F25: 12 | G25: 5 | H25: 10 | I25: 10 | J25: 6 | K25: 6 | L25: =SUM(F25:K25) -> 49
A26: 883-2026 | B26: CINEART TV Prague s.r.o. | C26: Ticho po sirénách | D26: 1005000 | E26: 625000 | F26: 23 | G26: 7 | H26: 16 | I26: 14 | J26: 6 | K26: 7 | L26: =SUM(F26:K26) -> 73
A27: 885-2026 | B27: NYASA FILMS INTERNATIONAL, z.ú. | C27: KULTURA JE DÁLNICE | D27: 1355000 | E27: 605000 | F27: 15 | G27: 7 | H27: 12 | I27: 16 | J27: 6 | K27: 7 | L27: =SUM(F27:K27) -> 63
A28: 893-2026 | B28: Films & Chips s.r.o. | C28: Vyjednavač | D28: 1065000 | E28: 750000 | F28: 19 | G28: 6 | H28: 17 | I28: 16 | J28: 8 | K28: 8 | L28: =SUM(F28:K28) -> 74
A29: 894-2026 | B29: FHBV s.r.o. | C29: All-in (O všechno) | D29: 512070 | E29: 350000 | F29: 20 | G29: 9 | H29: 8 | I29: 12 | J29: 6 | K29: 6 | L29: =SUM(F29:K29) -> 61
A30: 895-2026 | B30: GPO Platform s.r.o. | C30: Černá skříňka | D30: 930000 | E30: 750000 | F30: 25 | G30: 7 | H30: 16 | I30: 16 | J30: 8 | K30: 7 | L30: =SUM(F30:K30) -> 79
A31: 896-2026 | B31: Safe Place Production s.r.o. | C31: Hlad je vypnutý | D31: 1100000 | E31: 750000 | F31: 23 | G31: 9 | H31: 16 | I31: 17 | J31: 8 | K31: 7 | L31: =SUM(F31:K31) -> 80
A32: 897-2026 | B32: Hypermarket Film s.r.o. | C32: Obyčejný život - vývoj | D32: 1600000 | E32: 750000 | F32: 25 | G32: 8 | H32: 20 | I32: 17 | J32: 9 | K32: 8 | L32: =SUM(F32:K32) -> 87
A33: 898-2026 | B33: Marina Films s.r.o. | C33: Bertha | D33: 1985000 | E33: 750000 | F33: 23 | G33: 7 | H33: 16 | I33: 19 | J33: 8 | K33: 8 | L33: =SUM(F33:K33) -> 81
... A66: 932-2026 | B66: Van&Haus s.r.o. | C66: Planeta ticho | D66: 1010000 | E66: 420000 | F66: 17 | G66: 6 | H66: 14 | I66: 11 | J66: 6 | K66: 6 | L66: =SUM(F66:K66) -> 60
D67: =SUM(D22:D66) -> 55729466 | E67: =SUM(E22:E66) -> 30065000

Sheet PK
A1: Kompletní vývoj dokumentárního díla
A2: Evidenční číslo výzvy: 2026-B-1-3-34 | D2: Cíle podpory audiovize:
A3: Dotační kategorie: Podpora televizních děl | D3: 1. Posílení stability producentských firem a podpora jejich dlouhodobé spolupráce s kreativními týmy.
A4: Dotační okruh: Vývoj českého audiovizuálního díla | D4: 2. Podpora žánrové diverzity v české audiovizi.
A5: Lhůta pro podávání žádostí: 4. 5. 2026–5. 6. 2026 | D5: 3. Podpora debutů a projektů pro různé cílové skupiny.
A6: Finanční alokace: 10 535 800 Kč | D6: 4. Podpora projektů pro lokální trh i pro mezinárodní distribuci.
A7: Lhůta pro dokončení projektu: dle žádosti, nejpozději však do 30. 9. 2029 | D7: 5. Navýšení rozpočtů projektů ve vývoji skrze kofinancování z evropských i lokálních zdrojů.
A8: Forma podpory: investiční dotace
D9: Specifikace dotačního okruhu
D10: Podpora je určena pro kompletní vývoj:
D11: – krátkometrážního nebo celovečerního dokumentárního televizního či kinematografického díla (ve smyslu § 2. odst. 1 písm. b), c) zákona o audiovizi) nebo – dokumentárního televizního díla (ve smyslu § 2. odst. 1 písm. c) zákona o audiovizi) ve formě dokumentární minisérie (2–4 díly) nebo dokumentárního seriálu (5–13 dílů),
D12: která jsou českými audiovizuálními díly (ve smyslu § 2 odst. 1 písm. i) zákona o audiovizi).
D13: Krátkometrážním audiovizuálním dílem se pro účely Státního fondu audiovize (dále jen „Fond“) rozumí dílo o délce do 60 minut včetně. Celovečerním audiovizuálním dílem se pro účely Fondu rozumí dílo se stopáží delší než 60 minut.
D14: Součástí vývoje je v případě dokumentárního filmu práce na treatmentu nebo scénáři, v případě minisérie nebo seriálu na scénáři nebo treatmentu prvních dvou epizod a synopse ostatních epizod a set-upu projektu ve verzi po kompletním vývoji; vytvoření plánu výroby a jeho předpokládaného zajištění, práce na kreativním přístupu k tématu.
D15: Rada si vedle cílů podpory stanoví ve výzvě za cíl podporu efektivnějšího a diverzifikovanějšího spolufinancování projektů z mezinárodních i lokálních zdrojů a podporu umělecké tvorby, různých žánrů a inovativních non-fiction formátů a postupů.
D16: Rada deklaruje, že v této výzvě neurčuje specificky podporu režijních a producentských debutů.
A18: evidenční číslo projektu | B18: název žadatele | C18: název projektu | D18: celkový rozpočet projektu | E18: požadovaná podpora | F18: bodové hodnocení dle tvůrčího a realizačního testu | L18: bodové hodnocení Rada
F19: tvůrčí kritéria | H19: realizační kritéria
F20: Relevance projektu k výzvě | G20: Potenciál pro publikum | H20: Relevance k předchozí činnosti žadatele | I20: Kreativní tým | J20: Realizační strategie a ekonomika projektu | K20: Udržitelnost
F21: 0–30 | G21: 0–10 | H21: 0–20 | I21: 0–20 | J21: 0–10 | K21: 0–10
A22: 869-2026 | B22: AZN kru s.r.o. | C22: Bears Without Visa | D22: 1023000 | E22: 300000 | F22: 24 | G22: 6 | H22: 16 | I22: 16 | J22: 7 | K22: 7 | L22: =SUM(F22:K22) -> 76
A23: 878-2026 | B23: IAM PROLOG s.r.o. | C23: ELIŠKA A ERIKA – JEDEN PŘÍBĚH? | D23: 420000 | E23: 220000 | F23: 15 | G23: 4 | H23: 10 | I23: 12 | J23: 6 | K23: 6 | L23: =SUM(F23:K23) -> 53
A24: 881-2026 | B24: Lonely Production s.r.o. | C24: Kauza Bílý gauč | D24: 1700000 | E24: 750000 | F24: 26 | G24: 9 | H24: 15 | I24: 13 | J24: 7 | K24: 8 | L24: =SUM(F24:K24) -> 78
A25: 882-2026 | B25: Bledě modrá tečka s.r.o. | C25: Indiánský dar | D25: 635000 | E25: 565000 | F25: 11 | G25: 5 | H25: 10 | I25: 9 | J25: 6 | K25: 6 | L25: =SUM(F25:K25) -> 47
A26: 883-2026 | B26: CINEART TV Prague s.r.o. | C26: Ticho po sirénách | D26: 1005000 | E26: 625000 | F26: 21 | G26: 7 | H26: 16 | I26: 16 | J26: 6 | K26: 7 | L26: =SUM(F26:K26) -> 73
A27: 885-2026 | B27: NYASA FILMS INTERNATIONAL, z.ú. | C27: KULTURA JE DÁLNICE | D27: 1355000 | E27: 605000 | F27: 15 | G27: 5 | H27: 11 | I27: 17 | J27: 7 | K27: 7 | L27: =SUM(F27:K27) -> 62
A28: 893-2026 | B28: Films & Chips s.r.o. | C28: Vyjednavač | D28: 1065000 | E28: 750000 | F28: 19 | G28: 8 | H28: 16 | I28: 16 | J28: 7 | K28: 8 | L28: =SUM(F28:K28) -> 74
A29: 894-2026 | B29: FHBV s.r.o. | C29: All-in (O všechno) | D29: 512070 | E29: 350000 | F29: 18 | G29: 7 | H29: 9 | I29: 12 | J29: 7 | K29: 6 | L29: =SUM(F29:K29) -> 59
A30: 895-2026 | B30: GPO Platform s.r.o. | C30: Černá skříňka | D30: 930000 | E30: 750000 | F30: 26 | G30: 8 | H30: 17 | I30: 16 | J30: 8 | K30: 7 | L30: =SUM(F30:K30) -> 82
A31: 896-2026 | B31: Safe Place Production s.r.o. | C31: Hlad je vypnutý | D31: 1100000 | E31: 750000 | F31: 24 | G31: 9 | H31: 16 | I31: 17 | J31: 8 | K31: 7 | L31: =SUM(F31:K31) -> 81
A32: 897-2026 | B32: Hypermarket Film s.r.o. | C32: Obyčejný život - vývoj | D32: 1600000 | E32: 750000 | F32: 26 | G32: 8 | H32: 20 | I32: 17 | J32: 9 | K32: 8 | L32: =SUM(F32:K32) -> 88
A33: 898-2026 | B33: Marina Films s.r.o. | C33: Bertha | D33: 1985000 | E33: 750000 | F33: 23 | G33: 7 | H33: 17 | I33: 19 | J33: 8 | K33: 8 | L33: =SUM(F33:K33) -> 82
... A66: 932-2026 | B66: Van&Haus s.r.o. | C66: Planeta ticho | D66: 1010000 | E66: 420000 | F66: 17 | G66: 6 | H66: 14 | I66: 11 | J66: 6 | K66: 6 | L66: =SUM(F66:K66) -> 60
D67: =SUM(D22:D66) -> 55729466 | E67: =SUM(E22:E66) -> 30065000

Sheet AT
A1: Kompletní vývoj dokumentárního díla
A2: Evidenční číslo výzvy: 2026-B-1-3-34 | D2: Cíle podpory audiovize:
A3: Dotační kategorie: Podpora televizních děl | D3: 1. Posílení stability producentských firem a podpora jejich dlouhodobé spolupráce s kreativními týmy.
A4: Dotační okruh: Vývoj českého audiovizuálního díla | D4: 2. Podpora žánrové diverzity v české audiovizi.
A5: Lhůta pro podávání žádostí: 4. 5. 2026–5. 6. 2026 | D5: 3. Podpora debutů a projektů pro různé cílové skupiny.
A6: Finanční alokace: 10 535 800 Kč | D6: 4. Podpora projektů pro lokální trh i pro mezinárodní distribuci.
A7: Lhůta pro dokončení projektu: dle žádosti, nejpozději však do 30. 9. 2029 | D7: 5. Navýšení rozpočtů projektů ve vývoji skrze kofinancování z evropských i lokálních zdrojů.
A8: Forma podpory: investiční dotace
D9: Specifikace dotačního okruhu
D10: Podpora je určena pro kompletní vývoj:
D11: – krátkometrážního nebo celovečerního dokumentárního televizního či kinematografického díla (ve smyslu § 2. odst. 1 písm. b), c) zákona o audiovizi) nebo – dokumentárního televizního díla (ve smyslu § 2. odst. 1 písm. c) zákona o audiovizi) ve formě dokumentární minisérie (2–4 díly) nebo dokumentárního seriálu (5–13 dílů),
D12: která jsou českými audiovizuálními díly (ve smyslu § 2 odst. 1 písm. i) zákona o audiovizi).
D13: Krátkometrážním audiovizuálním dílem se pro účely Státního fondu audiovize (dále jen „Fond“) rozumí dílo o délce do 60 minut včetně. Celovečerním audiovizuálním dílem se pro účely Fondu rozumí dílo se stopáží delší než 60 minut.
D14: Součástí vývoje je v případě dokumentárního filmu práce na treatmentu nebo scénáři, v případě minisérie nebo seriálu na scénáři nebo treatmentu prvních dvou epizod a synopse ostatních epizod a set-upu projektu ve verzi po kompletním vývoji; vytvoření plánu výroby a jeho předpokládaného zajištění, práce na kreativním přístupu k tématu.
D15: Rada si vedle cílů podpory stanoví ve výzvě za cíl podporu efektivnějšího a diverzifikovanějšího spolufinancování projektů z mezinárodních i lokálních zdrojů a podporu umělecké tvorby, různých žánrů a inovativních non-fiction formátů a postupů.
D16: Rada deklaruje, že v této výzvě neurčuje specificky podporu režijních a producentských debutů.
A18: evidenční číslo projektu | B18: název žadatele | C18: název projektu | D18: celkový rozpočet projektu | E18: požadovaná podpora | F18: bodové hodnocení dle tvůrčího a realizačního testu | L18: bodové hodnocení Rada
F19: tvůrčí kritéria | H19: realizační kritéria
F20: Relevance projektu k výzvě | G20: Potenciál pro publikum | H20: Relevance k předchozí činnosti žadatele | I20: Kreativní tým | J20: Realizační strategie a ekonomika projektu | K20: Udržitelnost
F21: 0–30 | G21: 0–10 | H21: 0–20 | I21: 0–20 | J21: 0–10 | K21: 0–10
A22: 869-2026 | B22: AZN kru s.r.o. | C22: Bears Without Visa | D22: 1023000 | E22: 300000 | F22: 25 | G22: 7 | H22: 15 | I22: 16 | J22: 7 | K22: 8 | L22: =SUM(F22:K22) -> 78
A23: 878-2026 | B23: IAM PROLOG s.r.o. | C23: ELIŠKA A ERIKA – JEDEN PŘÍBĚH? | D23: 420000 | E23: 220000 | F23: 17 | G23: 5 | H23: 12 | I23: 14 | J23: 5 | K23: 7 | L23: =SUM(F23:K23) -> 60
A24: 881-2026 | B24: Lonely Production s.r.o. | C24: Kauza Bílý gauč | D24: 1700000 | E24: 750000 | F24: 25 | G24: 8 | H24: 15 | I24: 15 | J24: 8 | K24: 8 | L24: =SUM(F24:K24) -> 79
A25: 882-2026 | B25: Bledě modrá tečka s.r.o. | C25: Indiánský dar | D25: 635000 | E25: 565000 | F25: 12 | G25: 6 | H25: 10 | I25: 10 | J25: 6 | K25: 7 | L25: =SUM(F25:K25) -> 51
A26: 883-2026 | B26: CINEART TV Prague s.r.o. | C26: Ticho po sirénách | D26: 1005000 | E26: 625000 | F26: 22 | G26: 7 | H26: 16 | I26: 14 | J26: 7 | K26: 8 | L26: =SUM(F26:K26) -> 74
A27: 885-2026 | B27: NYASA FILMS INTERNATIONAL, z.ú. | C27: KULTURA JE DÁLNICE | D27: 1355000 | E27: 605000 | F27: 16 | G27: 6 | H27: 12 | I27: 16 | J27: 6 | K27: 7 | L27: =SUM(F27:K27) -> 63
A28: 893-2026 | B28: Films & Chips s.r.o. | C28: Vyjednavač | D28: 1065000 | E28: 750000 | F28: 21 | G28: 7 | H28: 16 | I28: 16 | J28: 7 | K28: 8 | L28: =SUM(F28:K28) -> 75
A29: 894-2026 | B29: FHBV s.r.o. | C29: All-in (O všechno) | D29: 512070 | E29: 350000 | F29: 20 | G29: 7 | H29: 7 | I29: 12 | J29: 7 | K29: 7 | L29: =SUM(F29:K29) -> 60
A30: 895-2026 | B30: GPO Platform s.r.o. | C30: Černá skříňka | D30: 930000 | E30: 750000 | F30: 24 | G30: 8 | H30: 16 | I30: 16 | J30: 8 | K30: 7 | L30: =SUM(F30:K30) -> 79
A31: 896-2026 | B31: Safe Place Production s.r.o. | C31: Hlad je vypnutý | D31: 1100000 | E31: 750000 | F31: 22 | G31: 8 | H31: 16 | I31: 17 | J31: 8 | K31: 7 | L31: =SUM(F31:K31) -> 78
A32: 897-2026 | B32: Hypermarket Film s.r.o. | C32: Obyčejný život - vývoj | D32: 1600000 | E32: 750000 | F32: 25 | G32: 8 | H32: 19 | I32: 15 | J32: 9 | K32: 8 | L32: =SUM(F32:K32) -> 84
A33: 898-2026 | B33: Marina Films s.r.o. | C33: Bertha | D33: 1985000 | E33: 750000 | F33: 23 | G33: 7 | H33: 17 | I33: 19 | J33: 8 | K33: 8 | L33: =SUM(F33:K33) -> 82
... A66: 932-2026 | B66: Van&Haus s.r.o. | C66: Planeta ticho | D66: 1010000 | E66: 420000 | F66: 17 | G66: 6 | H66: 14 | I66: 11 | J66: 6 | K66: 7 | L66: =SUM(F66:K66) -> 61
D67: =SUM(D22:D66) -> 55729466 | E67: =SUM(E22:E66) -> 30065000
