Workbook

Sheet Výroba animovaneho filmu
A1: Výroba animovaného filmu
A2: Evidenční číslo výzvy: 2026-C-2-3-35 | D2: Cíle podpory audiovize:
A3: Dotační kategorie: Podpora animovaných audiovizuálních děl a videoher | D3: 1. Posílení stability producentských firem a podpora jejich dlouhodobé spolupráce s kreativními týmy.
A4: Dotační okruh: Výroba českého audiovizuálního díla | D4: 2. Podpora žánrové diverzity v české audiovizi, podpora debutů a projektů pro různé cílové skupiny.
A5: Lhůta pro podávání žádostí: 4. 5. 2026–3. 6. 2026 | D5: 3. Podpora projektů pro lokální trh i pro mezinárodní distribuci.
A6: Finanční alokace: 38 503 000 Kč | D6: 4. Podpora mezinárodních koprodukcí českých audiovizuálních děl, podpora exportu českých audiovizuálních děl.
A7: Lhůta pro dokončení projektu: dle žádosti, nejpozději však do 30. 6. 2033
A8: Forma podpory: investiční dotace
D9: Specifikace dotačního okruhu
D10: Podpora je určena pro celovečerní nebo krátkometrážní animovaná česká audiovizuální díla (ve smyslu § 2 odst. 1 písm. e) a písm. i) zákona o audiovizi), která splňují tyto podmínky:
D11: 1. České audiovizuální dílo se 100% podílem výrobce nebo koproducentů na financování celkových výrobních nákladů, kteří mají místo podnikání, místo trvalého pobytu nebo sídlo na území České republiky nebo
D12: 2. České audiovizuální dílo, na jehož výrobě se koproducenti s místem podnikání, místem trvalého pobytu nebo sídlem na území České republiky, podílí společně s koproducentem nebo koproducenty, kteří mají místo podnikání, místo trvalého pobytu nebo sídlo mimo území České republiky, a přitom platí, že: – U dvoustranné koprodukce musí být česká finanční účast na celkových výrobních nákladech projektu 30 % nebo vyšší – U třístranné a vícestranné koprodukce musí být podíl české finanční účasti na celkových výrobních nákladech projektu 15 % nebo vyšší.
D13: Animovaným dílem se pro účely kategorie podpory animovaných audiovizuálních děl a videoher rozumí dílo 100% animované, tj. bez kontinuálního záznamu živé akce.
D14: Krátkometrážním audiovizuálním dílem se pro účely Státního fondu audiovize (dále jen „Fond“) rozumí dílo o délce do 60 minut včetně, celovečerním audiovizuálním dílem se pro účely Fondu rozumí dílo se stopáží delší než 60 minut.
D15: Rada deklaruje, že v této výzvě podpoří min. 2 režijní a/nebo producentské debuty. Rada považuje výzvu za vhodnou pro krátkometrážní a/nebo studentské projekty. Rada deklaruje, že v této výzvě podpoří min. 4 krátkometrážní animované filmy. Cílové hodnoty nebude muset Rada dodržet, ale pokud se tak stane, bude muset své rozhodnutí zdůvodnit.
D16: Rada deklaruje, že bude jen ve výjimečných případech podporovat projekty samostatně žádajících fyzických osob. Považuje takové projekty za rizikovější.
A18: evidenční číslo projektu | B18: název žadatele | C18: název projektu | D18: celkový rozpočet projektu | E18: požadovaná podpora | F18: bodové hodnocení dle tvůrčího a realizačního testu | L18: bodové hodnocení Rada | M18: výše podpory | N18: žadatel – komplexní dílo ano/ne | O18: Rada – komplexní dílo ano/ne | P18: žadatel – náročné audiovizuální dílo ano/ne | Q18: Rada – náročné audiovizuální dílo ano/ne | R18: žadatel – intenzita podpory % | S18: Rada – intenzita podpory % | T18: žadatel – datum dokončení projektu | U18: Rada – lhůta pro dokončení | V18: maximální podíl podpory na celkových nákladech
F19: tvůrčí kritéria | H19: realizační kritéria
F20: Relevance projektu k výzvě | G20: Potenciál pro publikum | H20: Relevance k předchozí činnosti žadatele | I20: Kreativní tým | J20: Realizační strategie a ekonomika projektu | K20: Udržitelnost
F21: 0–30 | G21: 0–20 | H21: 0–10 | I21: 0–10 | J21: 0–20 | K21: 0–10
A22: 886-2026 | B22: PFX CZ s.r.o. | C22: Family Squad | D22: 80750814 | E22: 9200000 | F22: =AVERAGE(MR!F26,DŠ!F26,TL!F26,LG!F26,ZZ!F26) -> 25.4 | G22: =AVERAGE(MR!G26,DŠ!G26,TL!G26,LG!G26,ZZ!G26) -> 16.8 | H22: =AVERAGE(MR!H26,DŠ!H26,TL!H26,LG!H26,ZZ!H26) -> 7.8 | I22: =AVERAGE(MR!I26,DŠ!I26,TL!I26,LG!I26,ZZ!I26) -> 8.6 | J22: =AVERAGE(MR!J26,DŠ!J26,TL!J26,LG!J26,ZZ!J26) -> 18.6 | K22: =AVERAGE(MR!K26,DŠ!K26,TL!K26,LG!K26,ZZ!K26) -> 8.6 | L22: =SUM(F22:K22) -> 85.8 | M22: 9200000 | N22: ano | O22: ano - 40 % | P22: ano | Q22: ano | R22: 0.52 | S22: 0.9 | T22: 47046 | U22: 48760 | V22: =M22/(0.8*D22) -> 0.14241343
A23: 824-2026 | B23: Pure Shore s.r.o. | C23: Ostrov procitnutí | D23: 2890000 | E23: 900000 | F23: =AVERAGE(MR!F22,DŠ!F22,TL!F22,LG!F22,ZZ!F22) -> 24.4 | G23: =AVERAGE(MR!G22,DŠ!G22,TL!G22,LG!G22,ZZ!G22) -> 16 | H23: =AVERAGE(MR!H22,DŠ!H22,TL!H22,LG!H22,ZZ!H22) -> 8.4 | I23: =AVERAGE(MR!I22,DŠ!I22,TL!I22,LG!I22,ZZ!I22) -> 8.6 | J23: =AVERAGE(MR!J22,DŠ!J22,TL!J22,LG!J22,ZZ!J22) -> 15.2 | K23: =AVERAGE(MR!K22,DŠ!K22,TL!K22,LG!K22,ZZ!K22) -> 7.8 | L23: =SUM(F23:K23) -> 80.4 | M23: 900000 | N23: ne | O23: ne | P23: ano | Q23: ano | R23: 0.84 | S23: 0.9 | T23: 47087 | U23: 48760 | V23: =M23/(0.8*D23) -> 0.38927336
A24: 887-2026 | B24: Pirogy Studios s.r.o. | C24: Pebbi | D24: 4020940 | E24: 2400000 | F24: =AVERAGE(MR!F27,DŠ!F27,TL!F27,LG!F27,ZZ!F27) -> 24.4 | G24: =AVERAGE(MR!G27,DŠ!G27,TL!G27,LG!G27,ZZ!G27) -> 17 | H24: =AVERAGE(MR!H27,DŠ!H27,TL!H27,LG!H27,ZZ!H27) -> 6.2 | I24: =AVERAGE(MR!I27,DŠ!I27,TL!I27,LG!I27,ZZ!I27) -> 7.8 | J24: =AVERAGE(MR!J27,DŠ!J27,TL!J27,LG!J27,ZZ!J27) -> 15.4 | K24: =AVERAGE(MR!K27,DŠ!K27,TL!K27,LG!K27,ZZ!K27) -> 7.8 | L24: =SUM(F24:K24) -> 78.6 | M24: 2313000 | N24: ne | O24: ne | P24: ano | Q24: ano | R24: 0.67 | S24: 0.9 | T24: 46599 | U24: 48760 | V24: =M24/(0.8*D24) -> 0.71904828
A25: 890-2026 | B25: MAUR film s.r.o. | C25: Robot jménem Otis | D25: 79376500 | E25: 19500000 | F25: =AVERAGE(MR!F30,DŠ!F30,TL!F30,LG!F30,ZZ!F30) -> 24.4 | G25: =AVERAGE(MR!G30,DŠ!G30,TL!G30,LG!G30,ZZ!G30) -> 15.8 | H25: =AVERAGE(MR!H30,DŠ!H30,TL!H30,LG!H30,ZZ!H30) -> 8.6 | I25: =AVERAGE(MR!I30,DŠ!I30,TL!I30,LG!I30,ZZ!I30) -> 8 | J25: =AVERAGE(MR!J30,DŠ!J30,TL!J30,LG!J30,ZZ!J30) -> 13.2 | K25: =AVERAGE(MR!K30,DŠ!K30,TL!K30,LG!K30,ZZ!K30) -> 7.6 | L25: =SUM(F25:K25) -> 77.6 | M25: 17550000 | N25: ne | O25: ne | P25: ano | Q25: ano | R25: 0.74 | S25: 0.9 | T25: 47848 | U25: 48760 | V25: =M25/(0.8*D25) -> 0.27637273
A26: 879-2026 | B26: MAUR film s.r.o. | C26: Knoflík | D26: 9137250 | E26: 3400000 | F26: =AVERAGE(MR!F24,DŠ!F24,TL!F24,LG!F24,ZZ!F24) -> 22.2 | G26: =AVERAGE(MR!G24,DŠ!G24,TL!G24,LG!G24,ZZ!G24) -> 15.6 | H26: =AVERAGE(MR!H24,DŠ!H24,TL!H24,LG!H24,ZZ!H24) -> 9.4 | I26: =AVERAGE(MR!I24,DŠ!I24,TL!I24,LG!I24,ZZ!I24) -> 8.8 | J26: =AVERAGE(MR!J24,DŠ!J24,TL!J24,LG!J24,ZZ!J24) -> 12.4 | K26: =AVERAGE(MR!K24,DŠ!K24,TL!K24,LG!K24,ZZ!K24) -> 7.6 | L26: =SUM(F26:K26) -> 76 | M26: 3060000 | N26: ne | O26: ne | P26: ano | Q26: ano | R26: 0.81 | S26: 0.9 | T26: 47391 | U26: 48760 | V26: =M26/(0.8*D26) -> 0.4186161
A27: 892-2026 | B27: DIVIZE animace s.r.o. | C27: Procházka přírodou | D27: 4859780 | E27: 1800000 | F27: =AVERAGE(MR!F32,DŠ!F32,TL!F32,LG!F32,ZZ!F32) -> 23.2 | G27: =AVERAGE(MR!G32,DŠ!G32,TL!G32,LG!G32,ZZ!G32) -> 14 | H27: =AVERAGE(MR!H32,DŠ!H32,TL!H32,LG!H32,ZZ!H32) -> 7.6 | I27: =AVERAGE(MR!I32,DŠ!I32,TL!I32,LG!I32,ZZ!I32) -> 8 | J27: =AVERAGE(MR!J32,DŠ!J32,TL!J32,LG!J32,ZZ!J32) -> 14.8 | K27: =AVERAGE(MR!K32,DŠ!K32,TL!K32,LG!K32,ZZ!K32) -> 7.8 | L27: =SUM(F27:K27) -> 75.4 | M27: 1750000 | N27: ne | O27: ne | P27: ano | Q27: ano | R27: 0.76 | S27: 0.9 | T27: 47270 | U27: 48760 | V27: =M27/(0.8*D27) -> 0.45012326
A28: 876-2026 | B28: 13ka s.r.o. | C28: Už zase červi k snídani? | D28: 4426290 | E28: 1600000 | F28: =AVERAGE(MR!F23,DŠ!F23,TL!F23,LG!F23,ZZ!F23) -> 18.6 | G28: =AVERAGE(MR!G23,DŠ!G23,TL!G23,LG!G23,ZZ!G23) -> 14.4 | H28: =AVERAGE(MR!H23,DŠ!H23,TL!H23,LG!H23,ZZ!H23) -> 8.6 | I28: =AVERAGE(MR!I23,DŠ!I23,TL!I23,LG!I23,ZZ!I23) -> 8.2 | J28: =AVERAGE(MR!J23,DŠ!J23,TL!J23,LG!J23,ZZ!J23) -> 15.6 | K28: =AVERAGE(MR!K23,DŠ!K23,TL!K23,LG!K23,ZZ!K23) -> 8.4 | L28: =SUM(F28:K28) -> 73.8 | M28: 1480000 | N28: ne | O28: ne | P28: ano | Q28: ano | R28: 0.87 | S28: 0.9 | T28: 46752 | U28: 48760 | V28: =M28/(0.8*D28) -> 0.41795725
A29: 891-2026 | B29: Analog Vision s.r.o. | C29: Princezna a vlk | D29: 3479000 | E29: 2500000 | F29: =AVERAGE(MR!F31,DŠ!F31,TL!F31,LG!F31,ZZ!F31) -> 24.6 | G29: =AVERAGE(MR!G31,DŠ!G31,TL!G31,LG!G31,ZZ!G31) -> 13.8 | H29: =AVERAGE(MR!H31,DŠ!H31,TL!H31,LG!H31,ZZ!H31) -> 5.4 | I29: =AVERAGE(MR!I31,DŠ!I31,TL!I31,LG!I31,ZZ!I31) -> 8.4 | J29: =AVERAGE(MR!J31,DŠ!J31,TL!J31,LG!J31,ZZ!J31) -> 10.2 | K29: =AVERAGE(MR!K31,DŠ!K31,TL!K31,LG!K31,ZZ!K31) -> 7.6 | L29: =SUM(F29:K29) -> 70 | M29: 2250000 | N29: ne | O29: ne | P29: ano | Q29: ano | R29: 0.89 | S29: 0.9 | T29: 47118 | U29: 48760 | V29: =M29/(0.8*D29) -> 0.80842196
A30: 884-2026 | B30: Films & Chips s.r.o. | C30: Krupír | D30: 12594080 | E30: 7500000 | F30: =AVERAGE(MR!F25,DŠ!F25,TL!F25,LG!F25,ZZ!F25) -> 19.8 | G30: =AVERAGE(MR!G25,DŠ!G25,TL!G25,LG!G25,ZZ!G25) -> 14.6 | H30: =AVERAGE(MR!H25,DŠ!H25,TL!H25,LG!H25,ZZ!H25) -> 6.4 | I30: =AVERAGE(MR!I25,DŠ!I25,TL!I25,LG!I25,ZZ!I25) -> 6.4 | J30: =AVERAGE(MR!J25,DŠ!J25,TL!J25,LG!J25,ZZ!J25) -> 11.8 | K30: =AVERAGE(MR!K25,DŠ!K25,TL!K25,LG!K25,ZZ!K25) -> 7.6 | L30: =SUM(F30:K30) -> 66.6 | N30: ne | P30: ano | R30: 0.87 | T30: 47557 | V30: =M30/(0.8*D30) -> 0
A31: 889-2026 | B31: BFILM.cz s.r.o. | C31: Bylo jednou jedno město… | D31: 9370000 | E31: 3100000 | F31: =AVERAGE(MR!F29,DŠ!F29,TL!F29,LG!F29,ZZ!F29) -> 18.2 | G31: =AVERAGE(MR!G29,DŠ!G29,TL!G29,LG!G29,ZZ!G29) -> 13.8 | H31: =AVERAGE(MR!H29,DŠ!H29,TL!H29,LG!H29,ZZ!H29) -> 7 | I31: =AVERAGE(MR!I29,DŠ!I29,TL!I29,LG!I29,ZZ!I29) -> 6.8 | J31: =AVERAGE(MR!J29,DŠ!J29,TL!J29,LG!J29,ZZ!J29) -> 11 | K31: =AVERAGE(MR!K29,DŠ!K29,TL!K29,LG!K29,ZZ!K29) -> 7 | L31: =SUM(F31:K31) -> 63.8 | N31: ne | P31: ano | R31: 0.73 | T31: 48760 | V31: =M31/(0.8*D31) -> 0
A32: 888-2026 | B32: TVORBA films, s.r.o. | C32: Dinghy | D32: 75232580 | E32: 15000000 | F32: =AVERAGE(MR!F28,DŠ!F28,TL!F28,LG!F28,ZZ!F28) -> 13.2 | G32: =AVERAGE(MR!G28,DŠ!G28,TL!G28,LG!G28,ZZ!G28) -> 8.6 | H32: =AVERAGE(MR!H28,DŠ!H28,TL!H28,LG!H28,ZZ!H28) -> 4.4 | I32: =AVERAGE(MR!I28,DŠ!I28,TL!I28,LG!I28,ZZ!I28) -> 5.4 | J32: =AVERAGE(MR!J28,DŠ!J28,TL!J28,LG!J28,ZZ!J28) -> 7.4 | K32: =AVERAGE(MR!K28,DŠ!K28,TL!K28,LG!K28,ZZ!K28) -> 5.4 | L32: =SUM(F32:K32) -> 44.4 | N32: ne | P32: ano | R32: 0.76 | T32: 48760 | V32: =M32/(0.8*D32) -> 0
D33: =SUM(D22:D32) -> 286137234 | E33: =SUM(E22:E32) -> 66900000 | M33: =SUM(M22:M32) -> 38503000
L34: zbývá | M34: =38503000-M33 -> 0

Sheet MR
A1: Výroba animovaného filmu
A2: Evidenční číslo výzvy: 2026-C-2-3-35 | D2: Cíle podpory audiovize:
A3: Dotační kategorie: Podpora animovaných audiovizuálních děl a videoher | D3: 1. Posílení stability producentských firem a podpora jejich dlouhodobé spolupráce s kreativními týmy.
A4: Dotační okruh: Výroba českého audiovizuálního díla | D4: 2. Podpora žánrové diverzity v české audiovizi, podpora debutů a projektů pro různé cílové skupiny.
A5: Lhůta pro podávání žádostí: 4. 5. 2026–3. 6. 2026 | D5: 3. Podpora projektů pro lokální trh i pro mezinárodní distribuci.
A6: Finanční alokace: 38 503 000 Kč | D6: 4. Podpora mezinárodních koprodukcí českých audiovizuálních děl, podpora exportu českých audiovizuálních děl.
A7: Lhůta pro dokončení projektu: dle žádosti, nejpozději však do 30. 6. 2033
A8: Forma podpory: investiční dotace
D9: Specifikace dotačního okruhu
D10: Podpora je určena pro celovečerní nebo krátkometrážní animovaná česká audiovizuální díla (ve smyslu § 2 odst. 1 písm. e) a písm. i) zákona o audiovizi), která splňují tyto podmínky:
D11: 1. České audiovizuální dílo se 100% podílem výrobce nebo koproducentů na financování celkových výrobních nákladů, kteří mají místo podnikání, místo trvalého pobytu nebo sídlo na území České republiky nebo
D12: 2. České audiovizuální dílo, na jehož výrobě se koproducenti s místem podnikání, místem trvalého pobytu nebo sídlem na území České republiky, podílí společně s koproducentem nebo koproducenty, kteří mají místo podnikání, místo trvalého pobytu nebo sídlo mimo území České republiky, a přitom platí, že: – U dvoustranné koprodukce musí být česká finanční účast na celkových výrobních nákladech projektu 30 % nebo vyšší – U třístranné a vícestranné koprodukce musí být podíl české finanční účasti na celkových výrobních nákladech projektu 15 % nebo vyšší.
D13: Animovaným dílem se pro účely kategorie podpory animovaných audiovizuálních děl a videoher rozumí dílo 100% animované, tj. bez kontinuálního záznamu živé akce.
D14: Krátkometrážním audiovizuálním dílem se pro účely Státního fondu audiovize (dále jen „Fond“) rozumí dílo o délce do 60 minut včetně, celovečerním audiovizuálním dílem se pro účely Fondu rozumí dílo se stopáží delší než 60 minut.
D15: Rada deklaruje, že v této výzvě podpoří min. 2 režijní a/nebo producentské debuty. Rada považuje výzvu za vhodnou pro krátkometrážní a/nebo studentské projekty. Rada deklaruje, že v této výzvě podpoří min. 4 krátkometrážní animované filmy. Cílové hodnoty nebude muset Rada dodržet, ale pokud se tak stane, bude muset své rozhodnutí zdůvodnit.
D16: Rada deklaruje, že bude jen ve výjimečných případech podporovat projekty samostatně žádajících fyzických osob. Považuje takové projekty za rizikovější.
A18: evidenční číslo projektu | B18: název žadatele | C18: název projektu | D18: celkový rozpočet projektu | E18: požadovaná podpora | F18: bodové hodnocení dle tvůrčího a realizačního testu | L18: bodové hodnocení Rada
F19: tvůrčí kritéria | H19: realizační kritéria
F20: Relevance projektu k výzvě | G20: Potenciál pro publikum | H20: Relevance k předchozí činnosti žadatele | I20: Kreativní tým | J20: Realizační strategie a ekonomika projektu | K20: Udržitelnost
F21: 0–30 | G21: 0–20 | H21: 0–10 | I21: 0–10 | J21: 0–20 | K21: 0–10
A22: 824-2026 | B22: Pure Shore s.r.o. | C22: Ostrov procitnutí | D22: 2890000 | E22: 900000 | F22: 25 | G22: 17 | H22: 10 | I22: 10 | J22: 15 | K22: 6 | L22: =SUM(F22:K22) -> 83
A23: 876-2026 | B23: 13ka s.r.o. | C23: Už zase červi k snídani? | D23: 4426290 | E23: 1600000 | F23: 16 | G23: 14 | H23: 10 | I23: 10 | J23: 17 | K23: 10 | L23: =SUM(F23:K23) -> 77
A24: 879-2026 | B24: MAUR film s.r.o. | C24: Knoflík | D24: 9137250 | E24: 3400000 | F24: 26 | G24: 20 | H24: 10 | I24: 10 | J24: 14 | K24: 8 | L24: =SUM(F24:K24) -> 88
A25: 884-2026 | B25: Films & Chips s.r.o. | C25: Krupír | D25: 12594080 | E25: 7500000 | F25: 19 | G25: 16 | H25: 6 | I25: 7 | J25: 14 | K25: 8 | L25: =SUM(F25:K25) -> 70
A26: 886-2026 | B26: PFX CZ s.r.o. | C26: Family Squad | D26: 80750814 | E26: 9200000 | F26: 25 | G26: 18 | H26: 8 | I26: 10 | J26: 20 | K26: 9 | L26: =SUM(F26:K26) -> 90
A27: 887-2026 | B27: Pirogy Studios s.r.o. | C27: Pebbi | D27: 4020940 | E27: 2400000 | F27: 24 | G27: 14 | H27: 6 | I27: 7 | J27: 15 | K27: 7 | L27: =SUM(F27:K27) -> 73
A28: 888-2026 | B28: TVORBA films, s.r.o. | C28: Dinghy | D28: 75232580 | E28: 15000000 | F28: 13 | G28: 8 | H28: 4 | I28: 5 | J28: 10 | K28: 2 | L28: =SUM(F28:K28) -> 42
A29: 889-2026 | B29: BFILM.cz s.r.o. | C29: Bylo jednou jedno město… | D29: 9370000 | E29: 3100000 | F29: 17 | G29: 15 | H29: 8 | I29: 8 | J29: 12 | K29: 7 | L29: =SUM(F29:K29) -> 67
A30: 890-2026 | B30: MAUR film s.r.o. | C30: Robot jménem Otis | D30: 79376500 | E30: 19500000 | F30: 23 | G30: 10 | H30: 10 | I30: 8 | J30: 15 | K30: 7 | L30: =SUM(F30:K30) -> 73
A31: 891-2026 | B31: Analog Vision s.r.o. | C31: Princezna a vlk | D31: 3479000 | E31: 2500000 | F31: 22 | G31: 15 | H31: 6 | I31: 8 | J31: 12 | K31: 7 | L31: =SUM(F31:K31) -> 70
A32: 892-2026 | B32: DIVIZE animace s.r.o. | C32: Procházka přírodou | D32: 4859780 | E32: 1800000 | F32: 25 | G32: 14 | H32: 7 | I32: 8 | J32: 13 | K32: 7 | L32: =SUM(F32:K32) -> 74
D33: =SUM(D22:D32) -> 286137234 | E33: =SUM(E22:E32) -> 66900000

Sheet DŠ
A1: Výroba animovaného filmu
A2: Evidenční číslo výzvy: 2026-C-2-3-35 | D2: Cíle podpory audiovize:
A3: Dotační kategorie: Podpora animovaných audiovizuálních děl a videoher | D3: 1. Posílení stability producentských firem a podpora jejich dlouhodobé spolupráce s kreativními týmy.
A4: Dotační okruh: Výroba českého audiovizuálního díla | D4: 2. Podpora žánrové diverzity v české audiovizi, podpora debutů a projektů pro různé cílové skupiny.
A5: Lhůta pro podávání žádostí: 4. 5. 2026–3. 6. 2026 | D5: 3. Podpora projektů pro lokální trh i pro mezinárodní distribuci.
A6: Finanční alokace: 38 503 000 Kč | D6: 4. Podpora mezinárodních koprodukcí českých audiovizuálních děl, podpora exportu českých audiovizuálních děl.
A7: Lhůta pro dokončení projektu: dle žádosti, nejpozději však do 30. 6. 2033
A8: Forma podpory: investiční dotace
D9: Specifikace dotačního okruhu
D10: Podpora je určena pro celovečerní nebo krátkometrážní animovaná česká audiovizuální díla (ve smyslu § 2 odst. 1 písm. e) a písm. i) zákona o audiovizi), která splňují tyto podmínky:
D11: 1. České audiovizuální dílo se 100% podílem výrobce nebo koproducentů na financování celkových výrobních nákladů, kteří mají místo podnikání, místo trvalého pobytu nebo sídlo na území České republiky nebo
D12: 2. České audiovizuální dílo, na jehož výrobě se koproducenti s místem podnikání, místem trvalého pobytu nebo sídlem na území České republiky, podílí společně s koproducentem nebo koproducenty, kteří mají místo podnikání, místo trvalého pobytu nebo sídlo mimo území České republiky, a přitom platí, že: – U dvoustranné koprodukce musí být česká finanční účast na celkových výrobních nákladech projektu 30 % nebo vyšší – U třístranné a vícestranné koprodukce musí být podíl české finanční účasti na celkových výrobních nákladech projektu 15 % nebo vyšší.
D13: Animovaným dílem se pro účely kategorie podpory animovaných audiovizuálních děl a videoher rozumí dílo 100% animované, tj. bez kontinuálního záznamu živé akce.
D14: Krátkometrážním audiovizuálním dílem se pro účely Státního fondu audiovize (dále jen „Fond“) rozumí dílo o délce do 60 minut včetně, celovečerním audiovizuálním dílem se pro účely Fondu rozumí dílo se stopáží delší než 60 minut.
D15: Rada deklaruje, že v této výzvě podpoří min. 2 režijní a/nebo producentské debuty. Rada považuje výzvu za vhodnou pro krátkometrážní a/nebo studentské projekty. Rada deklaruje, že v této výzvě podpoří min. 4 krátkometrážní animované filmy. Cílové hodnoty nebude muset Rada dodržet, ale pokud se tak stane, bude muset své rozhodnutí zdůvodnit.
D16: Rada deklaruje, že bude jen ve výjimečných případech podporovat projekty samostatně žádajících fyzických osob. Považuje takové projekty za rizikovější.
A18: evidenční číslo projektu | B18: název žadatele | C18: název projektu | D18: celkový rozpočet projektu | E18: požadovaná podpora | F18: bodové hodnocení dle tvůrčího a realizačního testu | L18: bodové hodnocení Rada
F19: tvůrčí kritéria | H19: realizační kritéria
F20: Relevance projektu k výzvě | G20: Potenciál pro publikum | H20: Relevance k předchozí činnosti žadatele | I20: Kreativní tým | J20: Realizační strategie a ekonomika projektu | K20: Udržitelnost
F21: 0–30 | G21: 0–20 | H21: 0–10 | I21: 0–10 | J21: 0–20 | K21: 0–10
A22: 824-2026 | B22: Pure Shore s.r.o. | C22: Ostrov procitnutí | D22: 2890000 | E22: 900000 | F22: 22 | G22: 15 | H22: 10 | I22: 8 | J22: 15 | K22: 8 | L22: =SUM(F22:K22) -> 78
A23: 876-2026 | B23: 13ka s.r.o. | C23: Už zase červi k snídani? | D23: 4426290 | E23: 1600000 | F23: 16 | G23: 10 | H23: 10 | I23: 6 | J23: 16 | K23: 8 | L23: =SUM(F23:K23) -> 66
A24: 879-2026 | B24: MAUR film s.r.o. | C24: Knoflík | D24: 9137250 | E24: 3400000 | F24: 20 | G24: 16 | H24: 10 | I24: 8 | J24: 10 | K24: 8 | L24: =SUM(F24:K24) -> 72
A25: 884-2026 | B25: Films & Chips s.r.o. | C25: Krupír | D25: 12594080 | E25: 7500000 | F25: 19 | G25: 15 | H25: 6 | I25: 5 | J25: 12 | K25: 8 | L25: =SUM(F25:K25) -> 65
A26: 886-2026 | B26: PFX CZ s.r.o. | C26: Family Squad | D26: 80750814 | E26: 9200000 | F26: 24 | G26: 16 | H26: 10 | I26: 10 | J26: 18 | K26: 8 | L26: =SUM(F26:K26) -> 86
A27: 887-2026 | B27: Pirogy Studios s.r.o. | C27: Pebbi | D27: 4020940 | E27: 2400000 | F27: 25 | G27: 18 | H27: 6 | I27: 10 | J27: 19 | K27: 8 | L27: =SUM(F27:K27) -> 86
A28: 888-2026 | B28: TVORBA films, s.r.o. | C28: Dinghy | D28: 75232580 | E28: 15000000 | F28: 11 | G28: 4 | H28: 4 | I28: 3 | J28: 3 | K28: 8 | L28: =SUM(F28:K28) -> 33
A29: 889-2026 | B29: BFILM.cz s.r.o. | C29: Bylo jednou jedno město… | D29: 9370000 | E29: 3100000 | F29: 17 | G29: 15 | H29: 8 | I29: 6 | J29: 10 | K29: 8 | L29: =SUM(F29:K29) -> 64
A30: 890-2026 | B30: MAUR film s.r.o. | C30: Robot jménem Otis | D30: 79376500 | E30: 19500000 | F30: 25 | G30: 17 | H30: 10 | I30: 8 | J30: 15 | K30: 8 | L30: =SUM(F30:K30) -> 83
A31: 891-2026 | B31: Analog Vision s.r.o. | C31: Princezna a vlk | D31: 3479000 | E31: 2500000 | F31: 25 | G31: 16 | H31: 9 | I31: 9 | J31: 10 | K31: 8 | L31: =SUM(F31:K31) -> 77
A32: 892-2026 | B32: DIVIZE animace s.r.o. | C32: Procházka přírodou | D32: 4859780 | E32: 1800000 | F32: 21 | G32: 15 | H32: 10 | I32: 7 | J32: 16 | K32: 8 | L32: =SUM(F32:K32) -> 77
D33: =SUM(D22:D32) -> 286137234 | E33: =SUM(E22:E32) -> 66900000

Sheet TL
A1: Výroba animovaného filmu
A2: Evidenční číslo výzvy: 2026-C-2-3-35 | D2: Cíle podpory audiovize:
A3: Dotační kategorie: Podpora animovaných audiovizuálních děl a videoher | D3: 1. Posílení stability producentských firem a podpora jejich dlouhodobé spolupráce s kreativními týmy.
A4: Dotační okruh: Výroba českého audiovizuálního díla | D4: 2. Podpora žánrové diverzity v české audiovizi, podpora debutů a projektů pro různé cílové skupiny.
A5: Lhůta pro podávání žádostí: 4. 5. 2026–3. 6. 2026 | D5: 3. Podpora projektů pro lokální trh i pro mezinárodní distribuci.
A6: Finanční alokace: 38 503 000 Kč | D6: 4. Podpora mezinárodních koprodukcí českých audiovizuálních děl, podpora exportu českých audiovizuálních děl.
A7: Lhůta pro dokončení projektu: dle žádosti, nejpozději však do 30. 6. 2033
A8: Forma podpory: investiční dotace
D9: Specifikace dotačního okruhu
D10: Podpora je určena pro celovečerní nebo krátkometrážní animovaná česká audiovizuální díla (ve smyslu § 2 odst. 1 písm. e) a písm. i) zákona o audiovizi), která splňují tyto podmínky:
D11: 1. České audiovizuální dílo se 100% podílem výrobce nebo koproducentů na financování celkových výrobních nákladů, kteří mají místo podnikání, místo trvalého pobytu nebo sídlo na území České republiky nebo
D12: 2. České audiovizuální dílo, na jehož výrobě se koproducenti s místem podnikání, místem trvalého pobytu nebo sídlem na území České republiky, podílí společně s koproducentem nebo koproducenty, kteří mají místo podnikání, místo trvalého pobytu nebo sídlo mimo území České republiky, a přitom platí, že: – U dvoustranné koprodukce musí být česká finanční účast na celkových výrobních nákladech projektu 30 % nebo vyšší – U třístranné a vícestranné koprodukce musí být podíl české finanční účasti na celkových výrobních nákladech projektu 15 % nebo vyšší.
D13: Animovaným dílem se pro účely kategorie podpory animovaných audiovizuálních děl a videoher rozumí dílo 100% animované, tj. bez kontinuálního záznamu živé akce.
D14: Krátkometrážním audiovizuálním dílem se pro účely Státního fondu audiovize (dále jen „Fond“) rozumí dílo o délce do 60 minut včetně, celovečerním audiovizuálním dílem se pro účely Fondu rozumí dílo se stopáží delší než 60 minut.
D15: Rada deklaruje, že v této výzvě podpoří min. 2 režijní a/nebo producentské debuty. Rada považuje výzvu za vhodnou pro krátkometrážní a/nebo studentské projekty. Rada deklaruje, že v této výzvě podpoří min. 4 krátkometrážní animované filmy. Cílové hodnoty nebude muset Rada dodržet, ale pokud se tak stane, bude muset své rozhodnutí zdůvodnit.
D16: Rada deklaruje, že bude jen ve výjimečných případech podporovat projekty samostatně žádajících fyzických osob. Považuje takové projekty za rizikovější.
A18: evidenční číslo projektu | B18: název žadatele | C18: název projektu | D18: celkový rozpočet projektu | E18: požadovaná podpora | F18: bodové hodnocení dle tvůrčího a realizačního testu | L18: bodové hodnocení Rada
F19: tvůrčí kritéria | H19: realizační kritéria
F20: Relevance projektu k výzvě | G20: Potenciál pro publikum | H20: Relevance k předchozí činnosti žadatele | I20: Kreativní tým | J20: Realizační strategie a ekonomika projektu | K20: Udržitelnost
F21: 0–30 | G21: 0–20 | H21: 0–10 | I21: 0–10 | J21: 0–20 | K21: 0–10
A22: 824-2026 | B22: Pure Shore s.r.o. | C22: Ostrov procitnutí | D22: 2890000 | E22: 900000 | F22: 24 | G22: 16 | H22: 8 | I22: 8 | J22: 15 | K22: 7 | L22: =SUM(F22:K22) -> 78
A23: 876-2026 | B23: 13ka s.r.o. | C23: Už zase červi k snídani? | D23: 4426290 | E23: 1600000 | F23: 19 | G23: 17 | H23: 8 | I23: 7 | J23: 14 | K23: 8 | L23: =SUM(F23:K23) -> 73
A24: 879-2026 | B24: MAUR film s.r.o. | C24: Knoflík | D24: 9137250 | E24: 3400000 | F24: 21 | G24: 15 | H24: 8 | I24: 8 | J24: 13 | K24: 6 | L24: =SUM(F24:K24) -> 71
A25: 884-2026 | B25: Films & Chips s.r.o. | C25: Krupír | D25: 12594080 | E25: 7500000 | F25: 18 | G25: 14 | H25: 6 | I25: 6 | J25: 10 | K25: 6 | L25: =SUM(F25:K25) -> 60
A26: 886-2026 | B26: PFX CZ s.r.o. | C26: Family Squad | D26: 80750814 | E26: 9200000 | F26: 25 | G26: 16 | H26: 7 | I26: 7 | J26: 18 | K26: 9 | L26: =SUM(F26:K26) -> 82
A27: 887-2026 | B27: Pirogy Studios s.r.o. | C27: Pebbi | D27: 4020940 | E27: 2400000 | F27: 20 | G27: 17 | H27: 6 | I27: 6 | J27: 13 | K27: 7 | L27: =SUM(F27:K27) -> 69
A28: 888-2026 | B28: TVORBA films, s.r.o. | C28: Dinghy | D28: 75232580 | E28: 15000000 | F28: 13 | G28: 8 | H28: 4 | I28: 4 | J28: 7 | K28: 4 | L28: =SUM(F28:K28) -> 40
A29: 889-2026 | B29: BFILM.cz s.r.o. | C29: Bylo jednou jedno město… | D29: 9370000 | E29: 3100000 | F29: 19 | G29: 14 | H29: 6 | I29: 7 | J29: 9 | K29: 6 | L29: =SUM(F29:K29) -> 61
A30: 890-2026 | B30: MAUR film s.r.o. | C30: Robot jménem Otis | D30: 79376500 | E30: 19500000 | F30: 19 | G30: 16 | H30: 8 | I30: 7 | J30: 11 | K30: 6 | L30: =SUM(F30:K30) -> 67
A31: 891-2026 | B31: Analog Vision s.r.o. | C31: Princezna a vlk | D31: 3479000 | E31: 2500000 | F31: 24 | G31: 13 | H31: 4 | I31: 7 | J31: 10 | K31: 6 | L31: =SUM(F31:K31) -> 64
A32: 892-2026 | B32: DIVIZE animace s.r.o. | C32: Procházka přírodou | D32: 4859780 | E32: 1800000 | F32: 24 | G32: 13 | H32: 7 | I32: 8 | J32: 14 | K32: 7 | L32: =SUM(F32:K32) -> 73
D33: =SUM(D22:D32) -> 286137234 | E33: =SUM(E22:E32) -> 66900000

Sheet LG
A1: Výroba animovaného filmu
A2: Evidenční číslo výzvy: 2026-C-2-3-35 | D2: Cíle podpory audiovize:
A3: Dotační kategorie: Podpora animovaných audiovizuálních děl a videoher | D3: 1. Posílení stability producentských firem a podpora jejich dlouhodobé spolupráce s kreativními týmy.
A4: Dotační okruh: Výroba českého audiovizuálního díla | D4: 2. Podpora žánrové diverzity v české audiovizi, podpora debutů a projektů pro různé cílové skupiny.
A5: Lhůta pro podávání žádostí: 4. 5. 2026–3. 6. 2026 | D5: 3. Podpora projektů pro lokální trh i pro mezinárodní distribuci.
A6: Finanční alokace: 38 503 000 Kč | D6: 4. Podpora mezinárodních koprodukcí českých audiovizuálních děl, podpora exportu českých audiovizuálních děl.
A7: Lhůta pro dokončení projektu: dle žádosti, nejpozději však do 30. 6. 2033
A8: Forma podpory: investiční dotace
D9: Specifikace dotačního okruhu
D10: Podpora je určena pro celovečerní nebo krátkometrážní animovaná česká audiovizuální díla (ve smyslu § 2 odst. 1 písm. e) a písm. i) zákona o audiovizi), která splňují tyto podmínky:
D11: 1. České audiovizuální dílo se 100% podílem výrobce nebo koproducentů na financování celkových výrobních nákladů, kteří mají místo podnikání, místo trvalého pobytu nebo sídlo na území České republiky nebo
D12: 2. České audiovizuální dílo, na jehož výrobě se koproducenti s místem podnikání, místem trvalého pobytu nebo sídlem na území České republiky, podílí společně s koproducentem nebo koproducenty, kteří mají místo podnikání, místo trvalého pobytu nebo sídlo mimo území České republiky, a přitom platí, že: – U dvoustranné koprodukce musí být česká finanční účast na celkových výrobních nákladech projektu 30 % nebo vyšší – U třístranné a vícestranné koprodukce musí být podíl české finanční účasti na celkových výrobních nákladech projektu 15 % nebo vyšší.
D13: Animovaným dílem se pro účely kategorie podpory animovaných audiovizuálních děl a videoher rozumí dílo 100% animované, tj. bez kontinuálního záznamu živé akce.
D14: Krátkometrážním audiovizuálním dílem se pro účely Státního fondu audiovize (dále jen „Fond“) rozumí dílo o délce do 60 minut včetně, celovečerním audiovizuálním dílem se pro účely Fondu rozumí dílo se stopáží delší než 60 minut.
D15: Rada deklaruje, že v této výzvě podpoří min. 2 režijní a/nebo producentské debuty. Rada považuje výzvu za vhodnou pro krátkometrážní a/nebo studentské projekty. Rada deklaruje, že v této výzvě podpoří min. 4 krátkometrážní animované filmy. Cílové hodnoty nebude muset Rada dodržet, ale pokud se tak stane, bude muset své rozhodnutí zdůvodnit.
D16: Rada deklaruje, že bude jen ve výjimečných případech podporovat projekty samostatně žádajících fyzických osob. Považuje takové projekty za rizikovější.
A18: evidenční číslo projektu | B18: název žadatele | C18: název projektu | D18: celkový rozpočet projektu | E18: požadovaná podpora | F18: bodové hodnocení dle tvůrčího a realizačního testu | L18: bodové hodnocení Rada
F19: tvůrčí kritéria | H19: realizační kritéria
F20: Relevance projektu k výzvě | G20: Potenciál pro publikum | H20: Relevance k předchozí činnosti žadatele | I20: Kreativní tým | J20: Realizační strategie a ekonomika projektu | K20: Udržitelnost
F21: 0–30 | G21: 0–20 | H21: 0–10 | I21: 0–10 | J21: 0–20 | K21: 0–10
A22: 824-2026 | B22: Pure Shore s.r.o. | C22: Ostrov procitnutí | D22: 2890000 | E22: 900000 | F22: 24 | G22: 16 | H22: 8 | I22: 9 | J22: 16 | K22: 9 | L22: =SUM(F22:K22) -> 82
A23: 876-2026 | B23: 13ka s.r.o. | C23: Už zase červi k snídani? | D23: 4426290 | E23: 1600000 | F23: 20 | G23: 15 | H23: 8 | I23: 9 | J23: 16 | K23: 7 | L23: =SUM(F23:K23) -> 75
A24: 879-2026 | B24: MAUR film s.r.o. | C24: Knoflík | D24: 9137250 | E24: 3400000 | F24: 23 | G24: 15 | H24: 10 | I24: 10 | J24: 10 | K24: 9 | L24: =SUM(F24:K24) -> 77
A25: 884-2026 | B25: Films & Chips s.r.o. | C25: Krupír | D25: 12594080 | E25: 7500000 | F25: 21 | G25: 15 | H25: 7 | I25: 7 | J25: 10 | K25: 7 | L25: =SUM(F25:K25) -> 67
A26: 886-2026 | B26: PFX CZ s.r.o. | C26: Family Squad | D26: 80750814 | E26: 9200000 | F26: 27 | G26: 18 | H26: 7 | I26: 8 | J26: 20 | K26: 9 | L26: =SUM(F26:K26) -> 89
A27: 887-2026 | B27: Pirogy Studios s.r.o. | C27: Pebbi | D27: 4020940 | E27: 2400000 | F27: 28 | G27: 19 | H27: 7 | I27: 8 | J27: 16 | K27: 8 | L27: =SUM(F27:K27) -> 86
A28: 888-2026 | B28: TVORBA films, s.r.o. | C28: Dinghy | D28: 75232580 | E28: 15000000 | F28: 12 | G28: 10 | H28: 5 | I28: 7 | J28: 10 | K28: 8 | L28: =SUM(F28:K28) -> 52
A29: 889-2026 | B29: BFILM.cz s.r.o. | C29: Bylo jednou jedno město… | D29: 9370000 | E29: 3100000 | F29: 12 | G29: 10 | H29: 8 | I29: 8 | J29: 12 | K29: 9 | L29: =SUM(F29:K29) -> 59
A30: 890-2026 | B30: MAUR film s.r.o. | C30: Robot jménem Otis | D30: 79376500 | E30: 19500000 | F30: 28 | G30: 18 | H30: 8 | I30: 9 | J30: 10 | K30: 9 | L30: =SUM(F30:K30) -> 82
A31: 891-2026 | B31: Analog Vision s.r.o. | C31: Princezna a vlk | D31: 3479000 | E31: 2500000 | F31: 26 | G31: 11 | H31: 4 | I31: 8 | J31: 11 | K31: 9 | L31: =SUM(F31:K31) -> 69
A32: 892-2026 | B32: DIVIZE animace s.r.o. | C32: Procházka přírodou | D32: 4859780 | E32: 1800000 | F32: 21 | G32: 15 | H32: 7 | I32: 8 | J32: 16 | K32: 9 | L32: =SUM(F32:K32) -> 76
D33: =SUM(D22:D32) -> 286137234 | E33: =SUM(E22:E32) -> 66900000

Sheet ZZ
A1: Výroba animovaného filmu
A2: Evidenční číslo výzvy: 2026-C-2-3-35 | D2: Cíle podpory audiovize:
A3: Dotační kategorie: Podpora animovaných audiovizuálních děl a videoher | D3: 1. Posílení stability producentských firem a podpora jejich dlouhodobé spolupráce s kreativními týmy.
A4: Dotační okruh: Výroba českého audiovizuálního díla | D4: 2. Podpora žánrové diverzity v české audiovizi, podpora debutů a projektů pro různé cílové skupiny.
A5: Lhůta pro podávání žádostí: 4. 5. 2026–3. 6. 2026 | D5: 3. Podpora projektů pro lokální trh i pro mezinárodní distribuci.
A6: Finanční alokace: 38 503 000 Kč | D6: 4. Podpora mezinárodních koprodukcí českých audiovizuálních děl, podpora exportu českých audiovizuálních děl.
A7: Lhůta pro dokončení projektu: dle žádosti, nejpozději však do 30. 6. 2033
A8: Forma podpory: investiční dotace
D9: Specifikace dotačního okruhu
D10: Podpora je určena pro celovečerní nebo krátkometrážní animovaná česká audiovizuální díla (ve smyslu § 2 odst. 1 písm. e) a písm. i) zákona o audiovizi), která splňují tyto podmínky:
D11: 1. České audiovizuální dílo se 100% podílem výrobce nebo koproducentů na financování celkových výrobních nákladů, kteří mají místo podnikání, místo trvalého pobytu nebo sídlo na území České republiky nebo
D12: 2. České audiovizuální dílo, na jehož výrobě se koproducenti s místem podnikání, místem trvalého pobytu nebo sídlem na území České republiky, podílí společně s koproducentem nebo koproducenty, kteří mají místo podnikání, místo trvalého pobytu nebo sídlo mimo území České republiky, a přitom platí, že: – U dvoustranné koprodukce musí být česká finanční účast na celkových výrobních nákladech projektu 30 % nebo vyšší – U třístranné a vícestranné koprodukce musí být podíl české finanční účasti na celkových výrobních nákladech projektu 15 % nebo vyšší.
D13: Animovaným dílem se pro účely kategorie podpory animovaných audiovizuálních děl a videoher rozumí dílo 100% animované, tj. bez kontinuálního záznamu živé akce.
D14: Krátkometrážním audiovizuálním dílem se pro účely Státního fondu audiovize (dále jen „Fond“) rozumí dílo o délce do 60 minut včetně, celovečerním audiovizuálním dílem se pro účely Fondu rozumí dílo se stopáží delší než 60 minut.
D15: Rada deklaruje, že v této výzvě podpoří min. 2 režijní a/nebo producentské debuty. Rada považuje výzvu za vhodnou pro krátkometrážní a/nebo studentské projekty. Rada deklaruje, že v této výzvě podpoří min. 4 krátkometrážní animované filmy. Cílové hodnoty nebude muset Rada dodržet, ale pokud se tak stane, bude muset své rozhodnutí zdůvodnit.
D16: Rada deklaruje, že bude jen ve výjimečných případech podporovat projekty samostatně žádajících fyzických osob. Považuje takové projekty za rizikovější.
A18: evidenční číslo projektu | B18: název žadatele | C18: název projektu | D18: celkový rozpočet projektu | E18: požadovaná podpora | F18: bodové hodnocení dle tvůrčího a realizačního testu | L18: bodové hodnocení Rada
F19: tvůrčí kritéria | H19: realizační kritéria
F20: Relevance projektu k výzvě | G20: Potenciál pro publikum | H20: Relevance k předchozí činnosti žadatele | I20: Kreativní tým | J20: Realizační strategie a ekonomika projektu | K20: Udržitelnost
F21: 0–30 | G21: 0–20 | H21: 0–10 | I21: 0–10 | J21: 0–20 | K21: 0–10
A22: 824-2026 | B22: Pure Shore s.r.o. | C22: Ostrov procitnutí | D22: 2890000 | E22: 900000 | F22: 27 | G22: 16 | H22: 6 | I22: 8 | J22: 15 | K22: 9 | L22: =SUM(F22:K22) -> 81
A23: 876-2026 | B23: 13ka s.r.o. | C23: Už zase červi k snídani? | D23: 4426290 | E23: 1600000 | F23: 22 | G23: 16 | H23: 7 | I23: 9 | J23: 15 | K23: 9 | L23: =SUM(F23:K23) -> 78
A24: 879-2026 | B24: MAUR film s.r.o. | C24: Knoflík | D24: 9137250 | E24: 3400000 | F24: 21 | G24: 12 | H24: 9 | I24: 8 | J24: 15 | K24: 7 | L24: =SUM(F24:K24) -> 72
A25: 884-2026 | B25: Films & Chips s.r.o. | C25: Krupír | D25: 12594080 | E25: 7500000 | F25: 22 | G25: 13 | H25: 7 | I25: 7 | J25: 13 | K25: 9 | L25: =SUM(F25:K25) -> 71
A26: 886-2026 | B26: PFX CZ s.r.o. | C26: Family Squad | D26: 80750814 | E26: 9200000 | F26: 26 | G26: 16 | H26: 7 | I26: 8 | J26: 17 | K26: 8 | L26: =SUM(F26:K26) -> 82
A27: 887-2026 | B27: Pirogy Studios s.r.o. | C27: Pebbi | D27: 4020940 | E27: 2400000 | F27: 25 | G27: 17 | H27: 6 | I27: 8 | J27: 14 | K27: 9 | L27: =SUM(F27:K27) -> 79
A28: 888-2026 | B28: TVORBA films, s.r.o. | C28: Dinghy | D28: 75232580 | E28: 15000000 | F28: 17 | G28: 13 | H28: 5 | I28: 8 | J28: 7 | K28: 5 | L28: =SUM(F28:K28) -> 55
A29: 889-2026 | B29: BFILM.cz s.r.o. | C29: Bylo jednou jedno město… | D29: 9370000 | E29: 3100000 | F29: 26 | G29: 15 | H29: 5 | I29: 5 | J29: 12 | K29: 5 | L29: =SUM(F29:K29) -> 68
A30: 890-2026 | B30: MAUR film s.r.o. | C30: Robot jménem Otis | D30: 79376500 | E30: 19500000 | F30: 27 | G30: 18 | H30: 7 | I30: 8 | J30: 15 | K30: 8 | L30: =SUM(F30:K30) -> 83
A31: 891-2026 | B31: Analog Vision s.r.o. | C31: Princezna a vlk | D31: 3479000 | E31: 2500000 | F31: 26 | G31: 14 | H31: 4 | I31: 10 | J31: 8 | K31: 8 | L31: =SUM(F31:K31) -> 70
A32: 892-2026 | B32: DIVIZE animace s.r.o. | C32: Procházka přírodou | D32: 4859780 | E32: 1800000 | F32: 25 | G32: 13 | H32: 7 | I32: 9 | J32: 15 | K32: 8 | L32: =SUM(F32:K32) -> 77
D33: =SUM(D22:D32) -> 286137234 | E33: =SUM(E22:E32) -> 66900000
