Workbook

Sheet Vývoj animovaneho filmu
A1: Kompletní vývoj animovaného filmu
A2: Evidenční číslo výzvy: 2026-C-1-3-36 | D2: Cíle podpory audiovize:
A3: Dotační kategorie: Podpora animovaných audiovizuálních děl a videoher | D3: 1. Posílení stability producentských firem a podpora jejich dlouhodobé spolupráce s kreativními týmy.
A4: Dotační okruh: Vývoj českého audiovizuálního díla | D4: 2. Podpora žánrové diverzity v české audiovizi.
A5: Lhůta pro podávání žádostí: 4. 5. 2026–17. 6. 2026 | D5: 3. Podpora debutů a projektů pro různé cílové skupiny.
A6: Finanční alokace: 7 000 000 Kč | D6: 4. Podpora projektů pro lokální trh i pro mezinárodní distribuci.
A7: Lhůta pro dokončení projektu: dle žádosti, nejpozději však do 30. 6. 2029 | D7: 5. Navýšení rozpočtů projektů ve vývoji skrze kofinancování z evropských i lokálních zdrojů.
A8: Forma podpory: investiční dotace
D9: Specifikace dotačního okruhu
D10: Podpora je určena pro kompletní vývoj celovečerních nebo krátkometrážních animovaných českých audiovizuálních děl (ve smyslu § 2 odst. 1 písm. e) a písm. i) zákona o audiovizi).
D11: Součástí projektu kompletního vývoje je vypracování konečné verze scénáře, audiovizuální ukázky či technologického testu, storyboardu nebo animatiku, vytvoření finančního plánu výroby obsahujícího vymezení plánovaných zdrojů krytí rozpočtu nákladů.
D12: Animovaným dílem se pro účely Státního fondu audiovize (dále jen „Fond“) rozumí dílo 100% animované, tj. bez kontinuálního záznamu živé akce.
D13: Krátkometrážním audiovizuálním dílem se pro účely Státního fondu audiovize (dále jen „Fond“) rozumí dílo o délce do 60 minut včetně, celovečerním audiovizuálním dílem se pro účely Fondu rozumí dílo se stopáží delší než 60 minut.
D14: Rada deklaruje, že v této výzvě podpoří min. 3 režijní a/nebo producentské debuty. Cílové hodnoty nebude muset Rada dodržet, ale pokud se tak stane, bude muset své rozhodnutí zdůvodnit.
A16: evidenční číslo projektu | B16: název žadatele | C16: název projektu | D16: celkový rozpočet projektu | E16: požadovaná podpora | F16: bodové hodnocení dle tvůrčího a realizačního testu | L16: bodové hodnocení Rada | M16: výše podpory | N16: žadatel – komplexní dílo ano/ne | O16: Rada – komplexní dílo ano/ne | P16: žadatel – náročné audiovizuální dílo ano/ne | Q16: Rada – náročné audiovizuální dílo ano/ne | R16: žadatel – intenzita podpory % | S16: Rada – intenzita podpory % | T16: žadatel – datum dokončení projektu | U16: Rada – lhůta pro dokončení | V16: maximální podíl podpory na celkových nákladech
F17: tvůrčí kritéria | H17: realizační kritéria
F18: Relevance projektu k výzvě | G18: Potenciál pro publikum | H18: Relevance k předchozí činnosti žadatele | I18: Kreativní tým | J18: Realizační strategie a ekonomika projektu | K18: Udržitelnost
F19: 0–30 | G19: 0–15 | H19: 0–20 | I19: 0–20 | J19: 0–10 | K19: 0–5
A20: 944-2026 | B20: Vernes s.r.o. | C20: Záhada hlavolamu | D20: 5031951 | E20: 2000000 | F20: =AVERAGE(MR!F21,DŠ!F21,TL!F21,LG!F21,ZZ!F21) -> 23.2 | G20: =AVERAGE(MR!G21,DŠ!G21,TL!G21,LG!G21,ZZ!G21) -> 12.8 | H20: =AVERAGE(MR!H21,DŠ!H21,TL!H21,LG!H21,ZZ!H21) -> 14.6 | I20: =AVERAGE(MR!I21,DŠ!I21,TL!I21,LG!I21,ZZ!I21) -> 15 | J20: =AVERAGE(MR!J21,DŠ!J21,TL!J21,LG!J21,ZZ!J21) -> 7.4 | K20: =AVERAGE(MR!K21,DŠ!K21,TL!K21,LG!K21,ZZ!K21) -> 3.8 | L20: =SUM(F20:K20) -> 76.8 | M20: 2000000 | N20: ne | O20: ne | P20: ano | Q20: ano | R20: 43% | S20: 0.9 | T20: 1.8.2028 | U20: 30.6.2029 | V20: =M20/(0.8*D20) -> 0.49682519
A21: 948-2026 | B21: radical empathy s.r.o. | C21: Pouto | D21: 849781 | E21: 400000 | F21: =AVERAGE(MR!F23,DŠ!F23,TL!F23,LG!F23,ZZ!F23) -> 20.8 | G21: =AVERAGE(MR!G23,DŠ!G23,TL!G23,LG!G23,ZZ!G23) -> 12.2 | H21: =AVERAGE(MR!H23,DŠ!H23,TL!H23,LG!H23,ZZ!H23) -> 13 | I21: =AVERAGE(MR!I23,DŠ!I23,TL!I23,LG!I23,ZZ!I23) -> 15.8 | J21: =AVERAGE(MR!J23,DŠ!J23,TL!J23,LG!J23,ZZ!J23) -> 6.6 | K21: =AVERAGE(MR!K23,DŠ!K23,TL!K23,LG!K23,ZZ!K23) -> 4.6 | L21: =SUM(F21:K21) -> 73 | M21: 400000 | N21: ne | O21: ne | P21: ano | Q21: ano | R21: 77% | S21: 0.9 | T21: 30.6.2029 | U21: 30.6.2029 | V21: =M21/(0.8*D21) -> 0.58838689
A22: 947-2026 | B22: Alter Vision s.r.o. | C22: Základy lásky | D22: 965000 | E22: 750000 | F22: =AVERAGE(MR!F22,DŠ!F22,TL!F22,LG!F22,ZZ!F22) -> 20.6 | G22: =AVERAGE(MR!G22,DŠ!G22,TL!G22,LG!G22,ZZ!G22) -> 11.6 | H22: =AVERAGE(MR!H22,DŠ!H22,TL!H22,LG!H22,ZZ!H22) -> 13 | I22: =AVERAGE(MR!I22,DŠ!I22,TL!I22,LG!I22,ZZ!I22) -> 15.6 | J22: =AVERAGE(MR!J22,DŠ!J22,TL!J22,LG!J22,ZZ!J22) -> 5.2 | K22: =AVERAGE(MR!K22,DŠ!K22,TL!K22,LG!K22,ZZ!K22) -> 4.2 | L22: =SUM(F22:K22) -> 70.2 | M22: 750000 | N22: ne | O22: ne | P22: ano | Q22: ano | R22: 78% | S22: 0.9 | T22: 31.12.2028 | U22: 30.6.2029 | V22: =M22/(0.8*D22) -> 0.97150259
A23: 953-2026 | B23: Films & Chips s.r.o. | C23: Dětství mého dědy | D23: 1776150 | E23: 750000 | F23: =AVERAGE(MR!F28,DŠ!F28,TL!F28,LG!F28,ZZ!F28) -> 21.8 | G23: =AVERAGE(MR!G28,DŠ!G28,TL!G28,LG!G28,ZZ!G28) -> 10 | H23: =AVERAGE(MR!H28,DŠ!H28,TL!H28,LG!H28,ZZ!H28) -> 12.6 | I23: =AVERAGE(MR!I28,DŠ!I28,TL!I28,LG!I28,ZZ!I28) -> 15.2 | J23: =AVERAGE(MR!J28,DŠ!J28,TL!J28,LG!J28,ZZ!J28) -> 6.6 | K23: =AVERAGE(MR!K28,DŠ!K28,TL!K28,LG!K28,ZZ!K28) -> 4 | L23: =SUM(F23:K23) -> 70.2 | M23: 750000 | N23: ne | O23: ne | P23: ano | Q23: ano | R23: 75% | S23: 0.9 | T23: 30.6.2029 | U23: 30.6.2029 | V23: =M23/(0.8*D23) -> 0.52782704
A24: 950-2026 | B24: Other Stories s.r.o. | C24: Recordanza | D24: 6960000 | E24: 2000000 | F24: =AVERAGE(MR!F25,DŠ!F25,TL!F25,LG!F25,ZZ!F25) -> 22.4 | G24: =AVERAGE(MR!G25,DŠ!G25,TL!G25,LG!G25,ZZ!G25) -> 9.8 | H24: =AVERAGE(MR!H25,DŠ!H25,TL!H25,LG!H25,ZZ!H25) -> 13.6 | I24: =AVERAGE(MR!I25,DŠ!I25,TL!I25,LG!I25,ZZ!I25) -> 13.8 | J24: =AVERAGE(MR!J25,DŠ!J25,TL!J25,LG!J25,ZZ!J25) -> 6.4 | K24: =AVERAGE(MR!K25,DŠ!K25,TL!K25,LG!K25,ZZ!K25) -> 4 | L24: =SUM(F24:K24) -> 70 | M24: 1800000 | N24: ne | O24: ne | P24: ano | Q24: ano | R24: 73% | S24: 0.9 | T24: 30.6.2029 | U24: 30.6.2029 | V24: =M24/(0.8*D24) -> 0.32327586
A25: 952-2026 | B25: PFX CZ s.r.o. | C25: James & Margaret | D25: 1200000 | E25: 800000 | F25: =AVERAGE(MR!F27,DŠ!F27,TL!F27,LG!F27,ZZ!F27) -> 19.2 | G25: =AVERAGE(MR!G27,DŠ!G27,TL!G27,LG!G27,ZZ!G27) -> 10.4 | H25: =AVERAGE(MR!H27,DŠ!H27,TL!H27,LG!H27,ZZ!H27) -> 14.8 | I25: =AVERAGE(MR!I27,DŠ!I27,TL!I27,LG!I27,ZZ!I27) -> 12.2 | J25: =AVERAGE(MR!J27,DŠ!J27,TL!J27,LG!J27,ZZ!J27) -> 5.2 | K25: =AVERAGE(MR!K27,DŠ!K27,TL!K27,LG!K27,ZZ!K27) -> 3.2 | L25: =SUM(F25:K25) -> 65 | N25: ne | P25: ano | R25: 67% | T25: 31.3.2027 | V25: =M25/(0.8*D25) -> 0
A26: 954-2026 | B26: MAUR film s.r.o. | C26: Kola | D26: 1073500 | E26: 750000 | F26: =AVERAGE(MR!F29,DŠ!F29,TL!F29,LG!F29,ZZ!F29) -> 12.6 | G26: =AVERAGE(MR!G29,DŠ!G29,TL!G29,LG!G29,ZZ!G29) -> 8.2 | H26: =AVERAGE(MR!H29,DŠ!H29,TL!H29,LG!H29,ZZ!H29) -> 17.8 | I26: =AVERAGE(MR!I29,DŠ!I29,TL!I29,LG!I29,ZZ!I29) -> 17.4 | J26: =AVERAGE(MR!J29,DŠ!J29,TL!J29,LG!J29,ZZ!J29) -> 5.2 | K26: =AVERAGE(MR!K29,DŠ!K29,TL!K29,LG!K29,ZZ!K29) -> 3.6 | L26: =SUM(F26:K26) -> 64.8 | N26: ne | P26: ano | R26: 70% | T26: 31.10.2027 | V26: =M26/(0.8*D26) -> 0
A27: 955-2026 | B27: STUDIO BEEP a.s. | C27: Hodina angličtiny | D27: 4712600 | E27: 1200000 | F27: =AVERAGE(MR!F30,DŠ!F30,TL!F30,LG!F30,ZZ!F30) -> 18.8 | G27: =AVERAGE(MR!G30,DŠ!G30,TL!G30,LG!G30,ZZ!G30) -> 10.6 | H27: =AVERAGE(MR!H30,DŠ!H30,TL!H30,LG!H30,ZZ!H30) -> 11.6 | I27: =AVERAGE(MR!I30,DŠ!I30,TL!I30,LG!I30,ZZ!I30) -> 13.6 | J27: =AVERAGE(MR!J30,DŠ!J30,TL!J30,LG!J30,ZZ!J30) -> 5.8 | K27: =AVERAGE(MR!K30,DŠ!K30,TL!K30,LG!K30,ZZ!K30) -> 4.4 | L27: =SUM(F27:K27) -> 64.8 | N27: ne | P27: ano | R27: 84% | T27: 30.6.2029 | V27: =M27/(0.8*D27) -> 0
A28: 951-2026 | B28: OLDRICH COMPANY, s.r.o. | C28: Vzdálený horizont | D28: 1182000 | E28: 750000 | F28: =AVERAGE(MR!F26,DŠ!F26,TL!F26,LG!F26,ZZ!F26) -> 19 | G28: =AVERAGE(MR!G26,DŠ!G26,TL!G26,LG!G26,ZZ!G26) -> 9 | H28: =AVERAGE(MR!H26,DŠ!H26,TL!H26,LG!H26,ZZ!H26) -> 13 | I28: =AVERAGE(MR!I26,DŠ!I26,TL!I26,LG!I26,ZZ!I26) -> 12.6 | J28: =AVERAGE(MR!J26,DŠ!J26,TL!J26,LG!J26,ZZ!J26) -> 6.2 | K28: =AVERAGE(MR!K26,DŠ!K26,TL!K26,LG!K26,ZZ!K26) -> 3.6 | L28: =SUM(F28:K28) -> 63.4 | N28: ne | P28: ano | R28: 72% | T28: 30.6.2029 | V28: =M28/(0.8*D28) -> 0
A29: 902-2026 | B29: Filmofon s.r.o. | C29: Vikýřník | D29: 900000 | E29: 750000 | F29: =AVERAGE(MR!F20,DŠ!F20,TL!F20,LG!F20,ZZ!F20) -> 16.4 | G29: =AVERAGE(MR!G20,DŠ!G20,TL!G20,LG!G20,ZZ!G20) -> 8.2 | H29: =AVERAGE(MR!H20,DŠ!H20,TL!H20,LG!H20,ZZ!H20) -> 13.6 | I29: =AVERAGE(MR!I20,DŠ!I20,TL!I20,LG!I20,ZZ!I20) -> 14.2 | J29: =AVERAGE(MR!J20,DŠ!J20,TL!J20,LG!J20,ZZ!J20) -> 6.6 | K29: =AVERAGE(MR!K20,DŠ!K20,TL!K20,LG!K20,ZZ!K20) -> 4 | L29: =SUM(F29:K29) -> 63 | N29: ne | P29: ano | R29: 83% | T29: 15.3.2028 | V29: =M29/(0.8*D29) -> 0
A30: 949-2026 | B30: Aussiger Vision s.r.o. | C30: Yog-Sothoth | D30: 1050000 | E30: 690000 | F30: =AVERAGE(MR!F24,DŠ!F24,TL!F24,LG!F24,ZZ!F24) -> 15 | G30: =AVERAGE(MR!G24,DŠ!G24,TL!G24,LG!G24,ZZ!G24) -> 7.2 | H30: =AVERAGE(MR!H24,DŠ!H24,TL!H24,LG!H24,ZZ!H24) -> 10.8 | I30: =AVERAGE(MR!I24,DŠ!I24,TL!I24,LG!I24,ZZ!I24) -> 13.6 | J30: =AVERAGE(MR!J24,DŠ!J24,TL!J24,LG!J24,ZZ!J24) -> 6.6 | K30: =AVERAGE(MR!K24,DŠ!K24,TL!K24,LG!K24,ZZ!K24) -> 3.2 | L30: =SUM(F30:K30) -> 56.4 | N30: ne | P30: ano | R30: 66% | T30: 31.12.2027 | V30: =M30/(0.8*D30) -> 0
D31: =SUM(D20:D30) -> 25700982 | E31: =SUM(E20:E30) -> 10840000 | M31: =SUM(M20:M30) -> 5700000
L32: zbývá | M32: =7000000-M31 -> 1300000

Sheet MR
A1: Kompletní vývoj animovaného filmu
A2: Evidenční číslo výzvy: 2026-C-1-3-36 | D2: Cíle podpory audiovize:
A3: Dotační kategorie: Podpora animovaných audiovizuálních děl a videoher | D3: 1. Posílení stability producentských firem a podpora jejich dlouhodobé spolupráce s kreativními týmy.
A4: Dotační okruh: Vývoj českého audiovizuálního díla | D4: 2. Podpora žánrové diverzity v české audiovizi.
A5: Lhůta pro podávání žádostí: 4. 5. 2026–17. 6. 2026 | D5: 3. Podpora debutů a projektů pro různé cílové skupiny.
A6: Finanční alokace: 7 000 000 Kč | D6: 4. Podpora projektů pro lokální trh i pro mezinárodní distribuci.
A7: Lhůta pro dokončení projektu: dle žádosti, nejpozději však do 30. 6. 2029 | D7: 5. Navýšení rozpočtů projektů ve vývoji skrze kofinancování z evropských i lokálních zdrojů.
A8: Forma podpory: investiční dotace
D9: Specifikace dotačního okruhu
D10: Podpora je určena pro kompletní vývoj celovečerních nebo krátkometrážních animovaných českých audiovizuálních děl (ve smyslu § 2 odst. 1 písm. e) a písm. i) zákona o audiovizi).
D11: Součástí projektu kompletního vývoje je vypracování konečné verze scénáře, audiovizuální ukázky či technologického testu, storyboardu nebo animatiku, vytvoření finančního plánu výroby obsahujícího vymezení plánovaných zdrojů krytí rozpočtu nákladů.
D12: Animovaným dílem se pro účely Státního fondu audiovize (dále jen „Fond“) rozumí dílo 100% animované, tj. bez kontinuálního záznamu živé akce.
D13: Krátkometrážním audiovizuálním dílem se pro účely Státního fondu audiovize (dále jen „Fond“) rozumí dílo o délce do 60 minut včetně, celovečerním audiovizuálním dílem se pro účely Fondu rozumí dílo se stopáží delší než 60 minut.
D14: Rada deklaruje, že v této výzvě podpoří min. 3 režijní a/nebo producentské debuty. Cílové hodnoty nebude muset Rada dodržet, ale pokud se tak stane, bude muset své rozhodnutí zdůvodnit.
A16: evidenční číslo projektu | B16: název žadatele | C16: název projektu | D16: celkový rozpočet projektu | E16: požadovaná podpora | F16: bodové hodnocení dle tvůrčího a realizačního testu | L16: bodové hodnocení Rada
F17: tvůrčí kritéria | H17: realizační kritéria
F18: Relevance projektu k výzvě | G18: Potenciál pro publikum | H18: Relevance k předchozí činnosti žadatele | I18: Kreativní tým | J18: Realizační strategie a ekonomika projektu | K18: Udržitelnost
F19: 0–30 | G19: 0–15 | H19: 0–20 | I19: 0–20 | J19: 0–10 | K19: 0–5
A20: 902-2026 | B20: Filmofon s.r.o. | C20: Vikýřník | D20: 900000 | E20: 750000 | F20: 15 | G20: 9 | H20: 16 | I20: 17 | J20: 8 | K20: 4 | L20: =SUM(F20:K20) -> 69
A21: 944-2026 | B21: Vernes s.r.o. | C21: Záhada hlavolamu | D21: 5031951 | E21: 2000000 | F21: 26 | G21: 13 | H21: 13 | I21: 16 | J21: 6 | K21: 4 | L21: =SUM(F21:K21) -> 78
A22: 947-2026 | B22: Alter Vision s.r.o. | C22: Základy lásky | D22: 965000 | E22: 750000 | F22: 20 | G22: 10 | H22: 13 | I22: 18 | J22: 5 | K22: 4 | L22: =SUM(F22:K22) -> 70
A23: 948-2026 | B23: radical empathy s.r.o. | C23: Pouto | D23: 849781 | E23: 400000 | F23: 17 | G23: 13 | H23: 10 | I23: 17 | J23: 8 | K23: 5 | L23: =SUM(F23:K23) -> 70
A24: 949-2026 | B24: Aussiger Vision s.r.o. | C24: Yog-Sothoth | D24: 1050000 | E24: 690000 | F24: 11 | G24: 10 | H24: 8 | I24: 15 | J24: 8 | K24: 4 | L24: =SUM(F24:K24) -> 56
A25: 950-2026 | B25: Other Stories s.r.o. | C25: Recordanza | D25: 6960000 | E25: 2000000 | F25: 24 | G25: 8 | H25: 11 | I25: 15 | J25: 8 | K25: 4 | L25: =SUM(F25:K25) -> 70
A26: 951-2026 | B26: OLDRICH COMPANY, s.r.o. | C26: Vzdálený horizont | D26: 1182000 | E26: 750000 | F26: 19 | G26: 11 | H26: 11 | I26: 15 | J26: 6 | K26: 4 | L26: =SUM(F26:K26) -> 66
A27: 952-2026 | B27: PFX CZ s.r.o. | C27: James & Margaret | D27: 1200000 | E27: 800000 | F27: 19 | G27: 12 | H27: 18 | I27: 14 | J27: 5 | K27: 3 | L27: =SUM(F27:K27) -> 71
A28: 953-2026 | B28: Films & Chips s.r.o. | C28: Dětství mého dědy | D28: 1776150 | E28: 750000 | F28: 23 | G28: 10 | H28: 12 | I28: 14 | J28: 7 | K28: 4 | L28: =SUM(F28:K28) -> 70
A29: 954-2026 | B29: MAUR film s.r.o. | C29: Kola | D29: 1073500 | E29: 750000 | F29: 11 | G29: 8 | H29: 20 | I29: 17 | J29: 7 | K29: 5 | L29: =SUM(F29:K29) -> 68
A30: 955-2026 | B30: STUDIO BEEP a.s. | C30: Hodina angličtiny | D30: 4712600 | E30: 1200000 | F30: 20 | G30: 12 | H30: 11 | I30: 16 | J30: 6 | K30: 4 | L30: =SUM(F30:K30) -> 69
D31: =SUM(D20:D30) -> 25700982 | E31: =SUM(E20:E30) -> 10840000

Sheet DŠ
A1: Kompletní vývoj animovaného filmu
A2: Evidenční číslo výzvy: 2026-C-1-3-36 | D2: Cíle podpory audiovize:
A3: Dotační kategorie: Podpora animovaných audiovizuálních děl a videoher | D3: 1. Posílení stability producentských firem a podpora jejich dlouhodobé spolupráce s kreativními týmy.
A4: Dotační okruh: Vývoj českého audiovizuálního díla | D4: 2. Podpora žánrové diverzity v české audiovizi.
A5: Lhůta pro podávání žádostí: 4. 5. 2026–17. 6. 2026 | D5: 3. Podpora debutů a projektů pro různé cílové skupiny.
A6: Finanční alokace: 7 000 000 Kč | D6: 4. Podpora projektů pro lokální trh i pro mezinárodní distribuci.
A7: Lhůta pro dokončení projektu: dle žádosti, nejpozději však do 30. 6. 2029 | D7: 5. Navýšení rozpočtů projektů ve vývoji skrze kofinancování z evropských i lokálních zdrojů.
A8: Forma podpory: investiční dotace
D9: Specifikace dotačního okruhu
D10: Podpora je určena pro kompletní vývoj celovečerních nebo krátkometrážních animovaných českých audiovizuálních děl (ve smyslu § 2 odst. 1 písm. e) a písm. i) zákona o audiovizi).
D11: Součástí projektu kompletního vývoje je vypracování konečné verze scénáře, audiovizuální ukázky či technologického testu, storyboardu nebo animatiku, vytvoření finančního plánu výroby obsahujícího vymezení plánovaných zdrojů krytí rozpočtu nákladů.
D12: Animovaným dílem se pro účely Státního fondu audiovize (dále jen „Fond“) rozumí dílo 100% animované, tj. bez kontinuálního záznamu živé akce.
D13: Krátkometrážním audiovizuálním dílem se pro účely Státního fondu audiovize (dále jen „Fond“) rozumí dílo o délce do 60 minut včetně, celovečerním audiovizuálním dílem se pro účely Fondu rozumí dílo se stopáží delší než 60 minut.
D14: Rada deklaruje, že v této výzvě podpoří min. 3 režijní a/nebo producentské debuty. Cílové hodnoty nebude muset Rada dodržet, ale pokud se tak stane, bude muset své rozhodnutí zdůvodnit.
A16: evidenční číslo projektu | B16: název žadatele | C16: název projektu | D16: celkový rozpočet projektu | E16: požadovaná podpora | F16: bodové hodnocení dle tvůrčího a realizačního testu | L16: bodové hodnocení Rada
F17: tvůrčí kritéria | H17: realizační kritéria
F18: Relevance projektu k výzvě | G18: Potenciál pro publikum | H18: Relevance k předchozí činnosti žadatele | I18: Kreativní tým | J18: Realizační strategie a ekonomika projektu | K18: Udržitelnost
F19: 0–30 | G19: 0–15 | H19: 0–20 | I19: 0–20 | J19: 0–10 | K19: 0–5
A20: 902-2026 | B20: Filmofon s.r.o. | C20: Vikýřník | D20: 900000 | E20: 750000 | F20: 17 | G20: 10 | H20: 14 | I20: 15 | J20: 7 | K20: 5 | L20: =SUM(F20:K20) -> 68
A21: 944-2026 | B21: Vernes s.r.o. | C21: Záhada hlavolamu | D21: 5031951 | E21: 2000000 | F21: 22 | G21: 12 | H21: 16 | I21: 12 | J21: 8 | K21: 5 | L21: =SUM(F21:K21) -> 75
A22: 947-2026 | B22: Alter Vision s.r.o. | C22: Základy lásky | D22: 965000 | E22: 750000 | F22: 21 | G22: 11 | H22: 14 | I22: 17 | J22: 2 | K22: 5 | L22: =SUM(F22:K22) -> 70
A23: 948-2026 | B23: radical empathy s.r.o. | C23: Pouto | D23: 849781 | E23: 400000 | F23: 21 | G23: 13 | H23: 14 | I23: 19 | J23: 8 | K23: 5 | L23: =SUM(F23:K23) -> 80
A24: 949-2026 | B24: Aussiger Vision s.r.o. | C24: Yog-Sothoth | D24: 1050000 | E24: 690000 | F24: 15 | G24: 7 | H24: 10 | I24: 16 | J24: 6 | K24: 5 | L24: =SUM(F24:K24) -> 59
A25: 950-2026 | B25: Other Stories s.r.o. | C25: Recordanza | D25: 6960000 | E25: 2000000 | F25: 23 | G25: 8 | H25: 14 | I25: 17 | J25: 3 | K25: 5 | L25: =SUM(F25:K25) -> 70
A26: 951-2026 | B26: OLDRICH COMPANY, s.r.o. | C26: Vzdálený horizont | D26: 1182000 | E26: 750000 | F26: 15 | G26: 8 | H26: 15 | I26: 12 | J26: 7 | K26: 5 | L26: =SUM(F26:K26) -> 62
A27: 952-2026 | B27: PFX CZ s.r.o. | C27: James & Margaret | D27: 1200000 | E27: 800000 | F27: 18 | G27: 7 | H27: 12 | I27: 10 | J27: 5 | K27: 5 | L27: =SUM(F27:K27) -> 57
A28: 953-2026 | B28: Films & Chips s.r.o. | C28: Dětství mého dědy | D28: 1776150 | E28: 750000 | F28: 23 | G28: 10 | H28: 12 | I28: 17 | J28: 8 | K28: 5 | L28: =SUM(F28:K28) -> 75
A29: 954-2026 | B29: MAUR film s.r.o. | C29: Kola | D29: 1073500 | E29: 750000 | F29: 12 | G29: 6 | H29: 18 | I29: 18 | J29: 6 | K29: 5 | L29: =SUM(F29:K29) -> 65
A30: 955-2026 | B30: STUDIO BEEP a.s. | C30: Hodina angličtiny | D30: 4712600 | E30: 1200000 | F30: 17 | G30: 9 | H30: 8 | I30: 10 | J30: 4 | K30: 5 | L30: =SUM(F30:K30) -> 53
D31: =SUM(D20:D30) -> 25700982 | E31: =SUM(E20:E30) -> 10840000

Sheet TL
A1: Kompletní vývoj animovaného filmu
A2: Evidenční číslo výzvy: 2026-C-1-3-36 | D2: Cíle podpory audiovize:
A3: Dotační kategorie: Podpora animovaných audiovizuálních děl a videoher | D3: 1. Posílení stability producentských firem a podpora jejich dlouhodobé spolupráce s kreativními týmy.
A4: Dotační okruh: Vývoj českého audiovizuálního díla | D4: 2. Podpora žánrové diverzity v české audiovizi.
A5: Lhůta pro podávání žádostí: 4. 5. 2026–17. 6. 2026 | D5: 3. Podpora debutů a projektů pro různé cílové skupiny.
A6: Finanční alokace: 7 000 000 Kč | D6: 4. Podpora projektů pro lokální trh i pro mezinárodní distribuci.
A7: Lhůta pro dokončení projektu: dle žádosti, nejpozději však do 30. 6. 2029 | D7: 5. Navýšení rozpočtů projektů ve vývoji skrze kofinancování z evropských i lokálních zdrojů.
A8: Forma podpory: investiční dotace
D9: Specifikace dotačního okruhu
D10: Podpora je určena pro kompletní vývoj celovečerních nebo krátkometrážních animovaných českých audiovizuálních děl (ve smyslu § 2 odst. 1 písm. e) a písm. i) zákona o audiovizi).
D11: Součástí projektu kompletního vývoje je vypracování konečné verze scénáře, audiovizuální ukázky či technologického testu, storyboardu nebo animatiku, vytvoření finančního plánu výroby obsahujícího vymezení plánovaných zdrojů krytí rozpočtu nákladů.
D12: Animovaným dílem se pro účely Státního fondu audiovize (dále jen „Fond“) rozumí dílo 100% animované, tj. bez kontinuálního záznamu živé akce.
D13: Krátkometrážním audiovizuálním dílem se pro účely Státního fondu audiovize (dále jen „Fond“) rozumí dílo o délce do 60 minut včetně, celovečerním audiovizuálním dílem se pro účely Fondu rozumí dílo se stopáží delší než 60 minut.
D14: Rada deklaruje, že v této výzvě podpoří min. 3 režijní a/nebo producentské debuty. Cílové hodnoty nebude muset Rada dodržet, ale pokud se tak stane, bude muset své rozhodnutí zdůvodnit.
A16: evidenční číslo projektu | B16: název žadatele | C16: název projektu | D16: celkový rozpočet projektu | E16: požadovaná podpora | F16: bodové hodnocení dle tvůrčího a realizačního testu | L16: bodové hodnocení Rada
F17: tvůrčí kritéria | H17: realizační kritéria
F18: Relevance projektu k výzvě | G18: Potenciál pro publikum | H18: Relevance k předchozí činnosti žadatele | I18: Kreativní tým | J18: Realizační strategie a ekonomika projektu | K18: Udržitelnost
F19: 0–30 | G19: 0–15 | H19: 0–20 | I19: 0–20 | J19: 0–10 | K19: 0–5
A20: 902-2026 | B20: Filmofon s.r.o. | C20: Vikýřník | D20: 900000 | E20: 750000 | F20: 16 | G20: 7 | H20: 11 | I20: 9 | J20: 6 | K20: 3 | L20: =SUM(F20:K20) -> 52
A21: 944-2026 | B21: Vernes s.r.o. | C21: Záhada hlavolamu | D21: 5031951 | E21: 2000000 | F21: 19 | G21: 15 | H21: 13 | I21: 14 | J21: 8 | K21: 3 | L21: =SUM(F21:K21) -> 72
A22: 947-2026 | B22: Alter Vision s.r.o. | C22: Základy lásky | D22: 965000 | E22: 750000 | F22: 20 | G22: 13 | H22: 12 | I22: 14 | J22: 7 | K22: 3 | L22: =SUM(F22:K22) -> 69
A23: 948-2026 | B23: radical empathy s.r.o. | C23: Pouto | D23: 849781 | E23: 400000 | F23: 21 | G23: 12 | H23: 13 | I23: 15 | J23: 7 | K23: 4 | L23: =SUM(F23:K23) -> 72
A24: 949-2026 | B24: Aussiger Vision s.r.o. | C24: Yog-Sothoth | D24: 1050000 | E24: 690000 | F24: 13 | G24: 6 | H24: 10 | I24: 8 | J24: 5 | K24: 2 | L24: =SUM(F24:K24) -> 44
A25: 950-2026 | B25: Other Stories s.r.o. | C25: Recordanza | D25: 6960000 | E25: 2000000 | F25: 18 | G25: 12 | H25: 14 | I25: 13 | J25: 7 | K25: 4 | L25: =SUM(F25:K25) -> 68
A26: 951-2026 | B26: OLDRICH COMPANY, s.r.o. | C26: Vzdálený horizont | D26: 1182000 | E26: 750000 | F26: 18 | G26: 11 | H26: 10 | I26: 9 | J26: 6 | K26: 3 | L26: =SUM(F26:K26) -> 57
A27: 952-2026 | B27: PFX CZ s.r.o. | C27: James & Margaret | D27: 1200000 | E27: 800000 | F27: 14 | G27: 11 | H27: 14 | I27: 8 | J27: 6 | K27: 3 | L27: =SUM(F27:K27) -> 56
A28: 953-2026 | B28: Films & Chips s.r.o. | C28: Dětství mého dědy | D28: 1776150 | E28: 750000 | F28: 20 | G28: 13 | H28: 12 | I28: 12 | J28: 7 | K28: 3 | L28: =SUM(F28:K28) -> 67
A29: 954-2026 | B29: MAUR film s.r.o. | C29: Kola | D29: 1073500 | E29: 750000 | F29: 15 | G29: 11 | H29: 18 | I29: 16 | J29: 2 | K29: 2 | L29: =SUM(F29:K29) -> 64
A30: 955-2026 | B30: STUDIO BEEP a.s. | C30: Hodina angličtiny | D30: 4712600 | E30: 1200000 | F30: 17 | G30: 10 | H30: 12 | I30: 11 | J30: 6 | K30: 3 | L30: =SUM(F30:K30) -> 59
D31: =SUM(D20:D30) -> 25700982 | E31: =SUM(E20:E30) -> 10840000

Sheet LG
A1: Kompletní vývoj animovaného filmu
A2: Evidenční číslo výzvy: 2026-C-1-3-36 | D2: Cíle podpory audiovize:
A3: Dotační kategorie: Podpora animovaných audiovizuálních děl a videoher | D3: 1. Posílení stability producentských firem a podpora jejich dlouhodobé spolupráce s kreativními týmy.
A4: Dotační okruh: Vývoj českého audiovizuálního díla | D4: 2. Podpora žánrové diverzity v české audiovizi.
A5: Lhůta pro podávání žádostí: 4. 5. 2026–17. 6. 2026 | D5: 3. Podpora debutů a projektů pro různé cílové skupiny.
A6: Finanční alokace: 7 000 000 Kč | D6: 4. Podpora projektů pro lokální trh i pro mezinárodní distribuci.
A7: Lhůta pro dokončení projektu: dle žádosti, nejpozději však do 30. 6. 2029 | D7: 5. Navýšení rozpočtů projektů ve vývoji skrze kofinancování z evropských i lokálních zdrojů.
A8: Forma podpory: investiční dotace
D9: Specifikace dotačního okruhu
D10: Podpora je určena pro kompletní vývoj celovečerních nebo krátkometrážních animovaných českých audiovizuálních děl (ve smyslu § 2 odst. 1 písm. e) a písm. i) zákona o audiovizi).
D11: Součástí projektu kompletního vývoje je vypracování konečné verze scénáře, audiovizuální ukázky či technologického testu, storyboardu nebo animatiku, vytvoření finančního plánu výroby obsahujícího vymezení plánovaných zdrojů krytí rozpočtu nákladů.
D12: Animovaným dílem se pro účely Státního fondu audiovize (dále jen „Fond“) rozumí dílo 100% animované, tj. bez kontinuálního záznamu živé akce.
D13: Krátkometrážním audiovizuálním dílem se pro účely Státního fondu audiovize (dále jen „Fond“) rozumí dílo o délce do 60 minut včetně, celovečerním audiovizuálním dílem se pro účely Fondu rozumí dílo se stopáží delší než 60 minut.
D14: Rada deklaruje, že v této výzvě podpoří min. 3 režijní a/nebo producentské debuty. Cílové hodnoty nebude muset Rada dodržet, ale pokud se tak stane, bude muset své rozhodnutí zdůvodnit.
A16: evidenční číslo projektu | B16: název žadatele | C16: název projektu | D16: celkový rozpočet projektu | E16: požadovaná podpora | F16: bodové hodnocení dle tvůrčího a realizačního testu | L16: bodové hodnocení Rada
F17: tvůrčí kritéria | H17: realizační kritéria
F18: Relevance projektu k výzvě | G18: Potenciál pro publikum | H18: Relevance k předchozí činnosti žadatele | I18: Kreativní tým | J18: Realizační strategie a ekonomika projektu | K18: Udržitelnost
F19: 0–30 | G19: 0–15 | H19: 0–20 | I19: 0–20 | J19: 0–10 | K19: 0–5
A20: 902-2026 | B20: Filmofon s.r.o. | C20: Vikýřník | D20: 900000 | E20: 750000 | F20: 13 | G20: 5 | H20: 14 | I20: 16 | J20: 6 | K20: 3 | L20: =SUM(F20:K20) -> 57
A21: 944-2026 | B21: Vernes s.r.o. | C21: Záhada hlavolamu | D21: 5031951 | E21: 2000000 | F21: 24 | G21: 13 | H21: 15 | I21: 15 | J21: 7 | K21: 3 | L21: =SUM(F21:K21) -> 77
A22: 947-2026 | B22: Alter Vision s.r.o. | C22: Základy lásky | D22: 965000 | E22: 750000 | F22: 19 | G22: 12 | H22: 13 | I22: 16 | J22: 6 | K22: 4 | L22: =SUM(F22:K22) -> 70
A23: 948-2026 | B23: radical empathy s.r.o. | C23: Pouto | D23: 849781 | E23: 400000 | F23: 25 | G23: 11 | H23: 14 | I23: 14 | J23: 5 | K23: 5 | L23: =SUM(F23:K23) -> 74
A24: 949-2026 | B24: Aussiger Vision s.r.o. | C24: Yog-Sothoth | D24: 1050000 | E24: 690000 | F24: 17 | G24: 5 | H24: 11 | I24: 15 | J24: 5 | K24: 2 | L24: =SUM(F24:K24) -> 55
A25: 950-2026 | B25: Other Stories s.r.o. | C25: Recordanza | D25: 6960000 | E25: 2000000 | F25: 23 | G25: 10 | H25: 14 | I25: 10 | J25: 6 | K25: 4 | L25: =SUM(F25:K25) -> 67
A26: 951-2026 | B26: OLDRICH COMPANY, s.r.o. | C26: Vzdálený horizont | D26: 1182000 | E26: 750000 | F26: 22 | G26: 6 | H26: 15 | I26: 16 | J26: 6 | K26: 3 | L26: =SUM(F26:K26) -> 68
A27: 952-2026 | B27: PFX CZ s.r.o. | C27: James & Margaret | D27: 1200000 | E27: 800000 | F27: 20 | G27: 10 | H27: 15 | I27: 14 | J27: 5 | K27: 2 | L27: =SUM(F27:K27) -> 66
A28: 953-2026 | B28: Films & Chips s.r.o. | C28: Dětství mého dědy | D28: 1776150 | E28: 750000 | F28: 20 | G28: 8 | H28: 12 | I28: 19 | J28: 6 | K28: 3 | L28: =SUM(F28:K28) -> 68
A29: 954-2026 | B29: MAUR film s.r.o. | C29: Kola | D29: 1073500 | E29: 750000 | F29: 10 | G29: 5 | H29: 16 | I29: 18 | J29: 6 | K29: 2 | L29: =SUM(F29:K29) -> 57
A30: 955-2026 | B30: STUDIO BEEP a.s. | C30: Hodina angličtiny | D30: 4712600 | E30: 1200000 | F30: 17 | G30: 11 | H30: 12 | I30: 16 | J30: 6 | K30: 5 | L30: =SUM(F30:K30) -> 67
D31: =SUM(D20:D30) -> 25700982 | E31: =SUM(E20:E30) -> 10840000

Sheet ZZ
A1: Kompletní vývoj animovaného filmu
A2: Evidenční číslo výzvy: 2026-C-1-3-36 | D2: Cíle podpory audiovize:
A3: Dotační kategorie: Podpora animovaných audiovizuálních děl a videoher | D3: 1. Posílení stability producentských firem a podpora jejich dlouhodobé spolupráce s kreativními týmy.
A4: Dotační okruh: Vývoj českého audiovizuálního díla | D4: 2. Podpora žánrové diverzity v české audiovizi.
A5: Lhůta pro podávání žádostí: 4. 5. 2026–17. 6. 2026 | D5: 3. Podpora debutů a projektů pro různé cílové skupiny.
A6: Finanční alokace: 7 000 000 Kč | D6: 4. Podpora projektů pro lokální trh i pro mezinárodní distribuci.
A7: Lhůta pro dokončení projektu: dle žádosti, nejpozději však do 30. 6. 2029 | D7: 5. Navýšení rozpočtů projektů ve vývoji skrze kofinancování z evropských i lokálních zdrojů.
A8: Forma podpory: investiční dotace
D9: Specifikace dotačního okruhu
D10: Podpora je určena pro kompletní vývoj celovečerních nebo krátkometrážních animovaných českých audiovizuálních děl (ve smyslu § 2 odst. 1 písm. e) a písm. i) zákona o audiovizi).
D11: Součástí projektu kompletního vývoje je vypracování konečné verze scénáře, audiovizuální ukázky či technologického testu, storyboardu nebo animatiku, vytvoření finančního plánu výroby obsahujícího vymezení plánovaných zdrojů krytí rozpočtu nákladů.
D12: Animovaným dílem se pro účely Státního fondu audiovize (dále jen „Fond“) rozumí dílo 100% animované, tj. bez kontinuálního záznamu živé akce.
D13: Krátkometrážním audiovizuálním dílem se pro účely Státního fondu audiovize (dále jen „Fond“) rozumí dílo o délce do 60 minut včetně, celovečerním audiovizuálním dílem se pro účely Fondu rozumí dílo se stopáží delší než 60 minut.
D14: Rada deklaruje, že v této výzvě podpoří min. 3 režijní a/nebo producentské debuty. Cílové hodnoty nebude muset Rada dodržet, ale pokud se tak stane, bude muset své rozhodnutí zdůvodnit.
A16: evidenční číslo projektu | B16: název žadatele | C16: název projektu | D16: celkový rozpočet projektu | E16: požadovaná podpora | F16: bodové hodnocení dle tvůrčího a realizačního testu | L16: bodové hodnocení Rada
F17: tvůrčí kritéria | H17: realizační kritéria
F18: Relevance projektu k výzvě | G18: Potenciál pro publikum | H18: Relevance k předchozí činnosti žadatele | I18: Kreativní tým | J18: Realizační strategie a ekonomika projektu | K18: Udržitelnost
F19: 0–30 | G19: 0–15 | H19: 0–20 | I19: 0–20 | J19: 0–10 | K19: 0–5
A20: 902-2026 | B20: Filmofon s.r.o. | C20: Vikýřník | D20: 900000 | E20: 750000 | F20: 21 | G20: 10 | H20: 13 | I20: 14 | J20: 6 | K20: 5 | L20: =SUM(F20:K20) -> 69
A21: 944-2026 | B21: Vernes s.r.o. | C21: Záhada hlavolamu | D21: 5031951 | E21: 2000000 | F21: 25 | G21: 11 | H21: 16 | I21: 18 | J21: 8 | K21: 4 | L21: =SUM(F21:K21) -> 82
A22: 947-2026 | B22: Alter Vision s.r.o. | C22: Základy lásky | D22: 965000 | E22: 750000 | F22: 23 | G22: 12 | H22: 13 | I22: 13 | J22: 6 | K22: 5 | L22: =SUM(F22:K22) -> 72
A23: 948-2026 | B23: radical empathy s.r.o. | C23: Pouto | D23: 849781 | E23: 400000 | F23: 20 | G23: 12 | H23: 14 | I23: 14 | J23: 5 | K23: 4 | L23: =SUM(F23:K23) -> 69
A24: 949-2026 | B24: Aussiger Vision s.r.o. | C24: Yog-Sothoth | D24: 1050000 | E24: 690000 | F24: 19 | G24: 8 | H24: 15 | I24: 14 | J24: 9 | K24: 3 | L24: =SUM(F24:K24) -> 68
A25: 950-2026 | B25: Other Stories s.r.o. | C25: Recordanza | D25: 6960000 | E25: 2000000 | F25: 24 | G25: 11 | H25: 15 | I25: 14 | J25: 8 | K25: 3 | L25: =SUM(F25:K25) -> 75
A26: 951-2026 | B26: OLDRICH COMPANY, s.r.o. | C26: Vzdálený horizont | D26: 1182000 | E26: 750000 | F26: 21 | G26: 9 | H26: 14 | I26: 11 | J26: 6 | K26: 3 | L26: =SUM(F26:K26) -> 64
A27: 952-2026 | B27: PFX CZ s.r.o. | C27: James & Margaret | D27: 1200000 | E27: 800000 | F27: 25 | G27: 12 | H27: 15 | I27: 15 | J27: 5 | K27: 3 | L27: =SUM(F27:K27) -> 75
A28: 953-2026 | B28: Films & Chips s.r.o. | C28: Dětství mého dědy | D28: 1776150 | E28: 750000 | F28: 23 | G28: 9 | H28: 15 | I28: 14 | J28: 5 | K28: 5 | L28: =SUM(F28:K28) -> 71
A29: 954-2026 | B29: MAUR film s.r.o. | C29: Kola | D29: 1073500 | E29: 750000 | F29: 15 | G29: 11 | H29: 17 | I29: 18 | J29: 5 | K29: 4 | L29: =SUM(F29:K29) -> 70
A30: 955-2026 | B30: STUDIO BEEP a.s. | C30: Hodina angličtiny | D30: 4712600 | E30: 1200000 | F30: 23 | G30: 11 | H30: 15 | I30: 15 | J30: 7 | K30: 5 | L30: =SUM(F30:K30) -> 76
D31: =SUM(D20:D30) -> 25700982 | E31: =SUM(E20:E30) -> 10840000
