Workbook

Sheet Vyroba_hrany_serial
A1: Výroba hraného seriálu nebo minisérie
A2: Evidenční číslo výzvy: 2026-B-2-4-40 | D2: Cíle podpory audiovize:
A3: Dotační kategorie: Podpora televizních děl | D3: 1. Posílení stability producentských firem a podpora jejich dlouhodobé spolupráce s kreativními týmy.
A4: Dotační okruh: Výroba českého audiovizuálního díla | D4: 2. Podpora žánrové diverzity v české audiovizi.
A5: Lhůta pro podávání žádostí: 15. 6. 2026–15. 7. 2026 | D5: 3. Podpora projektů pro různé cílové skupiny.
A6: Finanční alokace: 38 000 000 Kč | D6: 4. Podpora projektů pro lokální trh i pro mezinárodní distribuci.
A7: Lhůta pro dokončení projektu: dle žádosti, nejdříve však 3 měsíce po prvním uvedení díla na území ČR a zároveň nejpozději do 31. 12. 2030 | D7: 5. Podpora mezinárodních koprodukcí českých audiovizuálních děl. 6. Podpora exportu českých audiovizuálních děl.
A8: Forma podpory: investiční dotace
D10: Specifikace dotačního okruhu
D11: Podpora je určena pro hraná televizní díla (ve smyslu § 2 odst. 1 písm. c) zákona o audiovizi) ve formě minisérie (2–4 díly) nebo seriálu (5–13 dílů), která jsou českým audiovizuálním dílem ve smyslu § 2 odst. 1 písm. i) zákona o audiovizi a splňují tyto podmínky:
D12: 1. České audiovizuální dílo se 100% podílem výrobce nebo koproducentů na financování celkových výrobních nákladů, kteří mají místo podnikání, místo trvalého pobytu nebo sídlo na území České republiky nebo 2. České audiovizuální dílo, na jehož výrobě se koproducenti s místem podnikání, místem trvalého pobytu nebo sídlem na území České republiky, podílí společně s koproducentem nebo koproducenty, kteří mají místo podnikání, místo trvalého pobytu nebo sídlo mimo území České republiky, a přitom platí, že: a. u dvoustranné koprodukce musí být česká finanční účast na celkových výrobních nákladech projektu 40 % nebo vyšší b. u třístranné a vícestranné koprodukce musí být podíl české finanční účasti na celkových výrobních nákladech projektu 30 % nebo vyšší.
D13: Rada deklaruje, že smyslem podpory je navýšení production value vyráběných AV děl a tento fakt je parametrem, který Rada při udělování podpory zohledňuje.
D14: Zároveň Rada v této výzvě neurčuje specificky podporu režijních a producentských debutů.
A16: evidenční číslo projektu | B16: název žadatele | C16: název projektu | D16: celkový rozpočet projektu | E16: požadovaná podpora | F16: bodové hodnocení dle tvůrčího a realizačního testu | L16: bodové hodnocení Rada | M16: výše podpory | N16: žadatel – komplexní dílo ano/ne | O16: Rada – komplexní dílo ano/ne | P16: žadatel – náročné audiovizuální dílo ano/ne | Q16: Rada – náročné audiovizuální dílo ano/ne | R16: žadatel – intenzita podpory % | S16: Rada – intenzita podpory % | T16: žadatel – datum dokončení projektu | U16: Rada – lhůta pro dokončení | V16: maximální podíl podpory na celkových nákladech
F17: tvůrčí kritéria | H17: realizační kritéria
F18: Relevance projektu k výzvě | G18: Potenciál pro publikum | H18: Relevance k předchozí činnosti žadatele | I18: Kreativní tým | J18: Realizační strategie a ekonomika projektu | K18: Udržitelnost
F19: 0–30 | G19: 0–20 | H19: 0–10 | I19: 0–10 | J19: 0–20 | K19: 0–10
A20: 1062-2026 | B20: Wandal production s.r.o. | C20: S ledem v srdci | D20: 126781854 | E20: 12000000 | F20: =AVERAGE(MK!F24,BS!F24,TF!F24,PK!F24,AT!F24) -> 24.4 | G20: =AVERAGE(MK!G24,BS!G24,TF!G24,PK!G24,AT!G24) -> 16.8 | H20: =AVERAGE(MK!H24,BS!H24,TF!H24,PK!H24,AT!H24) -> 7.2 | I20: =AVERAGE(MK!I24,BS!I24,TF!I24,PK!I24,AT!I24) -> 8.6 | J20: =AVERAGE(MK!J24,BS!J24,TF!J24,PK!J24,AT!J24) -> 16.6 | K20: =AVERAGE(MK!K24,BS!K24,TF!K24,PK!K24,AT!K24) -> 8.4 | L20: =SUM(F20:K20) -> 82 | M20: 12000000 | N20: Ne | O20: Ne | P20: Ano | Q20: Ano | R20: 0.45 | S20: 0.7 | T20: 31.12.2029 | U20: 31.12.2030 | V20: =M20/(0.8*D20) -> 0.11831346
A21: 1064-2026 | B21: BFILM.cz s.r.o. | C21: Listopád | D21: 104952000 | E21: 12500000 | F21: =AVERAGE(MK!F25,BS!F25,TF!F25,PK!F25,AT!F25) -> 23.6 | G21: =AVERAGE(MK!G25,BS!G25,TF!G25,PK!G25,AT!G25) -> 16.4 | H21: =AVERAGE(MK!H25,BS!H25,TF!H25,PK!H25,AT!H25) -> 7.2 | I21: =AVERAGE(MK!I25,BS!I25,TF!I25,PK!I25,AT!I25) -> 9 | J21: =AVERAGE(MK!J25,BS!J25,TF!J25,PK!J25,AT!J25) -> 17 | K21: =AVERAGE(MK!K25,BS!K25,TF!K25,PK!K25,AT!K25) -> 8.6 | L21: =SUM(F21:K21) -> 81.8 | M21: 12500000 | N21: Ne | O21: Ne | P21: Ano | Q21: Ano | R21: 0.35 | S21: 0.7 | T21: 31.12.2029 | U21: 31.12.2030 | V21: =M21/(0.8*D21) -> 0.14887758
A22: 1050-2026 | B22: Stairway Films s.r.o. | C22: Šepot z lesa | D22: 76669942 | E22: 9000000 | F22: =AVERAGE(MK!F21,BS!F21,TF!F21,PK!F21,AT!F21) -> 24.2 | G22: =AVERAGE(MK!G21,BS!G21,TF!G21,PK!G21,AT!G21) -> 16.2 | H22: =AVERAGE(MK!H21,BS!H21,TF!H21,PK!H21,AT!H21) -> 7.6 | I22: =AVERAGE(MK!I21,BS!I21,TF!I21,PK!I21,AT!I21) -> 8 | J22: =AVERAGE(MK!J21,BS!J21,TF!J21,PK!J21,AT!J21) -> 16.4 | K22: =AVERAGE(MK!K21,BS!K21,TF!K21,PK!K21,AT!K21) -> 8 | L22: =SUM(F22:K22) -> 80.4 | M22: 9000000 | N22: Ne | O22: Ne | P22: Ne | Q22: Ne | R22: 0.43 | S22: 0.5 | T22: 31.12.2029 | U22: 31.12.2030 | V22: =M22/(0.8*D22) -> 0.14673286
A23: 1060-2026 | B23: FILM KOLEKTIV s.r.o. | C23: Jak chutná moc | D23: 127635678 | E23: 12000000 | F23: =AVERAGE(MK!F22,BS!F22,TF!F22,PK!F22,AT!F22) -> 22.6 | G23: =AVERAGE(MK!G22,BS!G22,TF!G22,PK!G22,AT!G22) -> 15 | H23: =AVERAGE(MK!H22,BS!H22,TF!H22,PK!H22,AT!H22) -> 10 | I23: =AVERAGE(MK!I22,BS!I22,TF!I22,PK!I22,AT!I22) -> 8.6 | J23: =AVERAGE(MK!J22,BS!J22,TF!J22,PK!J22,AT!J22) -> 14.8 | K23: =AVERAGE(MK!K22,BS!K22,TF!K22,PK!K22,AT!K22) -> 8.4 | L23: =SUM(F23:K23) -> 79.4 | N23: Ne | P23: Ano | R23: 0.42 | T23: 31.03.2030 | V23: =M23/(0.8*D23) -> 0
A24: 1048-2026 | B24: MINI MAX FILMS s.r.o. | C24: SCHODY DO NEBE | D24: 56681983 | E24: 9000000 | F24: =AVERAGE(MK!F20,BS!F20,TF!F20,PK!F20,AT!F20) -> 21.4 | G24: =AVERAGE(MK!G20,BS!G20,TF!G20,PK!G20,AT!G20) -> 12.6 | H24: =AVERAGE(MK!H20,BS!H20,TF!H20,PK!H20,AT!H20) -> 5 | I24: =AVERAGE(MK!I20,BS!I20,TF!I20,PK!I20,AT!I20) -> 6.6 | J24: =AVERAGE(MK!J20,BS!J20,TF!J20,PK!J20,AT!J20) -> 12.6 | K24: =AVERAGE(MK!K20,BS!K20,TF!K20,PK!K20,AT!K20) -> 6.8 | L24: =SUM(F24:K24) -> 65 | N24: Ne | P24: Ne | R24: 0.32 | T24: 03.12.2028 | V24: =M24/(0.8*D24) -> 0
A25: 1061-2026 | B25: Tuke Production, s.r.o. | C25: Vlčí bouda | D25: 35171000 | E25: 4000000 | F25: =AVERAGE(MK!F23,BS!F23,TF!F23,PK!F23,AT!F23) -> 16.6 | G25: =AVERAGE(MK!G23,BS!G23,TF!G23,PK!G23,AT!G23) -> 12 | H25: =AVERAGE(MK!H23,BS!H23,TF!H23,PK!H23,AT!H23) -> 5.6 | I25: =AVERAGE(MK!I23,BS!I23,TF!I23,PK!I23,AT!I23) -> 5.4 | J25: =AVERAGE(MK!J23,BS!J23,TF!J23,PK!J23,AT!J23) -> 12.8 | K25: =AVERAGE(MK!K23,BS!K23,TF!K23,PK!K23,AT!K23) -> 8 | L25: =SUM(F25:K25) -> 60.4 | N25: Ne | P25: Ano | R25: 0.36 | T25: 30.06.2030 | V25: =M25/(0.8*D25) -> 0
D26: =SUM(D20:D25) -> 527892457 | E26: =SUM(E20:E25) -> 58500000 | M26: =SUM(M20:M25) -> 33500000
L27: zbývá | M27: =38000000-M26 -> 4500000

Sheet MK
A1: Výroba hraného seriálu nebo minisérie
A2: Evidenční číslo výzvy: 2026-B-2-4-40 | D2: Cíle podpory audiovize:
A3: Dotační kategorie: Podpora televizních děl | D3: 1. Posílení stability producentských firem a podpora jejich dlouhodobé spolupráce s kreativními týmy.
A4: Dotační okruh: Výroba českého audiovizuálního díla | D4: 2. Podpora žánrové diverzity v české audiovizi.
A5: Lhůta pro podávání žádostí: 15. 6. 2026–15. 7. 2026 | D5: 3. Podpora projektů pro různé cílové skupiny.
A6: Finanční alokace: 38 000 000 Kč | D6: 4. Podpora projektů pro lokální trh i pro mezinárodní distribuci.
A7: Lhůta pro dokončení projektu: dle žádosti, nejdříve však 3 měsíce po prvním uvedení díla na území ČR a zároveň nejpozději do 31. 12. 2030 | D7: 5. Podpora mezinárodních koprodukcí českých audiovizuálních děl. 6. Podpora exportu českých audiovizuálních děl.
A8: Forma podpory: investiční dotace
D10: Specifikace dotačního okruhu
D11: Podpora je určena pro hraná televizní díla (ve smyslu § 2 odst. 1 písm. c) zákona o audiovizi) ve formě minisérie (2–4 díly) nebo seriálu (5–13 dílů), která jsou českým audiovizuálním dílem ve smyslu § 2 odst. 1 písm. i) zákona o audiovizi a splňují tyto podmínky:
D12: 1. České audiovizuální dílo se 100% podílem výrobce nebo koproducentů na financování celkových výrobních nákladů, kteří mají místo podnikání, místo trvalého pobytu nebo sídlo na území České republiky nebo 2. České audiovizuální dílo, na jehož výrobě se koproducenti s místem podnikání, místem trvalého pobytu nebo sídlem na území České republiky, podílí společně s koproducentem nebo koproducenty, kteří mají místo podnikání, místo trvalého pobytu nebo sídlo mimo území České republiky, a přitom platí, že: a. u dvoustranné koprodukce musí být česká finanční účast na celkových výrobních nákladech projektu 40 % nebo vyšší b. u třístranné a vícestranné koprodukce musí být podíl české finanční účasti na celkových výrobních nákladech projektu 30 % nebo vyšší.
D13: Rada deklaruje, že smyslem podpory je navýšení production value vyráběných AV děl a tento fakt je parametrem, který Rada při udělování podpory zohledňuje.
D14: Zároveň Rada v této výzvě neurčuje specificky podporu režijních a producentských debutů.
A16: evidenční číslo projektu | B16: název žadatele | C16: název projektu | D16: celkový rozpočet projektu | E16: požadovaná podpora | F16: bodové hodnocení dle tvůrčího a realizačního testu | L16: bodové hodnocení Rada
F17: tvůrčí kritéria | H17: realizační kritéria
F18: Relevance projektu k výzvě | G18: Potenciál pro publikum | H18: Relevance k předchozí činnosti žadatele | I18: Kreativní tým | J18: Realizační strategie a ekonomika projektu | K18: Udržitelnost
F19: 0–30 | G19: 0–20 | H19: 0–10 | I19: 0–10 | J19: 0–20 | K19: 0–10
A20: 1048-2026 | B20: MINI MAX FILMS s.r.o. | C20: SCHODY DO NEBE | D20: 56681983 | E20: 9000000 | F20: 22 | G20: 14 | H20: 5 | I20: 7 | J20: 12 | K20: 7 | L20: =SUM(F20:K20) -> 67
A21: 1050-2026 | B21: Stairway Films s.r.o. | C21: Šepot z lesa | D21: 76669942 | E21: 9000000 | F21: 24 | G21: 17 | H21: 7 | I21: 8 | J21: 16 | K21: 8 | L21: =SUM(F21:K21) -> 80
A22: 1060-2026 | B22: FILM KOLEKTIV s.r.o. | C22: Jak chutná moc | D22: 127635678 | E22: 12000000 | F22: 22 | G22: 15 | H22: 10 | I22: 8 | J22: 15 | K22: 9 | L22: =SUM(F22:K22) -> 79
A23: 1061-2026 | B23: Tuke Production, s.r.o. | C23: Vlčí bouda | D23: 35171000 | E23: 4000000 | F23: 16 | G23: 12 | H23: 6 | I23: 5 | J23: 12 | K23: 8 | L23: =SUM(F23:K23) -> 59
A24: 1062-2026 | B24: Wandal production s.r.o. | C24: S ledem v srdci | D24: 126781854 | E24: 12000000 | F24: 24 | G24: 17 | H24: 7 | I24: 8 | J24: 17 | K24: 9 | L24: =SUM(F24:K24) -> 82
A25: 1064-2026 | B25: BFILM.cz s.r.o. | C25: Listopád | D25: 104952000 | E25: 12500000 | F25: 24 | G25: 16 | H25: 7 | I25: 9 | J25: 17 | K25: 9 | L25: =SUM(F25:K25) -> 82
D26: =SUM(D20:D25) -> 527892457 | E26: =SUM(E20:E25) -> 58500000

Sheet BS
A1: Výroba hraného seriálu nebo minisérie
A2: Evidenční číslo výzvy: 2026-B-2-4-40 | D2: Cíle podpory audiovize:
A3: Dotační kategorie: Podpora televizních děl | D3: 1. Posílení stability producentských firem a podpora jejich dlouhodobé spolupráce s kreativními týmy.
A4: Dotační okruh: Výroba českého audiovizuálního díla | D4: 2. Podpora žánrové diverzity v české audiovizi.
A5: Lhůta pro podávání žádostí: 15. 6. 2026–15. 7. 2026 | D5: 3. Podpora projektů pro různé cílové skupiny.
A6: Finanční alokace: 38 000 000 Kč | D6: 4. Podpora projektů pro lokální trh i pro mezinárodní distribuci.
A7: Lhůta pro dokončení projektu: dle žádosti, nejdříve však 3 měsíce po prvním uvedení díla na území ČR a zároveň nejpozději do 31. 12. 2030 | D7: 5. Podpora mezinárodních koprodukcí českých audiovizuálních děl. 6. Podpora exportu českých audiovizuálních děl.
A8: Forma podpory: investiční dotace
D10: Specifikace dotačního okruhu
D11: Podpora je určena pro hraná televizní díla (ve smyslu § 2 odst. 1 písm. c) zákona o audiovizi) ve formě minisérie (2–4 díly) nebo seriálu (5–13 dílů), která jsou českým audiovizuálním dílem ve smyslu § 2 odst. 1 písm. i) zákona o audiovizi a splňují tyto podmínky:
D12: 1. České audiovizuální dílo se 100% podílem výrobce nebo koproducentů na financování celkových výrobních nákladů, kteří mají místo podnikání, místo trvalého pobytu nebo sídlo na území České republiky nebo 2. České audiovizuální dílo, na jehož výrobě se koproducenti s místem podnikání, místem trvalého pobytu nebo sídlem na území České republiky, podílí společně s koproducentem nebo koproducenty, kteří mají místo podnikání, místo trvalého pobytu nebo sídlo mimo území České republiky, a přitom platí, že: a. u dvoustranné koprodukce musí být česká finanční účast na celkových výrobních nákladech projektu 40 % nebo vyšší b. u třístranné a vícestranné koprodukce musí být podíl české finanční účasti na celkových výrobních nákladech projektu 30 % nebo vyšší.
D13: Rada deklaruje, že smyslem podpory je navýšení production value vyráběných AV děl a tento fakt je parametrem, který Rada při udělování podpory zohledňuje.
D14: Zároveň Rada v této výzvě neurčuje specificky podporu režijních a producentských debutů.
A16: evidenční číslo projektu | B16: název žadatele | C16: název projektu | D16: celkový rozpočet projektu | E16: požadovaná podpora | F16: bodové hodnocení dle tvůrčího a realizačního testu | L16: bodové hodnocení Rada
F17: tvůrčí kritéria | H17: realizační kritéria
F18: Relevance projektu k výzvě | G18: Potenciál pro publikum | H18: Relevance k předchozí činnosti žadatele | I18: Kreativní tým | J18: Realizační strategie a ekonomika projektu | K18: Udržitelnost
F19: 0–30 | G19: 0–20 | H19: 0–10 | I19: 0–10 | J19: 0–20 | K19: 0–10
A20: 1048-2026 | B20: MINI MAX FILMS s.r.o. | C20: SCHODY DO NEBE | D20: 56681983 | E20: 9000000 | F20: 20 | G20: 12 | H20: 5 | I20: 6 | J20: 13 | K20: 6 | L20: =SUM(F20:K20) -> 62
A21: 1050-2026 | B21: Stairway Films s.r.o. | C21: Šepot z lesa | D21: 76669942 | E21: 9000000 | F21: 25 | G21: 16 | H21: 8 | I21: 8 | J21: 17 | K21: 8 | L21: =SUM(F21:K21) -> 82
A22: 1060-2026 | B22: FILM KOLEKTIV s.r.o. | C22: Jak chutná moc | D22: 127635678 | E22: 12000000 | F22: 23 | G22: 15 | H22: 10 | I22: 9 | J22: 14 | K22: 8 | L22: =SUM(F22:K22) -> 79
A23: 1061-2026 | B23: Tuke Production, s.r.o. | C23: Vlčí bouda | D23: 35171000 | E23: 4000000 | F23: 17 | G23: 12 | H23: 5 | I23: 6 | J23: 14 | K23: 8 | L23: =SUM(F23:K23) -> 62
A24: 1062-2026 | B24: Wandal production s.r.o. | C24: S ledem v srdci | D24: 126781854 | E24: 12000000 | F24: 25 | G24: 17 | H24: 7 | I24: 9 | J24: 17 | K24: 9 | L24: =SUM(F24:K24) -> 84
A25: 1064-2026 | B25: BFILM.cz s.r.o. | C25: Listopád | D25: 104952000 | E25: 12500000 | F25: 25 | G25: 17 | H25: 7 | I25: 9 | J25: 17 | K25: 9 | L25: =SUM(F25:K25) -> 84
D26: =SUM(D20:D25) -> 527892457 | E26: =SUM(E20:E25) -> 58500000

Sheet TF
A1: Výroba hraného seriálu nebo minisérie
A2: Evidenční číslo výzvy: 2026-B-2-4-40 | D2: Cíle podpory audiovize:
A3: Dotační kategorie: Podpora televizních děl | D3: 1. Posílení stability producentských firem a podpora jejich dlouhodobé spolupráce s kreativními týmy.
A4: Dotační okruh: Výroba českého audiovizuálního díla | D4: 2. Podpora žánrové diverzity v české audiovizi.
A5: Lhůta pro podávání žádostí: 15. 6. 2026–15. 7. 2026 | D5: 3. Podpora projektů pro různé cílové skupiny.
A6: Finanční alokace: 38 000 000 Kč | D6: 4. Podpora projektů pro lokální trh i pro mezinárodní distribuci.
A7: Lhůta pro dokončení projektu: dle žádosti, nejdříve však 3 měsíce po prvním uvedení díla na území ČR a zároveň nejpozději do 31. 12. 2030 | D7: 5. Podpora mezinárodních koprodukcí českých audiovizuálních děl. 6. Podpora exportu českých audiovizuálních děl.
A8: Forma podpory: investiční dotace
D10: Specifikace dotačního okruhu
D11: Podpora je určena pro hraná televizní díla (ve smyslu § 2 odst. 1 písm. c) zákona o audiovizi) ve formě minisérie (2–4 díly) nebo seriálu (5–13 dílů), která jsou českým audiovizuálním dílem ve smyslu § 2 odst. 1 písm. i) zákona o audiovizi a splňují tyto podmínky:
D12: 1. České audiovizuální dílo se 100% podílem výrobce nebo koproducentů na financování celkových výrobních nákladů, kteří mají místo podnikání, místo trvalého pobytu nebo sídlo na území České republiky nebo 2. České audiovizuální dílo, na jehož výrobě se koproducenti s místem podnikání, místem trvalého pobytu nebo sídlem na území České republiky, podílí společně s koproducentem nebo koproducenty, kteří mají místo podnikání, místo trvalého pobytu nebo sídlo mimo území České republiky, a přitom platí, že: a. u dvoustranné koprodukce musí být česká finanční účast na celkových výrobních nákladech projektu 40 % nebo vyšší b. u třístranné a vícestranné koprodukce musí být podíl české finanční účasti na celkových výrobních nákladech projektu 30 % nebo vyšší.
D13: Rada deklaruje, že smyslem podpory je navýšení production value vyráběných AV děl a tento fakt je parametrem, který Rada při udělování podpory zohledňuje.
D14: Zároveň Rada v této výzvě neurčuje specificky podporu režijních a producentských debutů.
A16: evidenční číslo projektu | B16: název žadatele | C16: název projektu | D16: celkový rozpočet projektu | E16: požadovaná podpora | F16: bodové hodnocení dle tvůrčího a realizačního testu | L16: bodové hodnocení Rada
F17: tvůrčí kritéria | H17: realizační kritéria
F18: Relevance projektu k výzvě | G18: Potenciál pro publikum | H18: Relevance k předchozí činnosti žadatele | I18: Kreativní tým | J18: Realizační strategie a ekonomika projektu | K18: Udržitelnost
F19: 0–30 | G19: 0–20 | H19: 0–10 | I19: 0–10 | J19: 0–20 | K19: 0–10
A20: 1048-2026 | B20: MINI MAX FILMS s.r.o. | C20: SCHODY DO NEBE | D20: 56681983 | E20: 9000000 | F20: 22 | G20: 12 | H20: 5 | I20: 7 | J20: 13 | K20: 7 | L20: =SUM(F20:K20) -> 66
A21: 1050-2026 | B21: Stairway Films s.r.o. | C21: Šepot z lesa | D21: 76669942 | E21: 9000000 | F21: 24 | G21: 16 | H21: 8 | I21: 8 | J21: 16 | K21: 8 | L21: =SUM(F21:K21) -> 80
A22: 1060-2026 | B22: FILM KOLEKTIV s.r.o. | C22: Jak chutná moc | D22: 127635678 | E22: 12000000 | F22: 22 | G22: 15 | H22: 10 | I22: 9 | J22: 15 | K22: 8 | L22: =SUM(F22:K22) -> 79
A23: 1061-2026 | B23: Tuke Production, s.r.o. | C23: Vlčí bouda | D23: 35171000 | E23: 4000000 | F23: 17 | G23: 12 | H23: 5 | I23: 5 | J23: 14 | K23: 8 | L23: =SUM(F23:K23) -> 61
A24: 1062-2026 | B24: Wandal production s.r.o. | C24: S ledem v srdci | D24: 126781854 | E24: 12000000 | F24: 24 | G24: 16 | H24: 7 | I24: 9 | J24: 17 | K24: 8 | L24: =SUM(F24:K24) -> 81
A25: 1064-2026 | B25: BFILM.cz s.r.o. | C25: Listopád | D25: 104952000 | E25: 12500000 | F25: 24 | G25: 16 | H25: 7 | I25: 9 | J25: 17 | K25: 8 | L25: =SUM(F25:K25) -> 81
D26: =SUM(D20:D25) -> 527892457 | E26: =SUM(E20:E25) -> 58500000

Sheet PK
A1: Výroba hraného seriálu nebo minisérie
A2: Evidenční číslo výzvy: 2026-B-2-4-40 | D2: Cíle podpory audiovize:
A3: Dotační kategorie: Podpora televizních děl | D3: 1. Posílení stability producentských firem a podpora jejich dlouhodobé spolupráce s kreativními týmy.
A4: Dotační okruh: Výroba českého audiovizuálního díla | D4: 2. Podpora žánrové diverzity v české audiovizi.
A5: Lhůta pro podávání žádostí: 15. 6. 2026–15. 7. 2026 | D5: 3. Podpora projektů pro různé cílové skupiny.
A6: Finanční alokace: 38 000 000 Kč | D6: 4. Podpora projektů pro lokální trh i pro mezinárodní distribuci.
A7: Lhůta pro dokončení projektu: dle žádosti, nejdříve však 3 měsíce po prvním uvedení díla na území ČR a zároveň nejpozději do 31. 12. 2030 | D7: 5. Podpora mezinárodních koprodukcí českých audiovizuálních děl. 6. Podpora exportu českých audiovizuálních děl.
A8: Forma podpory: investiční dotace
D10: Specifikace dotačního okruhu
D11: Podpora je určena pro hraná televizní díla (ve smyslu § 2 odst. 1 písm. c) zákona o audiovizi) ve formě minisérie (2–4 díly) nebo seriálu (5–13 dílů), která jsou českým audiovizuálním dílem ve smyslu § 2 odst. 1 písm. i) zákona o audiovizi a splňují tyto podmínky:
D12: 1. České audiovizuální dílo se 100% podílem výrobce nebo koproducentů na financování celkových výrobních nákladů, kteří mají místo podnikání, místo trvalého pobytu nebo sídlo na území České republiky nebo 2. České audiovizuální dílo, na jehož výrobě se koproducenti s místem podnikání, místem trvalého pobytu nebo sídlem na území České republiky, podílí společně s koproducentem nebo koproducenty, kteří mají místo podnikání, místo trvalého pobytu nebo sídlo mimo území České republiky, a přitom platí, že: a. u dvoustranné koprodukce musí být česká finanční účast na celkových výrobních nákladech projektu 40 % nebo vyšší b. u třístranné a vícestranné koprodukce musí být podíl české finanční účasti na celkových výrobních nákladech projektu 30 % nebo vyšší.
D13: Rada deklaruje, že smyslem podpory je navýšení production value vyráběných AV děl a tento fakt je parametrem, který Rada při udělování podpory zohledňuje.
D14: Zároveň Rada v této výzvě neurčuje specificky podporu režijních a producentských debutů.
A16: evidenční číslo projektu | B16: název žadatele | C16: název projektu | D16: celkový rozpočet projektu | E16: požadovaná podpora | F16: bodové hodnocení dle tvůrčího a realizačního testu | L16: bodové hodnocení Rada
F17: tvůrčí kritéria | H17: realizační kritéria
F18: Relevance projektu k výzvě | G18: Potenciál pro publikum | H18: Relevance k předchozí činnosti žadatele | I18: Kreativní tým | J18: Realizační strategie a ekonomika projektu | K18: Udržitelnost
F19: 0–30 | G19: 0–20 | H19: 0–10 | I19: 0–10 | J19: 0–20 | K19: 0–10
A20: 1048-2026 | B20: MINI MAX FILMS s.r.o. | C20: SCHODY DO NEBE | D20: 56681983 | E20: 9000000 | F20: 22 | G20: 13 | H20: 5 | I20: 6 | J20: 13 | K20: 7 | L20: =SUM(F20:K20) -> 66
A21: 1050-2026 | B21: Stairway Films s.r.o. | C21: Šepot z lesa | D21: 76669942 | E21: 9000000 | F21: 24 | G21: 16 | H21: 8 | I21: 8 | J21: 17 | K21: 8 | L21: =SUM(F21:K21) -> 81
A22: 1060-2026 | B22: FILM KOLEKTIV s.r.o. | C22: Jak chutná moc | D22: 127635678 | E22: 12000000 | F22: 24 | G22: 15 | H22: 10 | I22: 8 | J22: 15 | K22: 8 | L22: =SUM(F22:K22) -> 80
A23: 1061-2026 | B23: Tuke Production, s.r.o. | C23: Vlčí bouda | D23: 35171000 | E23: 4000000 | F23: 16 | G23: 12 | H23: 6 | I23: 5 | J23: 13 | K23: 8 | L23: =SUM(F23:K23) -> 60
A24: 1062-2026 | B24: Wandal production s.r.o. | C24: S ledem v srdci | D24: 126781854 | E24: 12000000 | F24: 25 | G24: 17 | H24: 8 | I24: 8 | J24: 16 | K24: 8 | L24: =SUM(F24:K24) -> 82
A25: 1064-2026 | B25: BFILM.cz s.r.o. | C25: Listopád | D25: 104952000 | E25: 12500000 | F25: 22 | G25: 16 | H25: 7 | I25: 9 | J25: 17 | K25: 8 | L25: =SUM(F25:K25) -> 79
D26: =SUM(D20:D25) -> 527892457 | E26: =SUM(E20:E25) -> 58500000

Sheet AT
A1: Výroba hraného seriálu nebo minisérie
A2: Evidenční číslo výzvy: 2026-B-2-4-40 | D2: Cíle podpory audiovize:
A3: Dotační kategorie: Podpora televizních děl | D3: 1. Posílení stability producentských firem a podpora jejich dlouhodobé spolupráce s kreativními týmy.
A4: Dotační okruh: Výroba českého audiovizuálního díla | D4: 2. Podpora žánrové diverzity v české audiovizi.
A5: Lhůta pro podávání žádostí: 15. 6. 2026–15. 7. 2026 | D5: 3. Podpora projektů pro různé cílové skupiny.
A6: Finanční alokace: 38 000 000 Kč | D6: 4. Podpora projektů pro lokální trh i pro mezinárodní distribuci.
A7: Lhůta pro dokončení projektu: dle žádosti, nejdříve však 3 měsíce po prvním uvedení díla na území ČR a zároveň nejpozději do 31. 12. 2030 | D7: 5. Podpora mezinárodních koprodukcí českých audiovizuálních děl. 6. Podpora exportu českých audiovizuálních děl.
A8: Forma podpory: investiční dotace
D10: Specifikace dotačního okruhu
D11: Podpora je určena pro hraná televizní díla (ve smyslu § 2 odst. 1 písm. c) zákona o audiovizi) ve formě minisérie (2–4 díly) nebo seriálu (5–13 dílů), která jsou českým audiovizuálním dílem ve smyslu § 2 odst. 1 písm. i) zákona o audiovizi a splňují tyto podmínky:
D12: 1. České audiovizuální dílo se 100% podílem výrobce nebo koproducentů na financování celkových výrobních nákladů, kteří mají místo podnikání, místo trvalého pobytu nebo sídlo na území České republiky nebo 2. České audiovizuální dílo, na jehož výrobě se koproducenti s místem podnikání, místem trvalého pobytu nebo sídlem na území České republiky, podílí společně s koproducentem nebo koproducenty, kteří mají místo podnikání, místo trvalého pobytu nebo sídlo mimo území České republiky, a přitom platí, že: a. u dvoustranné koprodukce musí být česká finanční účast na celkových výrobních nákladech projektu 40 % nebo vyšší b. u třístranné a vícestranné koprodukce musí být podíl české finanční účasti na celkových výrobních nákladech projektu 30 % nebo vyšší.
D13: Rada deklaruje, že smyslem podpory je navýšení production value vyráběných AV děl a tento fakt je parametrem, který Rada při udělování podpory zohledňuje.
D14: Zároveň Rada v této výzvě neurčuje specificky podporu režijních a producentských debutů.
A16: evidenční číslo projektu | B16: název žadatele | C16: název projektu | D16: celkový rozpočet projektu | E16: požadovaná podpora | F16: bodové hodnocení dle tvůrčího a realizačního testu | L16: bodové hodnocení Rada
F17: tvůrčí kritéria | H17: realizační kritéria
F18: Relevance projektu k výzvě | G18: Potenciál pro publikum | H18: Relevance k předchozí činnosti žadatele | I18: Kreativní tým | J18: Realizační strategie a ekonomika projektu | K18: Udržitelnost
F19: 0–30 | G19: 0–20 | H19: 0–10 | I19: 0–10 | J19: 0–20 | K19: 0–10
A20: 1048-2026 | B20: MINI MAX FILMS s.r.o. | C20: SCHODY DO NEBE | D20: 56681983 | E20: 9000000 | F20: 21 | G20: 12 | H20: 5 | I20: 7 | J20: 12 | K20: 7 | L20: =SUM(F20:K20) -> 64
A21: 1050-2026 | B21: Stairway Films s.r.o. | C21: Šepot z lesa | D21: 76669942 | E21: 9000000 | F21: 24 | G21: 16 | H21: 7 | I21: 8 | J21: 16 | K21: 8 | L21: =SUM(F21:K21) -> 79
A22: 1060-2026 | B22: FILM KOLEKTIV s.r.o. | C22: Jak chutná moc | D22: 127635678 | E22: 12000000 | F22: 22 | G22: 15 | H22: 10 | I22: 9 | J22: 15 | K22: 9 | L22: =SUM(F22:K22) -> 80
A23: 1061-2026 | B23: Tuke Production, s.r.o. | C23: Vlčí bouda | D23: 35171000 | E23: 4000000 | F23: 17 | G23: 12 | H23: 6 | I23: 6 | J23: 11 | K23: 8 | L23: =SUM(F23:K23) -> 60
A24: 1062-2026 | B24: Wandal production s.r.o. | C24: S ledem v srdci | D24: 126781854 | E24: 12000000 | F24: 24 | G24: 17 | H24: 7 | I24: 9 | J24: 16 | K24: 8 | L24: =SUM(F24:K24) -> 81
A25: 1064-2026 | B25: BFILM.cz s.r.o. | C25: Listopád | D25: 104952000 | E25: 12500000 | F25: 23 | G25: 17 | H25: 8 | I25: 9 | J25: 17 | K25: 9 | L25: =SUM(F25:K25) -> 83
D26: =SUM(D20:D25) -> 527892457 | E26: =SUM(E20:E25) -> 58500000
