Workbook

Sheet Vyroba_doku_dilo
A1: Výroba dokumentárního díla
A2: Evidenční číslo výzvy: 2026-B-2-3-39 | D2: Cíle podpory audiovize:
A3: Dotační kategorie: Podpora televizních děl | D3: 1. Posílení stability producentských firem a podpora jejich dlouhodobé spolupráce s kreativními týmy.
A4: Dotační okruh: Výroba českého audiovizuálního díla | D4: 2. Podpora žánrové diverzity v české audiovizi.
A5: Lhůta pro podávání žádostí: 15. 6. 2026–15. 7. 2026 | D5: 3. Podpora projektů pro různé cílové skupiny.
A6: Finanční alokace: 15 000 000 Kč | D6: 4. Podpora projektů pro lokální trh i pro mezinárodní distribuci.
A7: Lhůta pro dokončení projektu: dle žádosti, nejdříve však 3 měsíce po prvním uvedení díla na území ČR a zároveň nejpozději do 31. 12. 2030 | D7: 5. Podpora mezinárodních koprodukcí českých audiovizuálních děl. 6. Podpora exportu českých audiovizuálních děl.
A8: Forma podpory: investiční dotace
D10: Specifikace dotačního okruhu
D11: Podpora je určena pro dokumentární televizní díla (ve smyslu § 2 odst. 1 písm. c) zákona o audiovizi) ve formě jednotlivých krátkometrážních nebo celovečerních dokumentárních děl, dokumentární minisérie (2–4 díly) nebo dokumentárního seriálu (5–13 dílů), která jsou českým audiovizuálním dílem dle § 2 odst. 1 písm. i) zákona o audiovizi a splňují tyto podmínky:
D12: 1. České audiovizuální dílo se 100% podílem výrobce nebo koproducentů na financování celkových výrobních nákladů, kteří mají místo podnikání, místo trvalého pobytu nebo sídlo na území České republiky nebo 2. České audiovizuální dílo, na jehož výrobě se koproducenti s místem podnikání, místem trvalého pobytu nebo sídlem na území České republiky, podílí společně s koproducentem nebo koproducenty, kteří mají místo podnikání, místo trvalého pobytu nebo sídlo mimo území České republiky, a přitom platí, že: a. u dvoustranné koprodukce musí být česká finanční účast na celkových výrobních nákladech projektu 40 % nebo vyšší b. u třístranné a vícestranné koprodukce musí být podíl české finanční účasti na celkových výrobních nákladech projektu 30 % nebo vyšší.
D13: Krátkometrážním audiovizuálním dílem se pro účely Fondu rozumí dílo se stopáží 60 minut a kratší.
D14: Celovečerním audiovizuálním dílem se pro účely Státního fondu audiovize (dále jen „Fond“) rozumí dílo se stopáží delší než 60 minut.
D15: Rada si vedle cílů podpory stanoví ve výzvě za cíl podporovat společensky závažná, kreativně a filmařsky náročná díla, která se vymykají běžné televizní tvorbě.
D16: Zároveň Rada v této výzvě neurčuje specificky podporu režijních a producentských debutů.
A18: evidenční číslo projektu | B18: název žadatele | C18: název projektu | D18: celkový rozpočet projektu | E18: požadovaná podpora | F18: bodové hodnocení dle tvůrčího a realizačního testu | L18: bodové hodnocení Rada | M18: výše podpory | N18: žadatel – komplexní dílo ano/ne | O18: Rada – komplexní dílo ano/ne | P18: žadatel – náročné audiovizuální dílo ano/ne | Q18: Rada – náročné audiovizuální dílo ano/ne | R18: žadatel – intenzita podpory % | S18: Rada – intenzita podpory % | T18: žadatel – datum dokončení projektu | U18: Rada – lhůta pro dokončení | V18: maximální podíl podpory na celkových nákladech
F19: tvůrčí kritéria | H19: realizační kritéria
F20: Relevance projektu k výzvě | G20: Potenciál pro publikum | H20: Relevance k předchozí činnosti žadatele | I20: Kreativní tým | J20: Realizační strategie a ekonomika projektu | K20: Udržitelnost
F21: 0–30 | G21: 0–20 | H21: 0–10 | I21: 0–10 | J21: 0–20 | K21: 0–10
A22: 1063-2026 | B22: Mimesis Film s.r.o. | C22: Zálohy | D22: 3650000 | E22: 1900000 | F22: =AVERAGE(MK!F32,BS!F32,TF!F32,PK!F32,AT!F32) -> 25.4 | G22: =AVERAGE(MK!G32,BS!G32,TF!G32,PK!G32,AT!G32) -> 16.8 | H22: =AVERAGE(MK!H32,BS!H32,TF!H32,PK!H32,AT!H32) -> 9 | I22: =AVERAGE(MK!I32,BS!I32,TF!I32,PK!I32,AT!I32) -> 8.2 | J22: =AVERAGE(MK!J32,BS!J32,TF!J32,PK!J32,AT!J32) -> 17 | K22: =AVERAGE(MK!K32,BS!K32,TF!K32,PK!K32,AT!K32) -> 7.8 | L22: =SUM(F22:K22) -> 84.2 | M22: 1710000 | N22: Ne | O22: Ne | P22: Ano | Q22: Ano | R22: 0.75 | S22: 0.9 | T22: 31.03.2028 | U22: 31.12.2030 | V22: =M22/(0.8*D22) -> 0.58561644
A23: 1066-2026 | B23: CLAW AV s.r.o. | C23: Za jak dlouho vymřeme? | D23: 3060000 | E23: 1400000 | F23: =AVERAGE(MK!F34,BS!F34,TF!F34,PK!F34,AT!F34) -> 24.8 | G23: =AVERAGE(MK!G34,BS!G34,TF!G34,PK!G34,AT!G34) -> 16.6 | H23: =AVERAGE(MK!H34,BS!H34,TF!H34,PK!H34,AT!H34) -> 8 | I23: =AVERAGE(MK!I34,BS!I34,TF!I34,PK!I34,AT!I34) -> 8.4 | J23: =AVERAGE(MK!J34,BS!J34,TF!J34,PK!J34,AT!J34) -> 15.8 | K23: =AVERAGE(MK!K34,BS!K34,TF!K34,PK!K34,AT!K34) -> 9 | L23: =SUM(F23:K23) -> 82.6 | M23: 1260000 | N23: Ne | O23: Ne | P23: Ano | Q23: Ano | R23: 0.85 | S23: 0.9 | T23: 10.01.2029 | U23: 31.12.2030 | V23: =M23/(0.8*D23) -> 0.51470588
A24: 1071-2026 | B24: GPO Platform s.r.o. | C24: Moje sestra Anna | D24: 5492000 | E24: 1907000 | F24: =AVERAGE(MK!F38,BS!F38,TF!F38,PK!F38,AT!F38) -> 25 | G24: =AVERAGE(MK!G38,BS!G38,TF!G38,PK!G38,AT!G38) -> 16.2 | H24: =AVERAGE(MK!H38,BS!H38,TF!H38,PK!H38,AT!H38) -> 7.4 | I24: =AVERAGE(MK!I38,BS!I38,TF!I38,PK!I38,AT!I38) -> 9 | J24: =AVERAGE(MK!J38,BS!J38,TF!J38,PK!J38,AT!J38) -> 16 | K24: =AVERAGE(MK!K38,BS!K38,TF!K38,PK!K38,AT!K38) -> 9 | L24: =SUM(F24:K24) -> 82.6 | M24: 1716300 | N24: Ne | O24: Ne | P24: Ano | Q24: Ano | R24: 0.62 | S24: 0.9 | T24: 17.07.2029 | U24: 31.12.2030 | V24: =M24/(0.8*D24) -> 0.39063638
A25: 1073-2026 | B25: D1 FILM s.r.o. | C25: TRHLINY SPRAVEDLNOSTI | D25: 9825000 | E25: 3500000 | F25: =AVERAGE(MK!F40,BS!F40,TF!F40,PK!F40,AT!F40) -> 24.8 | G25: =AVERAGE(MK!G40,BS!G40,TF!G40,PK!G40,AT!G40) -> 16.4 | H25: =AVERAGE(MK!H40,BS!H40,TF!H40,PK!H40,AT!H40) -> 7 | I25: =AVERAGE(MK!I40,BS!I40,TF!I40,PK!I40,AT!I40) -> 9 | J25: =AVERAGE(MK!J40,BS!J40,TF!J40,PK!J40,AT!J40) -> 14.2 | K25: =AVERAGE(MK!K40,BS!K40,TF!K40,PK!K40,AT!K40) -> 8.8 | L25: =SUM(F25:K25) -> 80.2 | M25: 3150000 | N25: Ne | O25: Ne | P25: Ano | Q25: Ano | R25: 0.44 | S25: 0.9 | T25: 30.12.2030 | U25: 31.12.2030 | V25: =M25/(0.8*D25) -> 0.40076336
A26: 1067-2026 | B26: Beginner's Mind s.r.o. | C26: Bedřiška | D26: 3690270 | E26: 1300000 | F26: =AVERAGE(MK!F35,BS!F35,TF!F35,PK!F35,AT!F35) -> 24.4 | G26: =AVERAGE(MK!G35,BS!G35,TF!G35,PK!G35,AT!G35) -> 16.4 | H26: =AVERAGE(MK!H35,BS!H35,TF!H35,PK!H35,AT!H35) -> 8 | I26: =AVERAGE(MK!I35,BS!I35,TF!I35,PK!I35,AT!I35) -> 8 | J26: =AVERAGE(MK!J35,BS!J35,TF!J35,PK!J35,AT!J35) -> 15.2 | K26: =AVERAGE(MK!K35,BS!K35,TF!K35,PK!K35,AT!K35) -> 8 | L26: =SUM(F26:K26) -> 80 | M26: 1170000 | N26: Ne | O26: Ne | P26: Ano | Q26: Ano | R26: 0.56 | S26: 0.9 | T26: 01.10.2029 | U26: 31.12.2030 | V26: =M26/(0.8*D26) -> 0.39631246
A27: 1049-2026 | B27: Lonely Production s.r.o. | C27: Near Light | D27: 14524889 | E27: 1500000 | F27: =AVERAGE(MK!F22,BS!F22,TF!F22,PK!F22,AT!F22) -> 23.6 | G27: =AVERAGE(MK!G22,BS!G22,TF!G22,PK!G22,AT!G22) -> 16.2 | H27: =AVERAGE(MK!H22,BS!H22,TF!H22,PK!H22,AT!H22) -> 7.6 | I27: =AVERAGE(MK!I22,BS!I22,TF!I22,PK!I22,AT!I22) -> 7.2 | J27: =AVERAGE(MK!J22,BS!J22,TF!J22,PK!J22,AT!J22) -> 17.2 | K27: =AVERAGE(MK!K22,BS!K22,TF!K22,PK!K22,AT!K22) -> 8 | L27: =SUM(F27:K27) -> 79.8 | M27: 1350000 | N27: Ne | O27: Ne | P27: Ano | Q27: Ano | R27: 0.16 | S27: 0.9 | T27: 15.05.2028 | U27: 31.12.2030 | V27: =M27/(0.8*D27) -> 0.11617989
A28: 1057-2026 | B28: Pink Productions s.r.o. | C28: Milostný dopis z Íránu | D28: 3987152 | E28: 2900000 | F28: =AVERAGE(MK!F29,BS!F29,TF!F29,PK!F29,AT!F29) -> 24.6 | G28: =AVERAGE(MK!G29,BS!G29,TF!G29,PK!G29,AT!G29) -> 15.8 | H28: =AVERAGE(MK!H29,BS!H29,TF!H29,PK!H29,AT!H29) -> 9 | I28: =AVERAGE(MK!I29,BS!I29,TF!I29,PK!I29,AT!I29) -> 8.4 | J28: =AVERAGE(MK!J29,BS!J29,TF!J29,PK!J29,AT!J29) -> 13.8 | K28: =AVERAGE(MK!K29,BS!K29,TF!K29,PK!K29,AT!K29) -> 7.8 | L28: =SUM(F28:K28) -> 79.4 | M28: 2610000 | N28: Ne | O28: Ne | P28: Ano | Q28: Ano | R28: 0.73 | S28: 0.9 | T28: 30.11.2028 | U28: 31.12.2030 | V28: =M28/(0.8*D28) -> 0.81825323
A29: 1065-2026 | B29: CINEPOINT s.r.o. | C29: Desatero Patrika Ouředníka | D29: 2375000 | E29: 1000000 | F29: =AVERAGE(MK!F33,BS!F33,TF!F33,PK!F33,AT!F33) -> 23.4 | G29: =AVERAGE(MK!G33,BS!G33,TF!G33,PK!G33,AT!G33) -> 15.2 | H29: =AVERAGE(MK!H33,BS!H33,TF!H33,PK!H33,AT!H33) -> 8 | I29: =AVERAGE(MK!I33,BS!I33,TF!I33,PK!I33,AT!I33) -> 9.8 | J29: =AVERAGE(MK!J33,BS!J33,TF!J33,PK!J33,AT!J33) -> 15 | K29: =AVERAGE(MK!K33,BS!K33,TF!K33,PK!K33,AT!K33) -> 8 | L29: =SUM(F29:K29) -> 79.4 | M29: 900000 | N29: Ne | O29: Ne | P29: Ano | Q29: Ano | R29: 0.65 | S29: 0.9 | T29: 31.12.2030 | U29: 31.12.2030 | V29: =M29/(0.8*D29) -> 0.47368421
A30: 1069-2026 | B30: Alter Vision s.r.o. | C30: Pod ledem | D30: 4800000 | E30: 1200000 | F30: =AVERAGE(MK!F37,BS!F37,TF!F37,PK!F37,AT!F37) -> 22.6 | G30: =AVERAGE(MK!G37,BS!G37,TF!G37,PK!G37,AT!G37) -> 16.2 | H30: =AVERAGE(MK!H37,BS!H37,TF!H37,PK!H37,AT!H37) -> 7.8 | I30: =AVERAGE(MK!I37,BS!I37,TF!I37,PK!I37,AT!I37) -> 8 | J30: =AVERAGE(MK!J37,BS!J37,TF!J37,PK!J37,AT!J37) -> 16 | K30: =AVERAGE(MK!K37,BS!K37,TF!K37,PK!K37,AT!K37) -> 8 | L30: =SUM(F30:K30) -> 78.6 | M30: 1080000 | N30: Ne | O30: Ne | P30: Ano | Q30: Ano | R30: 0.64 | S30: 0.9 | T30: 31.12.2028 | U30: 31.12.2030 | V30: =M30/(0.8*D30) -> 0.28125
A31: 1053-2026 | B31: Hypermarket Film s.r.o. | C31: Oděsa.MAMA | D31: 9180650 | E31: 2200000 | F31: =AVERAGE(MK!F25,BS!F25,TF!F25,PK!F25,AT!F25) -> 21.6 | G31: =AVERAGE(MK!G25,BS!G25,TF!G25,PK!G25,AT!G25) -> 14 | H31: =AVERAGE(MK!H25,BS!H25,TF!H25,PK!H25,AT!H25) -> 10 | I31: =AVERAGE(MK!I25,BS!I25,TF!I25,PK!I25,AT!I25) -> 9.2 | J31: =AVERAGE(MK!J25,BS!J25,TF!J25,PK!J25,AT!J25) -> 14.8 | K31: =AVERAGE(MK!K25,BS!K25,TF!K25,PK!K25,AT!K25) -> 8 | L31: =SUM(F31:K31) -> 77.6 | N31: Ne | P31: Ano | R31: 0.42 | T31: 31.05.2028 | V31: =M31/(0.8*D31) -> 0
A32: 1056-2026 | B32: Kuli Film s.r.o. | C32: Mistr svobody | D32: 13496000 | E32: 2000000 | F32: =AVERAGE(MK!F28,BS!F28,TF!F28,PK!F28,AT!F28) -> 22.4 | G32: =AVERAGE(MK!G28,BS!G28,TF!G28,PK!G28,AT!G28) -> 14.8 | H32: =AVERAGE(MK!H28,BS!H28,TF!H28,PK!H28,AT!H28) -> 9 | I32: =AVERAGE(MK!I28,BS!I28,TF!I28,PK!I28,AT!I28) -> 7.6 | J32: =AVERAGE(MK!J28,BS!J28,TF!J28,PK!J28,AT!J28) -> 12.8 | K32: =AVERAGE(MK!K28,BS!K28,TF!K28,PK!K28,AT!K28) -> 8.4 | L32: =SUM(F32:K32) -> 75 | N32: Ne | P32: Ano | R32: 0.7 | T32: 30.06.2028 | V32: =M32/(0.8*D32) -> 0
A33: 1052-2026 | B33: Sounderground s.r.o. | C33: Horv | D33: 4575000 | E33: 1500000 | F33: =AVERAGE(MK!F24,BS!F24,TF!F24,PK!F24,AT!F24) -> 20.6 | G33: =AVERAGE(MK!G24,BS!G24,TF!G24,PK!G24,AT!G24) -> 15 | H33: =AVERAGE(MK!H24,BS!H24,TF!H24,PK!H24,AT!H24) -> 8 | I33: =AVERAGE(MK!I24,BS!I24,TF!I24,PK!I24,AT!I24) -> 7.4 | J33: =AVERAGE(MK!J24,BS!J24,TF!J24,PK!J24,AT!J24) -> 15.2 | K33: =AVERAGE(MK!K24,BS!K24,TF!K24,PK!K24,AT!K24) -> 8.2 | L33: =SUM(F33:K33) -> 74.4 | N33: Ne | P33: Ano | R33: 0.8 | T33: 01.11.2028 | V33: =M33/(0.8*D33) -> 0
A34: 1059-2026 | B34: Frame Films s.r.o. | C34: Okrajové reality | D34: 4410000 | E34: 1800000 | F34: =AVERAGE(MK!F31,BS!F31,TF!F31,PK!F31,AT!F31) -> 20.6 | G34: =AVERAGE(MK!G31,BS!G31,TF!G31,PK!G31,AT!G31) -> 14 | H34: =AVERAGE(MK!H31,BS!H31,TF!H31,PK!H31,AT!H31) -> 8.2 | I34: =AVERAGE(MK!I31,BS!I31,TF!I31,PK!I31,AT!I31) -> 7.4 | J34: =AVERAGE(MK!J31,BS!J31,TF!J31,PK!J31,AT!J31) -> 14.6 | K34: =AVERAGE(MK!K31,BS!K31,TF!K31,PK!K31,AT!K31) -> 7.8 | L34: =SUM(F34:K34) -> 72.6 | N34: Ne | P34: Ano | R34: 0.74 | T34: 30.09.2029 | V34: =M34/(0.8*D34) -> 0
A35: 1055-2026 | B35: Punk Film, s.r.o | C35: PÁTÉ PŘIKÁZÁNÍ | D35: 5567602 | E35: 1800000 | F35: =AVERAGE(MK!F27,BS!F27,TF!F27,PK!F27,AT!F27) -> 21.6 | G35: =AVERAGE(MK!G27,BS!G27,TF!G27,PK!G27,AT!G27) -> 15.6 | H35: =AVERAGE(MK!H27,BS!H27,TF!H27,PK!H27,AT!H27) -> 9 | I35: =AVERAGE(MK!I27,BS!I27,TF!I27,PK!I27,AT!I27) -> 8 | J35: =AVERAGE(MK!J27,BS!J27,TF!J27,PK!J27,AT!J27) -> 10 | K35: =AVERAGE(MK!K27,BS!K27,TF!K27,PK!K27,AT!K27) -> 8 | L35: =SUM(F35:K35) -> 72.2 | N35: Ne | P35: Ano | R35: 0.45 | T35: 24.02.2028 | V35: =M35/(0.8*D35) -> 0
A36: 1051-2026 | B36: Lonely Production s.r.o. | C36: La Mona | D36: 10714250 | E36: 1000000 | F36: =AVERAGE(MK!F23,BS!F23,TF!F23,PK!F23,AT!F23) -> 19 | G36: =AVERAGE(MK!G23,BS!G23,TF!G23,PK!G23,AT!G23) -> 13.6 | H36: =AVERAGE(MK!H23,BS!H23,TF!H23,PK!H23,AT!H23) -> 7.8 | I36: =AVERAGE(MK!I23,BS!I23,TF!I23,PK!I23,AT!I23) -> 7.2 | J36: =AVERAGE(MK!J23,BS!J23,TF!J23,PK!J23,AT!J23) -> 15.8 | K36: =AVERAGE(MK!K23,BS!K23,TF!K23,PK!K23,AT!K23) -> 8.6 | L36: =SUM(F36:K36) -> 72 | N36: Ne | P36: Ano | R36: 0.47 | T36: 15.06.2028 | V36: =M36/(0.8*D36) -> 0
A37: 1074-2026 | B37: LOVE.FRAME s.r.o. | C37: Neviditelná hranice | D37: 5555000 | E37: 1200000 | F37: =AVERAGE(MK!F41,BS!F41,TF!F41,PK!F41,AT!F41) -> 17 | G37: =AVERAGE(MK!G41,BS!G41,TF!G41,PK!G41,AT!G41) -> 14.8 | H37: =AVERAGE(MK!H41,BS!H41,TF!H41,PK!H41,AT!H41) -> 7.4 | I37: =AVERAGE(MK!I41,BS!I41,TF!I41,PK!I41,AT!I41) -> 6.4 | J37: =AVERAGE(MK!J41,BS!J41,TF!J41,PK!J41,AT!J41) -> 16.8 | K37: =AVERAGE(MK!K41,BS!K41,TF!K41,PK!K41,AT!K41) -> 7.8 | L37: =SUM(F37:K37) -> 70.2 | N37: Ne | P37: Ano | R37: 0.48 | T37: 31.12.2027 | V37: =M37/(0.8*D37) -> 0
A38: 1072-2026 | B38: Black Balance, s.r.o. | C38: Svět Zítřka | D38: 6015000 | E38: 1200000 | F38: =AVERAGE(MK!F39,BS!F39,TF!F39,PK!F39,AT!F39) -> 20.4 | G38: =AVERAGE(MK!G39,BS!G39,TF!G39,PK!G39,AT!G39) -> 12.2 | H38: =AVERAGE(MK!H39,BS!H39,TF!H39,PK!H39,AT!H39) -> 7.6 | I38: =AVERAGE(MK!I39,BS!I39,TF!I39,PK!I39,AT!I39) -> 7.6 | J38: =AVERAGE(MK!J39,BS!J39,TF!J39,PK!J39,AT!J39) -> 13.8 | K38: =AVERAGE(MK!K39,BS!K39,TF!K39,PK!K39,AT!K39) -> 8 | L38: =SUM(F38:K38) -> 69.6 | N38: Ne | P38: Ano | R38: 0.37 | T38: 10.05.2029 | V38: =M38/(0.8*D38) -> 0
A39: 1058-2026 | B39: 106% s.r.o. | C39: Mythos | D39: 5300000 | E39: 2000000 | F39: =AVERAGE(MK!F30,BS!F30,TF!F30,PK!F30,AT!F30) -> 16.8 | G39: =AVERAGE(MK!G30,BS!G30,TF!G30,PK!G30,AT!G30) -> 11 | H39: =AVERAGE(MK!H30,BS!H30,TF!H30,PK!H30,AT!H30) -> 8 | I39: =AVERAGE(MK!I30,BS!I30,TF!I30,PK!I30,AT!I30) -> 8.4 | J39: =AVERAGE(MK!J30,BS!J30,TF!J30,PK!J30,AT!J30) -> 12.8 | K39: =AVERAGE(MK!K30,BS!K30,TF!K30,PK!K30,AT!K30) -> 8 | L39: =SUM(F39:K39) -> 65 | N39: Ne | P39: Ano | R39: 0.69 | T39: 31.12.2030 | V39: =M39/(0.8*D39) -> 0
A40: 1068-2026 | B40: Alter Vision s.r.o. | C40: Yachak | D40: 3125000 | E40: 1100000 | F40: =AVERAGE(MK!F36,BS!F36,TF!F36,PK!F36,AT!F36) -> 18 | G40: =AVERAGE(MK!G36,BS!G36,TF!G36,PK!G36,AT!G36) -> 13 | H40: =AVERAGE(MK!H36,BS!H36,TF!H36,PK!H36,AT!H36) -> 7 | I40: =AVERAGE(MK!I36,BS!I36,TF!I36,PK!I36,AT!I36) -> 6.2 | J40: =AVERAGE(MK!J36,BS!J36,TF!J36,PK!J36,AT!J36) -> 10.6 | K40: =AVERAGE(MK!K36,BS!K36,TF!K36,PK!K36,AT!K36) -> 7.2 | L40: =SUM(F40:K40) -> 62 | N40: Ne | P40: Ano | R40: 0.73 | T40: 30.06.2029 | V40: =M40/(0.8*D40) -> 0
A41: 1054-2026 | B41: Premium Bananas s.r.o. | C41: Bez dětí | D41: 2909000 | E41: 2618100 | F41: =AVERAGE(MK!F26,BS!F26,TF!F26,PK!F26,AT!F26) -> 13.2 | G41: =AVERAGE(MK!G26,BS!G26,TF!G26,PK!G26,AT!G26) -> 9.8 | H41: =AVERAGE(MK!H26,BS!H26,TF!H26,PK!H26,AT!H26) -> 4 | I41: =AVERAGE(MK!I26,BS!I26,TF!I26,PK!I26,AT!I26) -> 3.6 | J41: =AVERAGE(MK!J26,BS!J26,TF!J26,PK!J26,AT!J26) -> 8.4 | K41: =AVERAGE(MK!K26,BS!K26,TF!K26,PK!K26,AT!K26) -> 6.4 | L41: =SUM(F41:K41) -> 45.4 | N41: Ne | P41: Ano | R41: 0.9 | T41: 30.01.2028 | V41: =M41/(0.8*D41) -> 0
D42: =SUM(D22:D41) -> 122251813 | E42: =SUM(E22:E41) -> 35025100 | M42: =SUM(M22:M41) -> 14946300
...

Sheet MK
A1: Výroba dokumentárního díla
A2: Evidenční číslo výzvy: 2026-B-2-3-39 | D2: Cíle podpory audiovize:
A3: Dotační kategorie: Podpora televizních děl | D3: 1. Posílení stability producentských firem a podpora jejich dlouhodobé spolupráce s kreativními týmy.
A4: Dotační okruh: Výroba českého audiovizuálního díla | D4: 2. Podpora žánrové diverzity v české audiovizi.
A5: Lhůta pro podávání žádostí: 15. 6. 2026–15. 7. 2026 | D5: 3. Podpora projektů pro různé cílové skupiny.
A6: Finanční alokace: 15 000 000 Kč | D6: 4. Podpora projektů pro lokální trh i pro mezinárodní distribuci.
A7: Lhůta pro dokončení projektu: dle žádosti, nejdříve však 3 měsíce po prvním uvedení díla na území ČR a zároveň nejpozději do 31. 12. 2030 | D7: 5. Podpora mezinárodních koprodukcí českých audiovizuálních děl. 6. Podpora exportu českých audiovizuálních děl.
A8: Forma podpory: investiční dotace
D10: Specifikace dotačního okruhu
D11: Podpora je určena pro dokumentární televizní díla (ve smyslu § 2 odst. 1 písm. c) zákona o audiovizi) ve formě jednotlivých krátkometrážních nebo celovečerních dokumentárních děl, dokumentární minisérie (2–4 díly) nebo dokumentárního seriálu (5–13 dílů), která jsou českým audiovizuálním dílem dle § 2 odst. 1 písm. i) zákona o audiovizi a splňují tyto podmínky:
D12: 1. České audiovizuální dílo se 100% podílem výrobce nebo koproducentů na financování celkových výrobních nákladů, kteří mají místo podnikání, místo trvalého pobytu nebo sídlo na území České republiky nebo 2. České audiovizuální dílo, na jehož výrobě se koproducenti s místem podnikání, místem trvalého pobytu nebo sídlem na území České republiky, podílí společně s koproducentem nebo koproducenty, kteří mají místo podnikání, místo trvalého pobytu nebo sídlo mimo území České republiky, a přitom platí, že: a. u dvoustranné koprodukce musí být česká finanční účast na celkových výrobních nákladech projektu 40 % nebo vyšší b. u třístranné a vícestranné koprodukce musí být podíl české finanční účasti na celkových výrobních nákladech projektu 30 % nebo vyšší.
D13: Krátkometrážním audiovizuálním dílem se pro účely Fondu rozumí dílo se stopáží 60 minut a kratší.
D14: Celovečerním audiovizuálním dílem se pro účely Státního fondu audiovize (dále jen „Fond“) rozumí dílo se stopáží delší než 60 minut.
D15: Rada si vedle cílů podpory stanoví ve výzvě za cíl podporovat společensky závažná, kreativně a filmařsky náročná díla, která se vymykají běžné televizní tvorbě.
D16: Zároveň Rada v této výzvě neurčuje specificky podporu režijních a producentských debutů.
A18: evidenční číslo projektu | B18: název žadatele | C18: název projektu | D18: celkový rozpočet projektu | E18: požadovaná podpora | F18: bodové hodnocení dle tvůrčího a realizačního testu | L18: bodové hodnocení Rada
F19: tvůrčí kritéria | H19: realizační kritéria
F20: Relevance projektu k výzvě | G20: Potenciál pro publikum | H20: Relevance k předchozí činnosti žadatele | I20: Kreativní tým | J20: Realizační strategie a ekonomika projektu | K20: Udržitelnost
F21: 0–30 | G21: 0–20 | H21: 0–10 | I21: 0–10 | J21: 0–20 | K21: 0–10
A22: 1049-2026 | B22: Lonely Production s.r.o. | C22: Near Light | D22: 14524889 | E22: 1500000 | F22: 25 | G22: 16 | H22: 8 | I22: 7 | J22: 17 | K22: 8 | L22: =SUM(F22:K22) -> 81
A23: 1051-2026 | B23: Lonely Production s.r.o. | C23: La Mona | D23: 10714250 | E23: 1000000 | F23: 19 | G23: 14 | H23: 8 | I23: 7 | J23: 15 | K23: 9 | L23: =SUM(F23:K23) -> 72
A24: 1052-2026 | B24: Sounderground s.r.o. | C24: Horv | D24: 4575000 | E24: 1500000 | F24: 21 | G24: 15 | H24: 8 | I24: 8 | J24: 15 | K24: 8 | L24: =SUM(F24:K24) -> 75
A25: 1053-2026 | B25: Hypermarket Film s.r.o. | C25: Oděsa.MAMA | D25: 9180650 | E25: 2200000 | F25: 21 | G25: 14 | H25: 10 | I25: 9 | J25: 14 | K25: 8 | L25: =SUM(F25:K25) -> 76
A26: 1054-2026 | B26: Premium Bananas s.r.o. | C26: Bez dětí | D26: 2909000 | E26: 2618100 | F26: 13 | G26: 9 | H26: 4 | I26: 3 | J26: 8 | K26: 7 | L26: =SUM(F26:K26) -> 44
A27: 1055-2026 | B27: Punk Film, s.r.o | C27: PÁTÉ PŘIKÁZÁNÍ | D27: 5567602 | E27: 1800000 | F27: 22 | G27: 15 | H27: 9 | I27: 8 | J27: 10 | K27: 8 | L27: =SUM(F27:K27) -> 72
A28: 1056-2026 | B28: Kuli Film s.r.o. | C28: Mistr svobody | D28: 13496000 | E28: 2000000 | F28: 23 | G28: 15 | H28: 9 | I28: 7 | J28: 12 | K28: 9 | L28: =SUM(F28:K28) -> 75
A29: 1057-2026 | B29: Pink Productions s.r.o. | C29: Milostný dopis z Íránu | D29: 3987152 | E29: 2900000 | F29: 25 | G29: 15 | H29: 9 | I29: 8 | J29: 14 | K29: 8 | L29: =SUM(F29:K29) -> 79
A30: 1058-2026 | B30: 106% s.r.o. | C30: Mythos | D30: 5300000 | E30: 2000000 | F30: 17 | G30: 13 | H30: 8 | I30: 8 | J30: 12 | K30: 9 | L30: =SUM(F30:K30) -> 67
A31: 1059-2026 | B31: Frame Films s.r.o. | C31: Okrajové reality | D31: 4410000 | E31: 1800000 | F31: 21 | G31: 14 | H31: 8 | I31: 7 | J31: 15 | K31: 8 | L31: =SUM(F31:K31) -> 73
A32: 1063-2026 | B32: Mimesis Film s.r.o. | C32: Zálohy | D32: 3650000 | E32: 1900000 | F32: 26 | G32: 18 | H32: 9 | I32: 8 | J32: 18 | K32: 7 | L32: =SUM(F32:K32) -> 86
A33: 1065-2026 | B33: CINEPOINT s.r.o. | C33: Desatero Patrika Ouředníka | D33: 2375000 | E33: 1000000 | F33: 24 | G33: 16 | H33: 8 | I33: 10 | J33: 15 | K33: 8 | L33: =SUM(F33:K33) -> 81
... A41: 1074-2026 | B41: LOVE.FRAME s.r.o. | C41: Neviditelná hranice | D41: 5555000 | E41: 1200000 | F41: 17 | G41: 15 | H41: 8 | I41: 7 | J41: 17 | K41: 9 | L41: =SUM(F41:K41) -> 73
D42: =SUM(D22:D41) -> 122251813 | E42: =SUM(E22:E41) -> 35025100

Sheet BS
A1: Výroba dokumentárního díla
A2: Evidenční číslo výzvy: 2026-B-2-3-39 | D2: Cíle podpory audiovize:
A3: Dotační kategorie: Podpora televizních děl | D3: 1. Posílení stability producentských firem a podpora jejich dlouhodobé spolupráce s kreativními týmy.
A4: Dotační okruh: Výroba českého audiovizuálního díla | D4: 2. Podpora žánrové diverzity v české audiovizi.
A5: Lhůta pro podávání žádostí: 15. 6. 2026–15. 7. 2026 | D5: 3. Podpora projektů pro různé cílové skupiny.
A6: Finanční alokace: 15 000 000 Kč | D6: 4. Podpora projektů pro lokální trh i pro mezinárodní distribuci.
A7: Lhůta pro dokončení projektu: dle žádosti, nejdříve však 3 měsíce po prvním uvedení díla na území ČR a zároveň nejpozději do 31. 12. 2030 | D7: 5. Podpora mezinárodních koprodukcí českých audiovizuálních děl. 6. Podpora exportu českých audiovizuálních děl.
A8: Forma podpory: investiční dotace
D10: Specifikace dotačního okruhu
D11: Podpora je určena pro dokumentární televizní díla (ve smyslu § 2 odst. 1 písm. c) zákona o audiovizi) ve formě jednotlivých krátkometrážních nebo celovečerních dokumentárních děl, dokumentární minisérie (2–4 díly) nebo dokumentárního seriálu (5–13 dílů), která jsou českým audiovizuálním dílem dle § 2 odst. 1 písm. i) zákona o audiovizi a splňují tyto podmínky:
D12: 1. České audiovizuální dílo se 100% podílem výrobce nebo koproducentů na financování celkových výrobních nákladů, kteří mají místo podnikání, místo trvalého pobytu nebo sídlo na území České republiky nebo 2. České audiovizuální dílo, na jehož výrobě se koproducenti s místem podnikání, místem trvalého pobytu nebo sídlem na území České republiky, podílí společně s koproducentem nebo koproducenty, kteří mají místo podnikání, místo trvalého pobytu nebo sídlo mimo území České republiky, a přitom platí, že: a. u dvoustranné koprodukce musí být česká finanční účast na celkových výrobních nákladech projektu 40 % nebo vyšší b. u třístranné a vícestranné koprodukce musí být podíl české finanční účasti na celkových výrobních nákladech projektu 30 % nebo vyšší.
D13: Krátkometrážním audiovizuálním dílem se pro účely Fondu rozumí dílo se stopáží 60 minut a kratší.
D14: Celovečerním audiovizuálním dílem se pro účely Státního fondu audiovize (dále jen „Fond“) rozumí dílo se stopáží delší než 60 minut.
D15: Rada si vedle cílů podpory stanoví ve výzvě za cíl podporovat společensky závažná, kreativně a filmařsky náročná díla, která se vymykají běžné televizní tvorbě.
D16: Zároveň Rada v této výzvě neurčuje specificky podporu režijních a producentských debutů.
A18: evidenční číslo projektu | B18: název žadatele | C18: název projektu | D18: celkový rozpočet projektu | E18: požadovaná podpora | F18: bodové hodnocení dle tvůrčího a realizačního testu | L18: bodové hodnocení Rada
F19: tvůrčí kritéria | H19: realizační kritéria
F20: Relevance projektu k výzvě | G20: Potenciál pro publikum | H20: Relevance k předchozí činnosti žadatele | I20: Kreativní tým | J20: Realizační strategie a ekonomika projektu | K20: Udržitelnost
F21: 0–30 | G21: 0–20 | H21: 0–10 | I21: 0–10 | J21: 0–20 | K21: 0–10
A22: 1049-2026 | B22: Lonely Production s.r.o. | C22: Near Light | D22: 14524889 | E22: 1500000 | F22: 24 | G22: 17 | H22: 8 | I22: 7 | J22: 17 | K22: 8 | L22: =SUM(F22:K22) -> 81
A23: 1051-2026 | B23: Lonely Production s.r.o. | C23: La Mona | D23: 10714250 | E23: 1000000 | F23: 19 | G23: 13 | H23: 8 | I23: 8 | J23: 16 | K23: 9 | L23: =SUM(F23:K23) -> 73
A24: 1052-2026 | B24: Sounderground s.r.o. | C24: Horv | D24: 4575000 | E24: 1500000 | F24: 23 | G24: 15 | H24: 8 | I24: 7 | J24: 15 | K24: 8 | L24: =SUM(F24:K24) -> 76
A25: 1053-2026 | B25: Hypermarket Film s.r.o. | C25: Oděsa.MAMA | D25: 9180650 | E25: 2200000 | F25: 21 | G25: 14 | H25: 10 | I25: 10 | J25: 15 | K25: 8 | L25: =SUM(F25:K25) -> 78
A26: 1054-2026 | B26: Premium Bananas s.r.o. | C26: Bez dětí | D26: 2909000 | E26: 2618100 | F26: 14 | G26: 10 | H26: 4 | I26: 4 | J26: 9 | K26: 6 | L26: =SUM(F26:K26) -> 47
A27: 1055-2026 | B27: Punk Film, s.r.o | C27: PÁTÉ PŘIKÁZÁNÍ | D27: 5567602 | E27: 1800000 | F27: 22 | G27: 16 | H27: 9 | I27: 8 | J27: 9 | K27: 8 | L27: =SUM(F27:K27) -> 72
A28: 1056-2026 | B28: Kuli Film s.r.o. | C28: Mistr svobody | D28: 13496000 | E28: 2000000 | F28: 22 | G28: 14 | H28: 9 | I28: 8 | J28: 11 | K28: 8 | L28: =SUM(F28:K28) -> 72
A29: 1057-2026 | B29: Pink Productions s.r.o. | C29: Milostný dopis z Íránu | D29: 3987152 | E29: 2900000 | F29: 26 | G29: 16 | H29: 9 | I29: 9 | J29: 15 | K29: 8 | L29: =SUM(F29:K29) -> 83
A30: 1058-2026 | B30: 106% s.r.o. | C30: Mythos | D30: 5300000 | E30: 2000000 | F30: 15 | G30: 10 | H30: 8 | I30: 8 | J30: 13 | K30: 7 | L30: =SUM(F30:K30) -> 61
A31: 1059-2026 | B31: Frame Films s.r.o. | C31: Okrajové reality | D31: 4410000 | E31: 1800000 | F31: 21 | G31: 14 | H31: 9 | I31: 7 | J31: 13 | K31: 7 | L31: =SUM(F31:K31) -> 71
A32: 1063-2026 | B32: Mimesis Film s.r.o. | C32: Zálohy | D32: 3650000 | E32: 1900000 | F32: 25 | G32: 16 | H32: 9 | I32: 9 | J32: 16 | K32: 8 | L32: =SUM(F32:K32) -> 83
A33: 1065-2026 | B33: CINEPOINT s.r.o. | C33: Desatero Patrika Ouředníka | D33: 2375000 | E33: 1000000 | F33: 23 | G33: 15 | H33: 8 | I33: 9 | J33: 15 | K33: 8 | L33: =SUM(F33:K33) -> 78
... A41: 1074-2026 | B41: LOVE.FRAME s.r.o. | C41: Neviditelná hranice | D41: 5555000 | E41: 1200000 | F41: 16 | G41: 16 | H41: 7 | I41: 6 | J41: 17 | K41: 8 | L41: =SUM(F41:K41) -> 70
D42: =SUM(D22:D41) -> 122251813 | E42: =SUM(E22:E41) -> 35025100

Sheet TF
A1: Výroba dokumentárního díla
A2: Evidenční číslo výzvy: 2026-B-2-3-39 | D2: Cíle podpory audiovize:
A3: Dotační kategorie: Podpora televizních děl | D3: 1. Posílení stability producentských firem a podpora jejich dlouhodobé spolupráce s kreativními týmy.
A4: Dotační okruh: Výroba českého audiovizuálního díla | D4: 2. Podpora žánrové diverzity v české audiovizi.
A5: Lhůta pro podávání žádostí: 15. 6. 2026–15. 7. 2026 | D5: 3. Podpora projektů pro různé cílové skupiny.
A6: Finanční alokace: 15 000 000 Kč | D6: 4. Podpora projektů pro lokální trh i pro mezinárodní distribuci.
A7: Lhůta pro dokončení projektu: dle žádosti, nejdříve však 3 měsíce po prvním uvedení díla na území ČR a zároveň nejpozději do 31. 12. 2030 | D7: 5. Podpora mezinárodních koprodukcí českých audiovizuálních děl. 6. Podpora exportu českých audiovizuálních děl.
A8: Forma podpory: investiční dotace
D10: Specifikace dotačního okruhu
D11: Podpora je určena pro dokumentární televizní díla (ve smyslu § 2 odst. 1 písm. c) zákona o audiovizi) ve formě jednotlivých krátkometrážních nebo celovečerních dokumentárních děl, dokumentární minisérie (2–4 díly) nebo dokumentárního seriálu (5–13 dílů), která jsou českým audiovizuálním dílem dle § 2 odst. 1 písm. i) zákona o audiovizi a splňují tyto podmínky:
D12: 1. České audiovizuální dílo se 100% podílem výrobce nebo koproducentů na financování celkových výrobních nákladů, kteří mají místo podnikání, místo trvalého pobytu nebo sídlo na území České republiky nebo 2. České audiovizuální dílo, na jehož výrobě se koproducenti s místem podnikání, místem trvalého pobytu nebo sídlem na území České republiky, podílí společně s koproducentem nebo koproducenty, kteří mají místo podnikání, místo trvalého pobytu nebo sídlo mimo území České republiky, a přitom platí, že: a. u dvoustranné koprodukce musí být česká finanční účast na celkových výrobních nákladech projektu 40 % nebo vyšší b. u třístranné a vícestranné koprodukce musí být podíl české finanční účasti na celkových výrobních nákladech projektu 30 % nebo vyšší.
D13: Krátkometrážním audiovizuálním dílem se pro účely Fondu rozumí dílo se stopáží 60 minut a kratší.
D14: Celovečerním audiovizuálním dílem se pro účely Státního fondu audiovize (dále jen „Fond“) rozumí dílo se stopáží delší než 60 minut.
D15: Rada si vedle cílů podpory stanoví ve výzvě za cíl podporovat společensky závažná, kreativně a filmařsky náročná díla, která se vymykají běžné televizní tvorbě.
D16: Zároveň Rada v této výzvě neurčuje specificky podporu režijních a producentských debutů.
A18: evidenční číslo projektu | B18: název žadatele | C18: název projektu | D18: celkový rozpočet projektu | E18: požadovaná podpora | F18: bodové hodnocení dle tvůrčího a realizačního testu | L18: bodové hodnocení Rada
F19: tvůrčí kritéria | H19: realizační kritéria
F20: Relevance projektu k výzvě | G20: Potenciál pro publikum | H20: Relevance k předchozí činnosti žadatele | I20: Kreativní tým | J20: Realizační strategie a ekonomika projektu | K20: Udržitelnost
F21: 0–30 | G21: 0–20 | H21: 0–10 | I21: 0–10 | J21: 0–20 | K21: 0–10
A22: 1049-2026 | B22: Lonely Production s.r.o. | C22: Near Light | D22: 14524889 | E22: 1500000 | F22: 24 | G22: 16 | H22: 8 | I22: 8 | J22: 18 | K22: 8 | L22: =SUM(F22:K22) -> 82
A23: 1051-2026 | B23: Lonely Production s.r.o. | C23: La Mona | D23: 10714250 | E23: 1000000 | F23: 19 | G23: 14 | H23: 8 | I23: 8 | J23: 16 | K23: 9 | L23: =SUM(F23:K23) -> 74
A24: 1052-2026 | B24: Sounderground s.r.o. | C24: Horv | D24: 4575000 | E24: 1500000 | F24: 19 | G24: 16 | H24: 8 | I24: 8 | J24: 16 | K24: 8 | L24: =SUM(F24:K24) -> 75
A25: 1053-2026 | B25: Hypermarket Film s.r.o. | C25: Oděsa.MAMA | D25: 9180650 | E25: 2200000 | F25: 22 | G25: 14 | H25: 10 | I25: 9 | J25: 15 | K25: 8 | L25: =SUM(F25:K25) -> 78
A26: 1054-2026 | B26: Premium Bananas s.r.o. | C26: Bez dětí | D26: 2909000 | E26: 2618100 | F26: 14 | G26: 10 | H26: 4 | I26: 4 | J26: 9 | K26: 6 | L26: =SUM(F26:K26) -> 47
A27: 1055-2026 | B27: Punk Film, s.r.o | C27: PÁTÉ PŘIKÁZÁNÍ | D27: 5567602 | E27: 1800000 | F27: 21 | G27: 16 | H27: 9 | I27: 8 | J27: 10 | K27: 8 | L27: =SUM(F27:K27) -> 72
A28: 1056-2026 | B28: Kuli Film s.r.o. | C28: Mistr svobody | D28: 13496000 | E28: 2000000 | F28: 21 | G28: 15 | H28: 9 | I28: 8 | J28: 15 | K28: 8 | L28: =SUM(F28:K28) -> 76
A29: 1057-2026 | B29: Pink Productions s.r.o. | C29: Milostný dopis z Íránu | D29: 3987152 | E29: 2900000 | F29: 24 | G29: 16 | H29: 9 | I29: 9 | J29: 14 | K29: 8 | L29: =SUM(F29:K29) -> 80
A30: 1058-2026 | B30: 106% s.r.o. | C30: Mythos | D30: 5300000 | E30: 2000000 | F30: 16 | G30: 10 | H30: 8 | I30: 9 | J30: 13 | K30: 8 | L30: =SUM(F30:K30) -> 64
A31: 1059-2026 | B31: Frame Films s.r.o. | C31: Okrajové reality | D31: 4410000 | E31: 1800000 | F31: 20 | G31: 14 | H31: 8 | I31: 8 | J31: 15 | K31: 8 | L31: =SUM(F31:K31) -> 73
A32: 1063-2026 | B32: Mimesis Film s.r.o. | C32: Zálohy | D32: 3650000 | E32: 1900000 | F32: 25 | G32: 16 | H32: 9 | I32: 8 | J32: 17 | K32: 8 | L32: =SUM(F32:K32) -> 83
A33: 1065-2026 | B33: CINEPOINT s.r.o. | C33: Desatero Patrika Ouředníka | D33: 2375000 | E33: 1000000 | F33: 23 | G33: 15 | H33: 8 | I33: 10 | J33: 15 | K33: 8 | L33: =SUM(F33:K33) -> 79
... A41: 1074-2026 | B41: LOVE.FRAME s.r.o. | C41: Neviditelná hranice | D41: 5555000 | E41: 1200000 | F41: 19 | G41: 15 | H41: 7 | I41: 7 | J41: 17 | K41: 7 | L41: =SUM(F41:K41) -> 72
D42: =SUM(D22:D41) -> 122251813 | E42: =SUM(E22:E41) -> 35025100

Sheet PK
A1: Výroba dokumentárního díla
A2: Evidenční číslo výzvy: 2026-B-2-3-39 | D2: Cíle podpory audiovize:
A3: Dotační kategorie: Podpora televizních děl | D3: 1. Posílení stability producentských firem a podpora jejich dlouhodobé spolupráce s kreativními týmy.
A4: Dotační okruh: Výroba českého audiovizuálního díla | D4: 2. Podpora žánrové diverzity v české audiovizi.
A5: Lhůta pro podávání žádostí: 15. 6. 2026–15. 7. 2026 | D5: 3. Podpora projektů pro různé cílové skupiny.
A6: Finanční alokace: 15 000 000 Kč | D6: 4. Podpora projektů pro lokální trh i pro mezinárodní distribuci.
A7: Lhůta pro dokončení projektu: dle žádosti, nejdříve však 3 měsíce po prvním uvedení díla na území ČR a zároveň nejpozději do 31. 12. 2030 | D7: 5. Podpora mezinárodních koprodukcí českých audiovizuálních děl. 6. Podpora exportu českých audiovizuálních děl.
A8: Forma podpory: investiční dotace
D10: Specifikace dotačního okruhu
D11: Podpora je určena pro dokumentární televizní díla (ve smyslu § 2 odst. 1 písm. c) zákona o audiovizi) ve formě jednotlivých krátkometrážních nebo celovečerních dokumentárních děl, dokumentární minisérie (2–4 díly) nebo dokumentárního seriálu (5–13 dílů), která jsou českým audiovizuálním dílem dle § 2 odst. 1 písm. i) zákona o audiovizi a splňují tyto podmínky:
D12: 1. České audiovizuální dílo se 100% podílem výrobce nebo koproducentů na financování celkových výrobních nákladů, kteří mají místo podnikání, místo trvalého pobytu nebo sídlo na území České republiky nebo 2. České audiovizuální dílo, na jehož výrobě se koproducenti s místem podnikání, místem trvalého pobytu nebo sídlem na území České republiky, podílí společně s koproducentem nebo koproducenty, kteří mají místo podnikání, místo trvalého pobytu nebo sídlo mimo území České republiky, a přitom platí, že: a. u dvoustranné koprodukce musí být česká finanční účast na celkových výrobních nákladech projektu 40 % nebo vyšší b. u třístranné a vícestranné koprodukce musí být podíl české finanční účasti na celkových výrobních nákladech projektu 30 % nebo vyšší.
D13: Krátkometrážním audiovizuálním dílem se pro účely Fondu rozumí dílo se stopáží 60 minut a kratší.
D14: Celovečerním audiovizuálním dílem se pro účely Státního fondu audiovize (dále jen „Fond“) rozumí dílo se stopáží delší než 60 minut.
D15: Rada si vedle cílů podpory stanoví ve výzvě za cíl podporovat společensky závažná, kreativně a filmařsky náročná díla, která se vymykají běžné televizní tvorbě.
D16: Zároveň Rada v této výzvě neurčuje specificky podporu režijních a producentských debutů.
A18: evidenční číslo projektu | B18: název žadatele | C18: název projektu | D18: celkový rozpočet projektu | E18: požadovaná podpora | F18: bodové hodnocení dle tvůrčího a realizačního testu | L18: bodové hodnocení Rada
F19: tvůrčí kritéria | H19: realizační kritéria
F20: Relevance projektu k výzvě | G20: Potenciál pro publikum | H20: Relevance k předchozí činnosti žadatele | I20: Kreativní tým | J20: Realizační strategie a ekonomika projektu | K20: Udržitelnost
F21: 0–30 | G21: 0–20 | H21: 0–10 | I21: 0–10 | J21: 0–20 | K21: 0–10
A22: 1049-2026 | B22: Lonely Production s.r.o. | C22: Near Light | D22: 14524889 | E22: 1500000 | F22: 22 | G22: 16 | H22: 6 | I22: 7 | J22: 17 | K22: 8 | L22: =SUM(F22:K22) -> 76
A23: 1051-2026 | B23: Lonely Production s.r.o. | C23: La Mona | D23: 10714250 | E23: 1000000 | F23: 19 | G23: 13 | H23: 7 | I23: 7 | J23: 16 | K23: 8 | L23: =SUM(F23:K23) -> 70
A24: 1052-2026 | B24: Sounderground s.r.o. | C24: Horv | D24: 4575000 | E24: 1500000 | F24: 19 | G24: 14 | H24: 8 | I24: 7 | J24: 15 | K24: 8 | L24: =SUM(F24:K24) -> 71
A25: 1053-2026 | B25: Hypermarket Film s.r.o. | C25: Oděsa.MAMA | D25: 9180650 | E25: 2200000 | F25: 22 | G25: 14 | H25: 10 | I25: 9 | J25: 15 | K25: 8 | L25: =SUM(F25:K25) -> 78
A26: 1054-2026 | B26: Premium Bananas s.r.o. | C26: Bez dětí | D26: 2909000 | E26: 2618100 | F26: 13 | G26: 10 | H26: 4 | I26: 3 | J26: 8 | K26: 6 | L26: =SUM(F26:K26) -> 44
A27: 1055-2026 | B27: Punk Film, s.r.o | C27: PÁTÉ PŘIKÁZÁNÍ | D27: 5567602 | E27: 1800000 | F27: 21 | G27: 15 | H27: 9 | I27: 8 | J27: 10 | K27: 8 | L27: =SUM(F27:K27) -> 71
A28: 1056-2026 | B28: Kuli Film s.r.o. | C28: Mistr svobody | D28: 13496000 | E28: 2000000 | F28: 24 | G28: 15 | H28: 9 | I28: 8 | J28: 13 | K28: 8 | L28: =SUM(F28:K28) -> 77
A29: 1057-2026 | B29: Pink Productions s.r.o. | C29: Milostný dopis z Íránu | D29: 3987152 | E29: 2900000 | F29: 24 | G29: 16 | H29: 9 | I29: 8 | J29: 14 | K29: 7 | L29: =SUM(F29:K29) -> 78
A30: 1058-2026 | B30: 106% s.r.o. | C30: Mythos | D30: 5300000 | E30: 2000000 | F30: 19 | G30: 10 | H30: 8 | I30: 9 | J30: 13 | K30: 8 | L30: =SUM(F30:K30) -> 67
A31: 1059-2026 | B31: Frame Films s.r.o. | C31: Okrajové reality | D31: 4410000 | E31: 1800000 | F31: 21 | G31: 15 | H31: 8 | I31: 8 | J31: 15 | K31: 8 | L31: =SUM(F31:K31) -> 75
A32: 1063-2026 | B32: Mimesis Film s.r.o. | C32: Zálohy | D32: 3650000 | E32: 1900000 | F32: 26 | G32: 17 | H32: 9 | I32: 8 | J32: 17 | K32: 8 | L32: =SUM(F32:K32) -> 85
A33: 1065-2026 | B33: CINEPOINT s.r.o. | C33: Desatero Patrika Ouředníka | D33: 2375000 | E33: 1000000 | F33: 24 | G33: 15 | H33: 8 | I33: 10 | J33: 15 | K33: 8 | L33: =SUM(F33:K33) -> 80
... A41: 1074-2026 | B41: LOVE.FRAME s.r.o. | C41: Neviditelná hranice | D41: 5555000 | E41: 1200000 | F41: 16 | G41: 13 | H41: 7 | I41: 6 | J41: 16 | K41: 7 | L41: =SUM(F41:K41) -> 65
D42: =SUM(D22:D41) -> 122251813 | E42: =SUM(E22:E41) -> 35025100

Sheet AT
A1: Výroba dokumentárního díla
A2: Evidenční číslo výzvy: 2026-B-2-3-39 | D2: Cíle podpory audiovize:
A3: Dotační kategorie: Podpora televizních děl | D3: 1. Posílení stability producentských firem a podpora jejich dlouhodobé spolupráce s kreativními týmy.
A4: Dotační okruh: Výroba českého audiovizuálního díla | D4: 2. Podpora žánrové diverzity v české audiovizi.
A5: Lhůta pro podávání žádostí: 15. 6. 2026–15. 7. 2026 | D5: 3. Podpora projektů pro různé cílové skupiny.
A6: Finanční alokace: 15 000 000 Kč | D6: 4. Podpora projektů pro lokální trh i pro mezinárodní distribuci.
A7: Lhůta pro dokončení projektu: dle žádosti, nejdříve však 3 měsíce po prvním uvedení díla na území ČR a zároveň nejpozději do 31. 12. 2030 | D7: 5. Podpora mezinárodních koprodukcí českých audiovizuálních děl. 6. Podpora exportu českých audiovizuálních děl.
A8: Forma podpory: investiční dotace
D10: Specifikace dotačního okruhu
D11: Podpora je určena pro dokumentární televizní díla (ve smyslu § 2 odst. 1 písm. c) zákona o audiovizi) ve formě jednotlivých krátkometrážních nebo celovečerních dokumentárních děl, dokumentární minisérie (2–4 díly) nebo dokumentárního seriálu (5–13 dílů), která jsou českým audiovizuálním dílem dle § 2 odst. 1 písm. i) zákona o audiovizi a splňují tyto podmínky:
D12: 1. České audiovizuální dílo se 100% podílem výrobce nebo koproducentů na financování celkových výrobních nákladů, kteří mají místo podnikání, místo trvalého pobytu nebo sídlo na území České republiky nebo 2. České audiovizuální dílo, na jehož výrobě se koproducenti s místem podnikání, místem trvalého pobytu nebo sídlem na území České republiky, podílí společně s koproducentem nebo koproducenty, kteří mají místo podnikání, místo trvalého pobytu nebo sídlo mimo území České republiky, a přitom platí, že: a. u dvoustranné koprodukce musí být česká finanční účast na celkových výrobních nákladech projektu 40 % nebo vyšší b. u třístranné a vícestranné koprodukce musí být podíl české finanční účasti na celkových výrobních nákladech projektu 30 % nebo vyšší.
D13: Krátkometrážním audiovizuálním dílem se pro účely Fondu rozumí dílo se stopáží 60 minut a kratší.
D14: Celovečerním audiovizuálním dílem se pro účely Státního fondu audiovize (dále jen „Fond“) rozumí dílo se stopáží delší než 60 minut.
D15: Rada si vedle cílů podpory stanoví ve výzvě za cíl podporovat společensky závažná, kreativně a filmařsky náročná díla, která se vymykají běžné televizní tvorbě.
D16: Zároveň Rada v této výzvě neurčuje specificky podporu režijních a producentských debutů.
A18: evidenční číslo projektu | B18: název žadatele | C18: název projektu | D18: celkový rozpočet projektu | E18: požadovaná podpora | F18: bodové hodnocení dle tvůrčího a realizačního testu | L18: bodové hodnocení Rada
F19: tvůrčí kritéria | H19: realizační kritéria
F20: Relevance projektu k výzvě | G20: Potenciál pro publikum | H20: Relevance k předchozí činnosti žadatele | I20: Kreativní tým | J20: Realizační strategie a ekonomika projektu | K20: Udržitelnost
F21: 0–30 | G21: 0–20 | H21: 0–10 | I21: 0–10 | J21: 0–20 | K21: 0–10
A22: 1049-2026 | B22: Lonely Production s.r.o. | C22: Near Light | D22: 14524889 | E22: 1500000 | F22: 23 | G22: 16 | H22: 8 | I22: 7 | J22: 17 | K22: 8 | L22: =SUM(F22:K22) -> 79
A23: 1051-2026 | B23: Lonely Production s.r.o. | C23: La Mona | D23: 10714250 | E23: 1000000 | F23: 19 | G23: 14 | H23: 8 | I23: 6 | J23: 16 | K23: 8 | L23: =SUM(F23:K23) -> 71
A24: 1052-2026 | B24: Sounderground s.r.o. | C24: Horv | D24: 4575000 | E24: 1500000 | F24: 21 | G24: 15 | H24: 8 | I24: 7 | J24: 15 | K24: 9 | L24: =SUM(F24:K24) -> 75
A25: 1053-2026 | B25: Hypermarket Film s.r.o. | C25: Oděsa.MAMA | D25: 9180650 | E25: 2200000 | F25: 22 | G25: 14 | H25: 10 | I25: 9 | J25: 15 | K25: 8 | L25: =SUM(F25:K25) -> 78
A26: 1054-2026 | B26: Premium Bananas s.r.o. | C26: Bez dětí | D26: 2909000 | E26: 2618100 | F26: 12 | G26: 10 | H26: 4 | I26: 4 | J26: 8 | K26: 7 | L26: =SUM(F26:K26) -> 45
A27: 1055-2026 | B27: Punk Film, s.r.o | C27: PÁTÉ PŘIKÁZÁNÍ | D27: 5567602 | E27: 1800000 | F27: 22 | G27: 16 | H27: 9 | I27: 8 | J27: 11 | K27: 8 | L27: =SUM(F27:K27) -> 74
A28: 1056-2026 | B28: Kuli Film s.r.o. | C28: Mistr svobody | D28: 13496000 | E28: 2000000 | F28: 22 | G28: 15 | H28: 9 | I28: 7 | J28: 13 | K28: 9 | L28: =SUM(F28:K28) -> 75
A29: 1057-2026 | B29: Pink Productions s.r.o. | C29: Milostný dopis z Íránu | D29: 3987152 | E29: 2900000 | F29: 24 | G29: 16 | H29: 9 | I29: 8 | J29: 12 | K29: 8 | L29: =SUM(F29:K29) -> 77
A30: 1058-2026 | B30: 106% s.r.o. | C30: Mythos | D30: 5300000 | E30: 2000000 | F30: 17 | G30: 12 | H30: 8 | I30: 8 | J30: 13 | K30: 8 | L30: =SUM(F30:K30) -> 66
A31: 1059-2026 | B31: Frame Films s.r.o. | C31: Okrajové reality | D31: 4410000 | E31: 1800000 | F31: 20 | G31: 13 | H31: 8 | I31: 7 | J31: 15 | K31: 8 | L31: =SUM(F31:K31) -> 71
A32: 1063-2026 | B32: Mimesis Film s.r.o. | C32: Zálohy | D32: 3650000 | E32: 1900000 | F32: 25 | G32: 17 | H32: 9 | I32: 8 | J32: 17 | K32: 8 | L32: =SUM(F32:K32) -> 84
A33: 1065-2026 | B33: CINEPOINT s.r.o. | C33: Desatero Patrika Ouředníka | D33: 2375000 | E33: 1000000 | F33: 23 | G33: 15 | H33: 8 | I33: 10 | J33: 15 | K33: 8 | L33: =SUM(F33:K33) -> 79
... A41: 1074-2026 | B41: LOVE.FRAME s.r.o. | C41: Neviditelná hranice | D41: 5555000 | E41: 1200000 | F41: 17 | G41: 15 | H41: 8 | I41: 6 | J41: 17 | K41: 8 | L41: =SUM(F41:K41) -> 71
D42: =SUM(D22:D41) -> 122251813 | E42: =SUM(E22:E41) -> 35025100
